Workbook

Sheet year summary
B1: First year | C1: Second Year
A2: No. of Students | B2: ='year 1'!C17 -> 8600000 | C2: 8600000 | D2: ='year 3'!B16 -> 7000000
A3: % of targeted students | B3: ='year 1'!B7 -> 0.02 | C3: 0.04 | D3: ='year 3'!O16 -> 0.25125
A4: No. of targeted student | B4: =B2*B3 -> 172000 | C4: =C2*C3 -> 344000 | D4: =D2*D3 -> 1758750
A5: Subscription price | B5: 300 | C5: 300 | D5: =D4*2 -> 3517500
A6: Sales in KSA | B6: =B4*B5 -> 51600000 | C6: =C4*C5 -> 103200000 | D6: .
B18: First year | C18: Second Year | D18: Third Year | E18: Total 3 years
B19: Aug 2024-July 2025 | C19: Aug 2025- July 2026 | D19: Aug 2024-July 2025
A20: sales | B20: ='year 1'!P18 -> 37152000 | C20: ='year 2'!P18 -> 103200000 | D20: ='year 3'!O19 -> 175875000 | E20: =SUM(B20:D20) -> 316227000
A22: Marketing Exp. | B22: ='year 1'!P23 -> 2515500 | C22: ='year 2'!P23 -> 6000000 | D22: ='year 3'!O24 -> 10000000 | E22: =SUM(B22:D22) -> 18515500
D23: ='year 3'!O26 -> 0 | E23: =SUM(B23:D23) -> 0
A24: Operation Exp. | B24: ='year 1'!P46-'year summary'!B22-'year summary'!B23 -> 8661303.7 | C24: ='year 2'!P46-'year summary'!C22-'year summary'!C23 -> 22348225 | D24: ='year 3'!O50-'year summary'!D22-'year summary'!D23 -> 6925246.2 | E24: =SUM(B24:D24) -> 37934775
A25: Total Exp. | B25: =SUM(B22:B24) -> 11176804 | C25: =SUM(C22:C24) -> 28348225 | D25: =SUM(D22:D24) -> 16925246 | E25: =SUM(B25:D25) -> 56450275
A27: Net Profit | B27: =B20-B25 -> 25975196 | C27: =C20-C25 -> 74851775 | D27: =D20-D25 -> 1.5894975e+08 | E27: =D27+C27+B27 -> 2.5977673e+08
A54: Marketing | B54: ='year 1'!P23 -> 2515500
A56: No. Of Students | B56: =B4 -> 172000
A58: % of Targeted students | B58: ='year 1'!P17 -> 0.0144
A60: Sales | B60: =B20 -> 37152000
A74: Sales

Sheet year 1
D4: 45505 | E4: 45536 | F4: 45566 | G4: 45597 | H4: 45627 | I4: 45658 | J4: 45689 | K4: 45717 | L4: 45748 | M4: 45778 | N4: 45809 | O4: 45839 | P4: Total
A5: Overall Budget
A6: 3-Years Budget Sheet | B6: % | C6: SAR
A7: Market share | B7: 0.02 | D7: 0 | E7: 0.01 | F7: 0.02 | G7: 0.015 | H7: 0.025 | I7: 0.05 | J7: 0.07 | K7: 0.1 | L7: 0.12 | M7: 0.16 | N7: 0.18 | O7: 0 | P7: =SUM(D7:O7) -> 0.75
A8: ELEMENTRY | B8: =B7*0.25 -> 0.005 | C8: 300 | D8: =$B8*D$7*$C$17 -> 0 | E8: 0 | F8: 0 | G8: =$B8*G$7*$C$17 -> 645 | H8: =$B8*H$7*$C$17 -> 1075 | I8: =$B8*I$7*$C$17 -> 2150 | J8: =$B8*J$7*$C$17 -> 3010 | K8: =$B8*K$7*$C$17 -> 4300 | L8: =$B8*L$7*$C$17 -> 5160 | M8: =$B8*M$7*$C$17 -> 6880 | N8: =$B8*N$7*$C$17 -> 7740 | O8: =$B8*O$7*$C$17 -> 0
A9: INTERMEDIATE | B9: =B7*0.5 -> 0.01 | C9: 300 | D9: =$B9*D$7*$C$17 -> 0 | E9: 0 | F9: 0 | G9: =$B9*G$7*$C$17 -> 1290 | H9: =$B9*H$7*$C$17 -> 2150 | I9: =$B9*I$7*$C$17 -> 4300 | J9: =$B9*J$7*$C$17 -> 6020 | K9: =$B9*K$7*$C$17 -> 8600 | L9: =$B9*L$7*$C$17 -> 10320 | M9: =$B9*M$7*$C$17 -> 13760 | N9: =$B9*N$7*$C$17 -> 15480 | O9: =$B9*O$7*$C$17 -> 0
A10: SECONDARY | B10: =B7*0.25 -> 0.005 | C10: 300 | D10: =$B10*D$7*$C$17 -> 0 | E10: 0 | F10: 0 | G10: =$B10*G$7*$C$17 -> 645 | H10: =$B10*H$7*$C$17 -> 1075 | I10: =$B10*I$7*$C$17 -> 2150 | J10: =$B10*J$7*$C$17 -> 3010 | K10: =$B10*K$7*$C$17 -> 4300 | L10: =$B10*L$7*$C$17 -> 5160 | M10: =$B10*M$7*$C$17 -> 6880 | N10: =$B10*N$7*$C$17 -> 7740 | O10: =$B10*O$7*$C$17 -> 0
A11: Total | D11: =SUM(D8:D10) -> 0 | E11: =SUM(E8:E10) -> 0 | F11: =SUM(F8:F10) -> 0 | G11: =SUM(G8:G10) -> 2580 | H11: =SUM(H8:H10) -> 4300 | I11: =SUM(I8:I10) -> 8600 | J11: =SUM(J8:J10) -> 12040 | K11: =SUM(K8:K10) -> 17200 | ... O11: =SUM(O8:O10) -> 0 | P11: =SUM(D11:O11) -> 123840
A12: 1- P&L
A13: Elementary ( Sales ) | D13: =D8*$C8 -> 0 | E13: =E8*$C8 -> 0 | F13: =F8*$C8 -> 0 | G13: =G8*$C8 -> 193500 | H13: =H8*$C8 -> 322500 | I13: =I8*$C8 -> 645000 | J13: =J8*$C8 -> 903000 | K13: =K8*$C8 -> 1290000 | ... O13: =O8*$C8 -> 0
A14: Intermediate ( Sales ) | D14: =D9*$C9 -> 0 | E14: =E9*$C9 -> 0 | F14: =F9*$C9 -> 0 | G14: =G9*$C9 -> 387000 | H14: =H9*$C9 -> 645000 | I14: =I9*$C9 -> 1290000 | J14: =J9*$C9 -> 1806000 | K14: =K9*$C9 -> 2580000 | ... O14: =O9*$C9 -> 0
A15: Secondary ( Sales ) | D15: =D10*$C10 -> 0 | E15: =E10*$C10 -> 0 | F15: =F10*$C10 -> 0 | G15: =G10*$C10 -> 193500 | H15: =H10*$C10 -> 322500 | I15: =I10*$C10 -> 645000 | J15: =J10*$C10 -> 903000 | K15: =K10*$C10 -> 1290000 | ... O15: =O10*$C10 -> 0
A16: Total sales | D16: =SUM(D13:D15) -> 0 | E16: =SUM(E13:E15) -> 0 | F16: =SUM(F13:F15) -> 0 | G16: =SUM(G13:G15) -> 774000 | H16: =SUM(H13:H15) -> 1290000 | I16: =SUM(I13:I15) -> 2580000 | J16: =SUM(J13:J15) -> 3612000 | K16: =SUM(K13:K15) -> 5160000 | ... O16: =SUM(O13:O15) -> 0 | P16: =SUM(D16:O16) -> 37152000
A17: Share % of students+teachers | C17: 8600000 | D17: =D11/$C$17 -> 0 | E17: =E11/$C$17 -> 0 | F17: =F11/$C$17 -> 0 | G17: =G11/$C$17 -> 0.0003 | H17: =H11/$C$17 -> 0.0005 | I17: =I11/$C$17 -> 0.001 | J17: =J11/$C$17 -> 0.0014 | K17: =K11/$C$17 -> 0.002 | ... O17: =O11/$C$17 -> 0 | P17: =P11/C17 -> 0.0144
A18: Total Income | D18: =SUM(D16:D17) -> 0 | E18: =E16 -> 0 | F18: =F16 -> 0 | G18: =G16 -> 774000 | H18: =H16 -> 1290000 | I18: =I16 -> 2580000 | J18: =J16 -> 3612000 | K18: =K16 -> 5160000 | L18: =L16 -> 6192000 | ... N18: =N16 -> 9288000 | O18: =SUM(O16:O17) -> 0 | P18: =SUM(D18:O18) -> 37152000
A20: Less Operating Expenses
A21: Salaries and Wages | D21: 211908.52 | E21: 246329.33 | F21: 234610.86 | G21: 200000 | H21: =G21 -> 200000 | I21: =H21 -> 200000 | J21: =I21 -> 200000 | K21: =J21 -> 200000 | L21: =K21 -> 200000 | M21: =L21 -> 200000 | N21: =M21 -> 200000 | O21: =N21 -> 200000 | P21: =SUM(D21:O21) -> 2492848.7
A22: Rent | D22: 0 | E22: 0 | F22: 0 | G22: 15000 | H22: =G22 -> 15000 | I22: =H22 -> 15000 | J22: =I22 -> 15000 | K22: =J22 -> 15000 | L22: =K22 -> 15000 | M22: =L22 -> 15000 | N22: =M22 -> 15000 | O22: =N22 -> 15000 | P22: =SUM(D22:O22) -> 135000
A23: Marketing & Advertising | D23: 0 | E23: 0 | F23: 0 | G23: 440000 | H23: =200000+75500 -> 275500 | I23: 300000 | J23: 300000 | K23: 300000 | L23: 300000 | M23: 300000 | N23: 300000 | O23: 0 | P23: =SUM(D23:O23) -> 2515500
A24: AI expenses (Hygen+Chatgpt) | B24: 250 Package | D24: 0 | E24: 0 | F24: 0 | G24: =_xlfn.XLOOKUP($B$24,'250 calc'!$A$83:$A$85,'250 calc'!$C$83:$C$85,0)*G11 -> 105094.69 | H24: =_xlfn.XLOOKUP($B$24,'250 calc'!$A$83:$A$85,'250 calc'!$C$83:$C$85,0)*H11 -> 175157.81 | I24: =_xlfn.XLOOKUP($B$24,'250 calc'!$A$83:$A$85,'250 calc'!$C$83:$C$85,0)*I11 -> 350315.62 | J24: =_xlfn.XLOOKUP($B$24,'250 calc'!$A$83:$A$85,'250 calc'!$C$83:$C$85,0)*J11 -> 490441.88 | K24: =_xlfn.XLOOKUP($B$24,'250 calc'!$A$83:$A$85,'250 calc'!$C$83:$C$85,0)*K11 -> 700631.25 | L24: =_xlfn.XLOOKUP($B$24,'250 calc'!$A$83:$A$85,'250 calc'!$C$83:$C$85,0)*L11 -> 840757.5 | M24: =_xlfn.XLOOKUP($B$24,'250 calc'!$A$83:$A$85,'250 calc'!$C$83:$C$85,0)*M11 -> 1121010 | N24: =_xlfn.XLOOKUP($B$24,'250 calc'!$A$83:$A$85,'250 calc'!$C$83:$C$85,0)*N11 -> 1261136.2 | O24: =_xlfn.XLOOKUP($B$24,'250 calc'!$A$83:$A$85,'250 calc'!$C$83:$C$85,0)*O11 -> 0 | P24: =SUM(D24:O24) -> 5044545 | Q24: =P24/P18 -> 0.13578125
A25: AI expenses (Chatgpt) | B25: 1000 Package | D25: 0 | E25: 0 | F25: 0 | G25: =_xlfn.XLOOKUP($B$25,'1000 calc'!$A$75:$A$77,'1000 calc'!$C$75:$C$77,0)*G11 -> 8707.5 | H25: =_xlfn.XLOOKUP($B$25,'1000 calc'!$A$75:$A$77,'1000 calc'!$C$75:$C$77,0)*H11 -> 14512.5 | I25: =_xlfn.XLOOKUP($B$25,'1000 calc'!$A$75:$A$77,'1000 calc'!$C$75:$C$77,0)*I11 -> 29025 | J25: =_xlfn.XLOOKUP($B$25,'1000 calc'!$A$75:$A$77,'1000 calc'!$C$75:$C$77,0)*J11 -> 40635 | K25: =_xlfn.XLOOKUP($B$25,'1000 calc'!$A$75:$A$77,'1000 calc'!$C$75:$C$77,0)*K11 -> 58050 | L25: =_xlfn.XLOOKUP($B$25,'1000 calc'!$A$75:$A$77,'1000 calc'!$C$75:$C$77,0)*L11 -> 69660 | M25: =_xlfn.XLOOKUP($B$25,'1000 calc'!$A$75:$A$77,'1000 calc'!$C$75:$C$77,0)*M11 -> 92880 | N25: =_xlfn.XLOOKUP($B$25,'1000 calc'!$A$75:$A$77,'1000 calc'!$C$75:$C$77,0)*N11 -> 104490 | O25: =_xlfn.XLOOKUP($B$25,'1000 calc'!$A$75:$A$77,'1000 calc'!$C$75:$C$77,0)*O11 -> 0 | P25: =SUM(D25:O25) -> 417960 | Q25: =P25/P18 -> 0.01125
A26: Qudorat (HeyGen) $20K | D26: 0 | E26: 0 | F26: 0 | G26: 0 | H26: 0 | I26: 0 | J26: 0 | K26: 0 | L26: 0 | M26: 0 | N26: 0 | O26: 0 | P26: =SUM(D26:O26) -> 0
A27: Other Oparating Expenses
A28: Consultation Fees | D28: 0 | E28: 0 | F28: 0 | G28: 10000 | H28: =G28 -> 10000 | I28: =H28 -> 10000 | J28: =I28 -> 10000 | K28: =J28 -> 10000 | L28: =K28 -> 10000 | M28: =L28 -> 10000 | N28: =M28 -> 10000 | O28: =N28 -> 10000 | P28: =SUM(D28:O28) -> 90000
A29: Depreciation Expense | D29: 0 | E29: 0 | F29: 0 | G29: 2500 | H29: =G29 -> 2500 | I29: =H29 -> 2500 | J29: =I29 -> 2500 | K29: =J29 -> 2500 | L29: =K29 -> 2500 | M29: =L29 -> 2500 | N29: =M29 -> 2500 | O29: =N29 -> 2500 | P29: =SUM(D29:O29) -> 22500
A30: Printing & Stationery | D30: 0 | E30: 0 | F30: 0 | G30: 500 | H30: =G30 -> 500 | I30: =H30 -> 500 | J30: =I30 -> 500 | K30: =J30 -> 500 | L30: =K30 -> 500 | M30: =L30 -> 500 | N30: =M30 -> 500 | O30: =N30 -> 500 | P30: =SUM(D30:O30) -> 4500
A31: Subscriptions ( Internet & Mobiles ) | D31: 0 | E31: 0 | F31: 0 | G31: 1000 | H31: 1000 | I31: 1000 | J31: 1000 | K31: 1000 | L31: 1000 | M31: 1000 | N31: 1000 | O31: 1000 | P31: =SUM(D31:O31) -> 9000
A32: Programming tools fees | D32: 0 | E32: 0 | F32: 0 | G32: 8000 | H32: 8000 | I32: 8000 | J32: 8000 | K32: 8000 | L32: 8000 | M32: 8000 | N32: 8000 | O32: 8000 | P32: =SUM(D32:O32) -> 72000
A33: Repairs and Maintenance | D33: 0 | E33: 0 | F33: 0 | G33: =15*30 -> 450 | H33: =15*30 -> 450 | I33: =15*30 -> 450 | J33: =15*30 -> 450 | K33: =15*30 -> 450 | L33: =15*30 -> 450 | M33: =15*30 -> 450 | N33: =15*30 -> 450 | O33: =15*30 -> 450 | P33: =SUM(D33:O33) -> 4050
A34: Hospitality | D34: 0 | E34: 0 | F34: 0 | G34: 1000 | H34: =G34 -> 1000 | I34: =H34 -> 1000 | J34: =I34 -> 1000 | K34: =J34 -> 1000 | L34: =K34 -> 1000 | M34: =L34 -> 1000 | N34: =M34 -> 1000 | O34: =N34 -> 1000 | P34: =SUM(D34:O34) -> 9000
A35: Insurance | D35: 0 | E35: 0 | F35: 0 | G35: 3000 | H35: 3000 | I35: 3000 | J35: 3000 | K35: 3000 | L35: 3000 | M35: 3000 | N35: 3000 | O35: 3000 | P35: =SUM(D35:O35) -> 27000
A36: Profesional Fees | D36: 0 | E36: 0 | F36: 0 | G36: =24000/12 -> 2000 | H36: =24000/12 -> 2000 | I36: =24000/12 -> 2000 | J36: =24000/12 -> 2000 | K36: =24000/12 -> 2000 | L36: =24000/12 -> 2000 | M36: =24000/12 -> 2000 | N36: =24000/12 -> 2000 | O36: =24000/12 -> 2000 | P36: =SUM(D36:O36) -> 18000
A37: Indemnity & leave | D37: 0 | E37: 0 | F37: 0 | G37: 8333.3333 | H37: =50000*(2/12) -> 8333.3333 | I37: =50000*(2/12) -> 8333.3333 | J37: =50000*(2/12) -> 8333.3333 | K37: =50000*(2/12) -> 8333.3333 | L37: =50000*(2/12) -> 8333.3333 | M37: =50000*(2/12) -> 8333.3333 | N37: =50000*(2/12) -> 8333.3333 | O37: =50000*(2/12) -> 8333.3333 | P37: =SUM(D37:O37) -> 75000
A38: Telephone & Internet | D38: 0 | E38: 0 | F38: 0 | G38: 1200 | H38: 1200 | I38: 1200 | J38: 1200 | K38: 1200 | L38: 1200 | M38: 1200 | N38: 1200 | O38: 1200 | P38: =SUM(D38:O38) -> 10800
A39: Travel | D39: 0 | E39: 0 | F39: 0 | G39: 0 | H39: 0 | I39: 0 | J39: 0 | K39: 0 | L39: 50000 | M39: 0 | N39: 0 | O39: 0 | P39: =SUM(D39:O39) -> 50000
A40: Governmental Expenses | D40: 0 | E40: 0 | F40: 0 | G40: 10000 | H40: 10000 | I40: 10000 | J40: 10000 | K40: 10000 | L40: 10000 | M40: 10000 | N40: 10000 | O40: 10000 | P40: =SUM(D40:O40) -> 90000
A41: Staff Residences Expenses | D41: 0 | E41: 0 | F41: 0 | G41: =(4*(50+50+10+10))/12*10 -> 400 | H41: =(4*(50+50+10+10))/12*10 -> 400 | I41: =(4*(50+50+10+10))/12*10 -> 400 | J41: =(4*(50+50+10+10))/12*10 -> 400 | K41: =(4*(50+50+10+10))/12*10 -> 400 | L41: =(4*(50+50+10+10))/12*10 -> 400 | M41: =(4*(50+50+10+10))/12*10 -> 400 | N41: =(4*(50+50+10+10))/12*10 -> 400 | O41: =(4*(50+50+10+10))/12*10 -> 400 | P41: =SUM(D41:O41) -> 3600
A42: Bank Charges | D42: 0 | E42: 0 | F42: 0 | G42: 2000 | H42: 2000 | I42: 2000 | J42: 2000 | K42: 2000 | L42: 2000 | M42: 2000 | N42: 2000 | O42: 2000 | P42: =SUM(D42:O42) -> 18000
A43: IT and Software | D43: 0 | E43: 0 | F43: 0 | G43: 2500 | H43: 2500 | I43: 2500 | J43: 2500 | K43: 2500 | L43: 2500 | M43: 2500 | N43: 2500 | O43: 2500 | P43: =SUM(D43:O43) -> 22500
A44: Miscellaneous Expenses | D44: 0 | E44: 0 | F44: 0 | G44: 2500 | H44: 2500 | I44: 2500 | J44: 2500 | K44: 2500 | L44: 2500 | M44: 2500 | N44: 2500 | O44: 2500 | P44: =SUM(D44:O44) -> 22500
...

Sheet year 2
D4: 45870 | E4: 45901 | F4: 45931 | G4: 45962 | H4: 45992 | I4: 46023 | J4: 46054 | K4: 46082 | L4: 46113 | M4: 46143 | N4: 46174 | O4: 46204 | P4: Total
A5: Overall Budget
A6: 3-Years Budget Sheet | B6: % | C6: SAR
A7: Market share | B7: 0.04 | D7: 0 | E7: 0.01 | F7: 0.02 | G7: 0.04 | H7: 0.05 | I7: 0.07 | J7: 0.1 | K7: 0.14 | L7: 0.18 | M7: 0.18 | N7: 0.21 | O7: 0 | P7: =SUM(D7:O7) -> 1
A8: ELEMENTRY | B8: =B7*0.25 -> 0.01 | C8: 300 | D8: =$B8*D$7*$C$17 -> 0 | E8: =$B8*E$7*$C$17 -> 860 | F8: =$B8*F$7*$C$17 -> 1720 | G8: =$B8*G$7*$C$17 -> 3440 | H8: =$B8*H$7*$C$17 -> 4300 | I8: =$B8*I$7*$C$17 -> 6020 | J8: =$B8*J$7*$C$17 -> 8600 | K8: =$B8*K$7*$C$17 -> 12040 | ... O8: =$B8*O$7*$C$17 -> 0
A9: INTERMEDIATE | B9: =B7*0.5 -> 0.02 | C9: 300 | D9: =$B9*D$7*$C$17 -> 0 | E9: =$B9*E$7*$C$17 -> 1720 | F9: =$B9*F$7*$C$17 -> 3440 | G9: =$B9*G$7*$C$17 -> 6880 | H9: =$B9*H$7*$C$17 -> 8600 | I9: =$B9*I$7*$C$17 -> 12040 | J9: =$B9*J$7*$C$17 -> 17200 | K9: =$B9*K$7*$C$17 -> 24080 | ... O9: =$B9*O$7*$C$17 -> 0
A10: SECONDARY | B10: =B7*0.25 -> 0.01 | C10: 300 | D10: =$B10*D$7*$C$17 -> 0 | E10: =$B10*E$7*$C$17 -> 860 | F10: =$B10*F$7*$C$17 -> 1720 | G10: =$B10*G$7*$C$17 -> 3440 | H10: =$B10*H$7*$C$17 -> 4300 | I10: =$B10*I$7*$C$17 -> 6020 | J10: =$B10*J$7*$C$17 -> 8600 | K10: =$B10*K$7*$C$17 -> 12040 | ... O10: =$B10*O$7*$C$17 -> 0
A11: Total | D11: =SUM(D8:D10) -> 0 | E11: =SUM(E8:E10) -> 3440 | F11: =SUM(F8:F10) -> 6880 | G11: =SUM(G8:G10) -> 13760 | H11: =SUM(H8:H10) -> 17200 | I11: =SUM(I8:I10) -> 24080 | J11: =SUM(J8:J10) -> 34400 | K11: =SUM(K8:K10) -> 48160 | ... O11: =SUM(O8:O10) -> 0 | P11: =SUM(D11:O11) -> 344000
A12: 1- P&L
A13: Elementary ( Sales ) | D13: =D8*$C8 -> 0 | E13: =E8*$C8 -> 258000 | F13: =F8*$C8 -> 516000 | G13: =G8*$C8 -> 1032000 | H13: =H8*$C8 -> 1290000 | I13: =I8*$C8 -> 1806000 | J13: =J8*$C8 -> 2580000 | K13: =K8*$C8 -> 3612000 | ... O13: =O8*$C8 -> 0
A14: Intermediate ( Sales ) | D14: =D9*$C9 -> 0 | E14: =E9*$C9 -> 516000 | F14: =F9*$C9 -> 1032000 | G14: =G9*$C9 -> 2064000 | H14: =H9*$C9 -> 2580000 | I14: =I9*$C9 -> 3612000 | J14: =J9*$C9 -> 5160000 | K14: =K9*$C9 -> 7224000 | ... O14: =O9*$C9 -> 0
A15: Secondary ( Sales ) | D15: =D10*$C10 -> 0 | E15: =E10*$C10 -> 258000 | F15: =F10*$C10 -> 516000 | G15: =G10*$C10 -> 1032000 | H15: =H10*$C10 -> 1290000 | I15: =I10*$C10 -> 1806000 | J15: =J10*$C10 -> 2580000 | K15: =K10*$C10 -> 3612000 | ... O15: =O10*$C10 -> 0
A16: Total sales | D16: =SUM(D13:D15) -> 0 | E16: =SUM(E13:E15) -> 1032000 | F16: =SUM(F13:F15) -> 2064000 | G16: =SUM(G13:G15) -> 4128000 | H16: =SUM(H13:H15) -> 5160000 | I16: =SUM(I13:I15) -> 7224000 | J16: =SUM(J13:J15) -> 10320000 | K16: =SUM(K13:K15) -> 14448000 | ... O16: =SUM(O13:O15) -> 0 | P16: =SUM(D16:O16) -> 103200000
A17: Share % of students+teachers | C17: 8600000 | D17: =D11/$C$17 -> 0 | E17: =E11/$C$17 -> 0.0004 | F17: =F11/$C$17 -> 0.0008 | G17: =G11/$C$17 -> 0.0016 | H17: =H11/$C$17 -> 0.002 | I17: =I11/$C$17 -> 0.0028 | J17: =J11/$C$17 -> 0.004 | K17: =K11/$C$17 -> 0.0056 | ... O17: =O11/$C$17 -> 0 | P17: =P11/C17 -> 0.04
A18: Total Income | D18: =SUM(D16:D17) -> 0 | E18: =E16 -> 1032000 | F18: =F16 -> 2064000 | G18: =G16 -> 4128000 | H18: =H16 -> 5160000 | I18: =I16 -> 7224000 | J18: =J16 -> 10320000 | K18: =K16 -> 14448000 | L18: =L16 -> 18576000 | ... N18: =N16 -> 21672000 | O18: =SUM(O16:O17) -> 0 | P18: =SUM(D18:O18) -> 103200000
A20: Less Operating Expenses
A21: Salaries and Wages | D21: 500000 | E21: =D21 -> 500000 | F21: =E21 -> 500000 | G21: =F21 -> 500000 | H21: =G21 -> 500000 | I21: =H21 -> 500000 | J21: =I21 -> 500000 | K21: =J21 -> 500000 | L21: =K21 -> 500000 | ... O21: =N21 -> 500000 | P21: =SUM(D21:O21) -> 6000000
A22: Rent | D22: 25000 | E22: =D22 -> 25000 | F22: =E22 -> 25000 | G22: =F22 -> 25000 | H22: =G22 -> 25000 | I22: =H22 -> 25000 | J22: =I22 -> 25000 | K22: =J22 -> 25000 | L22: =K22 -> 25000 | ... O22: =N22 -> 25000 | P22: =SUM(D22:O22) -> 300000
A23: Marketing & Advertising | D23: 500000 | E23: 1000000 | F23: 500000 | G23: 500000 | H23: 500000 | I23: 500000 | J23: 500000 | K23: 500000 | L23: 500000 | M23: 500000 | N23: 500000 | O23: 0 | P23: =SUM(D23:O23) -> 6000000
A24: AI expenses (Hygen+Chatgpt) | B24: 250 Package | D24: =_xlfn.XLOOKUP($B$24,'250 calc'!$A$83:$A$85,'250 calc'!$C$83:$C$85,0)*D11 -> 0 | E24: =_xlfn.XLOOKUP($B$24,'250 calc'!$A$83:$A$85,'250 calc'!$C$83:$C$85,0)*E11 -> 140126.25 | F24: =_xlfn.XLOOKUP($B$24,'250 calc'!$A$83:$A$85,'250 calc'!$C$83:$C$85,0)*F11 -> 280252.5 | G24: =_xlfn.XLOOKUP($B$24,'250 calc'!$A$83:$A$85,'250 calc'!$C$83:$C$85,0)*G11 -> 560505 | H24: =_xlfn.XLOOKUP($B$24,'250 calc'!$A$83:$A$85,'250 calc'!$C$83:$C$85,0)*H11 -> 700631.25 | I24: =_xlfn.XLOOKUP($B$24,'250 calc'!$A$83:$A$85,'250 calc'!$C$83:$C$85,0)*I11 -> 980883.75 | J24: =_xlfn.XLOOKUP($B$24,'250 calc'!$A$83:$A$85,'250 calc'!$C$83:$C$85,0)*J11 -> 1401262.5 | K24: =_xlfn.XLOOKUP($B$24,'250 calc'!$A$83:$A$85,'250 calc'!$C$83:$C$85,0)*K11 -> 1961767.5 | ... O24: =_xlfn.XLOOKUP($B$24,'250 calc'!$A$83:$A$85,'250 calc'!$C$83:$C$85,0)*O11 -> 0 | P24: =SUM(D24:O24) -> 14012625
A25: AI expenses (Chatgpt) | B25: 1000 Package | D25: =_xlfn.XLOOKUP($B$25,'1000 calc'!$A$75:$A$77,'1000 calc'!$C$75:$C$77,0)*D11 -> 0 | E25: =_xlfn.XLOOKUP($B$25,'1000 calc'!$A$75:$A$77,'1000 calc'!$C$75:$C$77,0)*E11 -> 11610 | F25: =_xlfn.XLOOKUP($B$25,'1000 calc'!$A$75:$A$77,'1000 calc'!$C$75:$C$77,0)*F11 -> 23220 | G25: =_xlfn.XLOOKUP($B$25,'1000 calc'!$A$75:$A$77,'1000 calc'!$C$75:$C$77,0)*G11 -> 46440 | H25: =_xlfn.XLOOKUP($B$25,'1000 calc'!$A$75:$A$77,'1000 calc'!$C$75:$C$77,0)*H11 -> 58050 | I25: =_xlfn.XLOOKUP($B$25,'1000 calc'!$A$75:$A$77,'1000 calc'!$C$75:$C$77,0)*I11 -> 81270 | J25: =_xlfn.XLOOKUP($B$25,'1000 calc'!$A$75:$A$77,'1000 calc'!$C$75:$C$77,0)*J11 -> 116100 | K25: =_xlfn.XLOOKUP($B$25,'1000 calc'!$A$75:$A$77,'1000 calc'!$C$75:$C$77,0)*K11 -> 162540 | ... O25: =_xlfn.XLOOKUP($B$25,'1000 calc'!$A$75:$A$77,'1000 calc'!$C$75:$C$77,0)*O11 -> 0 | P25: =SUM(D25:O25) -> 1161000
A26: Qudorat (HeyGen) $20K | D26: 80000 | E26: 0 | F26: 0 | G26: 0 | H26: 0 | I26: 0 | J26: 0 | K26: 0 | L26: 0 | M26: 0 | N26: 0 | O26: 0 | P26: =SUM(D26:O26) -> 80000
A27: Other Oparating Expenses
A28: Consultation Fees | D28: 10000 | E28: =D28 -> 10000 | F28: =E28 -> 10000 | G28: =F28 -> 10000 | H28: =G28 -> 10000 | I28: =H28 -> 10000 | J28: =I28 -> 10000 | K28: =J28 -> 10000 | L28: =K28 -> 10000 | ... O28: =N28 -> 10000 | P28: =SUM(D28:O28) -> 120000
A29: Depreciation Expense | D29: 2500 | E29: =D29 -> 2500 | F29: =E29 -> 2500 | G29: =F29 -> 2500 | H29: =G29 -> 2500 | I29: =H29 -> 2500 | J29: =I29 -> 2500 | K29: =J29 -> 2500 | L29: =K29 -> 2500 | ... O29: =N29 -> 2500 | P29: =SUM(D29:O29) -> 30000
A30: Printing & Stationery | D30: 500 | E30: =D30 -> 500 | F30: =E30 -> 500 | G30: =F30 -> 500 | H30: =G30 -> 500 | I30: =H30 -> 500 | J30: =I30 -> 500 | K30: =J30 -> 500 | L30: =K30 -> 500 | ... O30: =N30 -> 500 | P30: =SUM(D30:O30) -> 6000
A31: Subscriptions ( Internet & Mobiles ) | D31: 1000 | E31: 1000 | F31: 1000 | G31: 1000 | H31: 1000 | I31: 1000 | J31: 1000 | K31: 1000 | L31: 1000 | M31: 1000 | N31: 1000 | O31: 1000 | P31: =SUM(D31:O31) -> 12000
A32: Programming tools fees | D32: 8000 | E32: 8000 | F32: 8000 | G32: 8000 | H32: 8000 | I32: 8000 | J32: 8000 | K32: 8000 | L32: 8000 | M32: 8000 | N32: 8000 | O32: 8000 | P32: =SUM(D32:O32) -> 96000
A33: Repairs and Maintenance | D33: =15*30 -> 450 | E33: =15*30 -> 450 | F33: =15*30 -> 450 | G33: =15*30 -> 450 | H33: =15*30 -> 450 | I33: =15*30 -> 450 | J33: =15*30 -> 450 | K33: =15*30 -> 450 | ... O33: =15*30 -> 450 | P33: =SUM(D33:O33) -> 5400
A34: Hospitality | D34: 1000 | E34: =D34 -> 1000 | F34: =E34 -> 1000 | G34: =F34 -> 1000 | H34: =G34 -> 1000 | I34: =H34 -> 1000 | J34: =I34 -> 1000 | K34: =J34 -> 1000 | L34: =K34 -> 1000 | ... O34: =N34 -> 1000 | P34: =SUM(D34:O34) -> 12000
A35: Insurance | D35: 3000 | E35: 3000 | F35: 3000 | G35: 3000 | H35: 3000 | I35: 3000 | J35: 3000 | K35: 3000 | L35: 3000 | M35: 3000 | N35: 3000 | O35: 3000 | P35: =SUM(D35:O35) -> 36000
A36: Profesional Fees | D36: =24000/12 -> 2000 | E36: =24000/12 -> 2000 | F36: =24000/12 -> 2000 | G36: =24000/12 -> 2000 | H36: =24000/12 -> 2000 | I36: =24000/12 -> 2000 | J36: =24000/12 -> 2000 | K36: =24000/12 -> 2000 | ... O36: =24000/12 -> 2000 | P36: =SUM(D36:O36) -> 24000
A37: Indemnity & leave | D37: =50000*(2/12) -> 8333.3333 | E37: =50000*(2/12) -> 8333.3333 | F37: =50000*(2/12) -> 8333.3333 | G37: =50000*(2/12) -> 8333.3333 | H37: =50000*(2/12) -> 8333.3333 | I37: =50000*(2/12) -> 8333.3333 | J37: =50000*(2/12) -> 8333.3333 | K37: =50000*(2/12) -> 8333.3333 | ... O37: =50000*(2/12) -> 8333.3333 | P37: =SUM(D37:O37) -> 100000
A38: Telephone & Internet | D38: 1200 | E38: 1200 | F38: 1200 | G38: 1200 | H38: 1200 | I38: 1200 | J38: 1200 | K38: 1200 | L38: 1200 | M38: 1200 | N38: 1200 | O38: 1200 | P38: =SUM(D38:O38) -> 14400
A39: Travel | E39: 50000 | F39: 0 | G39: 0 | H39: 0 | I39: 0 | J39: 0 | K39: 0 | L39: 50000 | M39: 0 | N39: 0 | O39: 0 | P39: =SUM(D39:O39) -> 100000
A40: Governmental Expenses | D40: 10000 | E40: 10000 | F40: 10000 | G40: 10000 | H40: 10000 | I40: 10000 | J40: 10000 | K40: 10000 | L40: 10000 | M40: 10000 | N40: 10000 | O40: 10000 | P40: =SUM(D40:O40) -> 120000
A41: Staff Residences Expenses | D41: =(4*(50+50+10+10))/12*10 -> 400 | E41: =(4*(50+50+10+10))/12*10 -> 400 | F41: =(4*(50+50+10+10))/12*10 -> 400 | G41: =(4*(50+50+10+10))/12*10 -> 400 | H41: =(4*(50+50+10+10))/12*10 -> 400 | I41: =(4*(50+50+10+10))/12*10 -> 400 | J41: =(4*(50+50+10+10))/12*10 -> 400 | K41: =(4*(50+50+10+10))/12*10 -> 400 | ... O41: =(4*(50+50+10+10))/12*10 -> 400 | P41: =SUM(D41:O41) -> 4800
A42: Bank Charges | D42: 2000 | E42: 2000 | F42: 2000 | G42: 2000 | H42: 2000 | I42: 2000 | J42: 2000 | K42: 2000 | L42: 2000 | M42: 2000 | N42: 2000 | O42: 2000 | P42: =SUM(D42:O42) -> 24000
A43: IT and Software | D43: 2500 | E43: 2500 | F43: 2500 | G43: 2500 | H43: 2500 | I43: 2500 | J43: 2500 | K43: 2500 | L43: 2500 | M43: 2500 | N43: 2500 | O43: 2500 | P43: =SUM(D43:O43) -> 30000
A44: Miscellaneous Expenses | D44: 2500 | E44: 2500 | F44: 2500 | G44: 2500 | H44: 2500 | I44: 2500 | J44: 2500 | K44: 2500 | L44: 2500 | M44: 2500 | N44: 2500 | O44: 2500 | P44: =SUM(D44:O44) -> 30000
...

Sheet KWT
D4: 45505 | E4: 45536 | F4: 45566 | G4: 45597 | H4: 45627 | I4: 45658 | J4: 45689 | K4: 45717 | L4: 45748 | M4: 45778 | N4: 45809 | O4: 45839 | P4: Total
A5: Overall Budget
A6: 3-Years Budget Sheet | B6: % | C6: KWD
A7: Market share | B7: 0.02 | D7: 0 | E7: 0.05 | F7: 0.1 | G7: 0.1 | H7: 0 | I7: 0 | J7: 0.2 | K7: 0.25 | L7: 0.3 | M7: 0 | N7: 0 | O7: 0 | P7: =SUM(D7:O7) -> 1
A8: ELEMENTRY | B8: =B7*0.25 -> 0.005 | C8: 40 | D8: =$B8*D$7*$C$17 -> 0 | E8: =$B8*E$7*$C$17 -> 150 | F8: =$B8*F$7*$C$17 -> 300 | G8: =$B8*G$7*$C$17 -> 300 | H8: =$B8*H$7*$C$17 -> 0 | I8: =$B8*I$7*$C$17 -> 0 | J8: =$B8*J$7*$C$17 -> 600 | K8: =$B8*K$7*$C$17 -> 750 | ... O8: =$B8*O$7*$C$17 -> 0
A9: INTERMEDIATE | B9: =B7*0.5 -> 0.01 | C9: 40 | D9: =$B9*D$7*$C$17 -> 0 | E9: =$B9*E$7*$C$17 -> 300 | F9: =$B9*F$7*$C$17 -> 600 | G9: =$B9*G$7*$C$17 -> 600 | H9: =$B9*H$7*$C$17 -> 0 | I9: =$B9*I$7*$C$17 -> 0 | J9: =$B9*J$7*$C$17 -> 1200 | K9: =$B9*K$7*$C$17 -> 1500 | ... O9: =$B9*O$7*$C$17 -> 0
A10: SECONDARY | B10: =B7*0.25 -> 0.005 | C10: 40 | D10: =$B10*D$7*$C$17 -> 0 | E10: =$B10*E$7*$C$17 -> 150 | F10: =$B10*F$7*$C$17 -> 300 | G10: =$B10*G$7*$C$17 -> 300 | H10: =$B10*H$7*$C$17 -> 0 | I10: =$B10*I$7*$C$17 -> 0 | J10: =$B10*J$7*$C$17 -> 600 | K10: =$B10*K$7*$C$17 -> 750 | ... O10: =$B10*O$7*$C$17 -> 0
A11: Total | D11: =SUM(D8:D10) -> 0 | E11: =SUM(E8:E10) -> 600 | F11: =SUM(F8:F10) -> 1200 | G11: =SUM(G8:G10) -> 1200 | H11: =SUM(H8:H10) -> 0 | I11: =SUM(I8:I10) -> 0 | J11: =SUM(J8:J10) -> 2400 | K11: =SUM(K8:K10) -> 3000 | ... O11: =SUM(O8:O10) -> 0 | P11: =SUM(D11:O11) -> 12000
A12: 1- P&L
A13: Elementary ( Sales ) | D13: =D8*$C8 -> 0 | E13: =E8*$C8 -> 6000 | F13: =F8*$C8 -> 12000 | G13: =G8*$C8 -> 12000 | H13: =H8*$C8 -> 0 | I13: =I8*$C8 -> 0 | J13: =J8*$C8 -> 24000 | K13: =K8*$C8 -> 30000 | ... O13: =O8*$C8 -> 0
A14: Intermediate ( Sales ) | D14: =D9*$C9 -> 0 | E14: =E9*$C9 -> 12000 | F14: =F9*$C9 -> 24000 | G14: =G9*$C9 -> 24000 | H14: =H9*$C9 -> 0 | I14: =I9*$C9 -> 0 | J14: =J9*$C9 -> 48000 | K14: =K9*$C9 -> 60000 | ... O14: =O9*$C9 -> 0
A15: Secondary ( Sales ) | D15: =D10*$C10 -> 0 | E15: =E10*$C10 -> 6000 | F15: =F10*$C10 -> 12000 | G15: =G10*$C10 -> 12000 | H15: =H10*$C10 -> 0 | I15: =I10*$C10 -> 0 | J15: =J10*$C10 -> 24000 | K15: =K10*$C10 -> 30000 | ... O15: =O10*$C10 -> 0
A16: Total sales | D16: =SUM(D13:D15) -> 0 | E16: =SUM(E13:E15) -> 24000 | F16: =SUM(F13:F15) -> 48000 | G16: =SUM(G13:G15) -> 48000 | H16: =SUM(H13:H15) -> 0 | I16: =SUM(I13:I15) -> 0 | J16: =SUM(J13:J15) -> 96000 | K16: =SUM(K13:K15) -> 120000 | ... O16: =SUM(O13:O15) -> 0 | P16: =SUM(D16:O16) -> 480000
A17: Share % of students+teachers | C17: 600000 | D17: =D11/$C$17 -> 0 | E17: =E11/$C$17 -> 0.001 | F17: =F11/$C$17 -> 0.002 | G17: =G11/$C$17 -> 0.002 | H17: =H11/$C$17 -> 0 | I17: =I11/$C$17 -> 0 | J17: =J11/$C$17 -> 0.004 | K17: =K11/$C$17 -> 0.005 | ... O17: =O11/$C$17 -> 0 | P17: =P11/C17 -> 0.02
A18: Total Income | D18: =SUM(D16:D17) -> 0 | E18: =E16 -> 24000 | F18: =F16 -> 48000 | G18: =G16 -> 48000 | H18: =H16 -> 0 | I18: =I16 -> 0 | J18: =J16 -> 96000 | K18: =K16 -> 120000 | L18: =L16 -> 144000 | ... N18: =N16 -> 0 | O18: =SUM(O16:O17) -> 0 | P18: =SUM(D18:O18) -> 480000
A20: Less Operating Expenses
A21: Salaries and Wages | D21: 9000 | E21: =D21 -> 9000 | F21: =E21 -> 9000 | G21: =F21 -> 9000 | H21: =G21 -> 9000 | I21: =H21 -> 9000 | J21: =I21 -> 9000 | K21: =J21 -> 9000 | L21: =K21 -> 9000 | ... O21: =N21 -> 9000 | P21: =SUM(D21:O21) -> 108000
A22: Rent | D22: 750 | E22: =D22 -> 750 | F22: =E22 -> 750 | G22: =F22 -> 750 | H22: =G22 -> 750 | I22: =H22 -> 750 | J22: =I22 -> 750 | K22: =J22 -> 750 | L22: =K22 -> 750 | ... O22: =N22 -> 750 | P22: =SUM(D22:O22) -> 9000
A23: Marketing & Advertising | D23: 0 | E23: 25000 | F23: 25000 | G23: 25000 | H23: 0 | I23: 0 | J23: 25000 | K23: 25000 | L23: 25000 | M23: 0 | N23: 0 | O23: 0 | P23: =SUM(D23:O23) -> 150000 | Q23: =P23/0.08 -> 1875000
A24: AI expenses (Hygen+Chatgpt) | B24: 250 Package | D24: =_xlfn.XLOOKUP($B$24,'250 calc'!$A$83:$A$85,'250 calc'!$D$83:$D$85,0)*D11 -> 0 | E24: =_xlfn.XLOOKUP($B$24,'250 calc'!$A$83:$A$85,'250 calc'!$D$83:$D$85,0)*E11 -> 2020.425 | F24: =_xlfn.XLOOKUP($B$24,'250 calc'!$A$83:$A$85,'250 calc'!$D$83:$D$85,0)*F11 -> 4040.85 | G24: =_xlfn.XLOOKUP($B$24,'250 calc'!$A$83:$A$85,'250 calc'!$D$83:$D$85,0)*G11 -> 4040.85 | H24: =_xlfn.XLOOKUP($B$24,'250 calc'!$A$83:$A$85,'250 calc'!$D$83:$D$85,0)*H11 -> 0 | I24: =_xlfn.XLOOKUP($B$24,'250 calc'!$A$83:$A$85,'250 calc'!$D$83:$D$85,0)*I11 -> 0 | J24: =_xlfn.XLOOKUP($B$24,'250 calc'!$A$83:$A$85,'250 calc'!$D$83:$D$85,0)*J11 -> 8081.7 | K24: =_xlfn.XLOOKUP($B$24,'250 calc'!$A$83:$A$85,'250 calc'!$D$83:$D$85,0)*K11 -> 10102.125 | ... O24: =_xlfn.XLOOKUP($B$24,'250 calc'!$A$83:$A$85,'250 calc'!$D$83:$D$85,0)*O11 -> 0 | P24: =SUM(D24:O24) -> 40408.5
A25: AI expenses (Chatgpt) | B25: 1000 Package | D25: =_xlfn.XLOOKUP($B$25,'1000 calc'!$A$75:$A$77,'1000 calc'!$D$75:$D$77,0)*D11 -> 0 | E25: =_xlfn.XLOOKUP($B$25,'1000 calc'!$A$75:$A$77,'1000 calc'!$D$75:$D$77,0)*E11 -> 167.4 | F25: =_xlfn.XLOOKUP($B$25,'1000 calc'!$A$75:$A$77,'1000 calc'!$D$75:$D$77,0)*F11 -> 334.8 | G25: =_xlfn.XLOOKUP($B$25,'1000 calc'!$A$75:$A$77,'1000 calc'!$D$75:$D$77,0)*G11 -> 334.8 | H25: =_xlfn.XLOOKUP($B$25,'1000 calc'!$A$75:$A$77,'1000 calc'!$D$75:$D$77,0)*H11 -> 0 | I25: =_xlfn.XLOOKUP($B$25,'1000 calc'!$A$75:$A$77,'1000 calc'!$D$75:$D$77,0)*I11 -> 0 | J25: =_xlfn.XLOOKUP($B$25,'1000 calc'!$A$75:$A$77,'1000 calc'!$D$75:$D$77,0)*J11 -> 669.6 | K25: =_xlfn.XLOOKUP($B$25,'1000 calc'!$A$75:$A$77,'1000 calc'!$D$75:$D$77,0)*K11 -> 837 | ... O25: =_xlfn.XLOOKUP($B$25,'1000 calc'!$A$75:$A$77,'1000 calc'!$D$75:$D$77,0)*O11 -> 0 | P25: =SUM(D25:O25) -> 3348
A26: Qudorat (HeyGen) $20K | D26: =20000*0.31 -> 6200 | E26: 0 | F26: 0 | G26: 0 | H26: 0 | I26: 0 | J26: 0 | K26: 0 | L26: 0 | M26: 0 | N26: 0 | O26: 0 | P26: =SUM(D26:O26) -> 6200
A27: Other Oparating Expenses
A28: Consultation Fees | D28: 50 | E28: =D28 -> 50 | F28: =E28 -> 50 | G28: =F28 -> 50 | H28: =G28 -> 50 | I28: =H28 -> 50 | J28: =I28 -> 50 | K28: =J28 -> 50 | L28: =K28 -> 50 | ... O28: =N28 -> 50 | P28: =SUM(D28:O28) -> 600
A29: Depreciation Expense | D29: 180 | E29: =D29 -> 180 | F29: =E29 -> 180 | G29: =F29 -> 180 | H29: =G29 -> 180 | I29: =H29 -> 180 | J29: =I29 -> 180 | K29: =J29 -> 180 | L29: =K29 -> 180 | ... O29: =N29 -> 180 | P29: =SUM(D29:O29) -> 2160
A30: Printing & Stationery | D30: 50 | E30: =D30 -> 50 | F30: =E30 -> 50 | G30: =F30 -> 50 | H30: =G30 -> 50 | I30: =H30 -> 50 | J30: =I30 -> 50 | K30: =J30 -> 50 | L30: =K30 -> 50 | ... O30: =N30 -> 50 | P30: =SUM(D30:O30) -> 600
A31: Subscriptions ( Internet & Mobiles ) | D31: 100 | E31: =D31 -> 100 | F31: =E31 -> 100 | G31: =F31 -> 100 | H31: =G31 -> 100 | I31: =H31 -> 100 | J31: =I31 -> 100 | K31: =J31 -> 100 | L31: =K31 -> 100 | ... O31: =N31 -> 100 | P31: =SUM(D31:O31) -> 1200
A32: Repairs and Maintenance | D32: 45 | E32: =D32 -> 45 | F32: =E32 -> 45 | G32: =F32 -> 45 | H32: =G32 -> 45 | I32: =H32 -> 45 | J32: =I32 -> 45 | K32: =J32 -> 45 | L32: =K32 -> 45 | ... O32: =N32 -> 45 | P32: =SUM(D32:O32) -> 540
A33: Hospitality | D33: 30 | E33: =D33 -> 30 | F33: =E33 -> 30 | G33: =F33 -> 30 | H33: =G33 -> 30 | I33: =H33 -> 30 | J33: =I33 -> 30 | K33: =J33 -> 30 | L33: =K33 -> 30 | ... O33: =N33 -> 30 | P33: =SUM(D33:O33) -> 360
A34: Profesional Fees | D34: 166.66667 | E34: =D34 -> 166.66667 | F34: =E34 -> 166.66667 | G34: =F34 -> 166.66667 | H34: =G34 -> 166.66667 | I34: =H34 -> 166.66667 | J34: =I34 -> 166.66667 | K34: =J34 -> 166.66667 | L34: =K34 -> 166.66667 | ... O34: =N34 -> 166.66667 | P34: =SUM(D34:O34) -> 2000
A35: Indemnity | D35: 432.69231 | E35: =D35 -> 432.69231 | F35: =E35 -> 432.69231 | G35: =F35 -> 432.69231 | H35: =G35 -> 432.69231 | I35: =H35 -> 432.69231 | J35: =I35 -> 432.69231 | K35: =J35 -> 432.69231 | L35: =K35 -> 432.69231 | ... O35: =N35 -> 432.69231 | P35: =SUM(D35:O35) -> 5192.3077
A36: Leave | D36: 865.38462 | E36: =D36 -> 865.38462 | F36: =E36 -> 865.38462 | G36: =F36 -> 865.38462 | H36: =G36 -> 865.38462 | I36: =H36 -> 865.38462 | J36: =I36 -> 865.38462 | K36: =J36 -> 865.38462 | L36: =K36 -> 865.38462 | ... O36: =N36 -> 865.38462 | P36: =SUM(D36:O36) -> 10384.615
A37: Telephone & Internet | D37: 120 | E37: =D37 -> 120 | F37: =E37 -> 120 | G37: =F37 -> 120 | H37: =G37 -> 120 | I37: =H37 -> 120 | J37: =I37 -> 120 | K37: =J37 -> 120 | L37: =K37 -> 120 | ... O37: =N37 -> 120 | P37: =SUM(D37:O37) -> 1440
A38: Travel | D38: 500 | E38: =D38 -> 500 | F38: =E38 -> 500 | G38: =F38 -> 500 | H38: =G38 -> 500 | I38: =H38 -> 500 | J38: =I38 -> 500 | K38: =J38 -> 500 | L38: =K38 -> 500 | ... O38: =N38 -> 500 | P38: =SUM(D38:O38) -> 6000
A39: Governmental Expenses | D39: 25 | E39: =D39 -> 25 | F39: =E39 -> 25 | G39: =F39 -> 25 | H39: =G39 -> 25 | I39: =H39 -> 25 | J39: =I39 -> 25 | K39: =J39 -> 25 | L39: =K39 -> 25 | ... O39: =N39 -> 25 | P39: =SUM(D39:O39) -> 300
... A44: Cleaning Expenses | D44: 25 | E44: =D44 -> 25 | F44: =E44 -> 25 | G44: =F44 -> 25 | H44: =G44 -> 25 | I44: =H44 -> 25 | J44: =I44 -> 25 | K44: =J44 -> 25 | L44: =K44 -> 25 | ... O44: =N44 -> 25 | P44: =SUM(D44:O44) -> 300
A46: Total Operating Expenses | D46: =SUM(D19:D44) -> 18667.744 | E46: =SUM(E19:E44) -> 39655.569 | F46: =SUM(F19:F44) -> 41843.394 | G46: =SUM(G19:G44) -> 41843.394 | H46: =SUM(H19:H44) -> 12467.744 | I46: =SUM(I19:I44) -> 12467.744 | J46: =SUM(J19:J44) -> 46219.044 | K46: =SUM(K19:K44) -> 48406.869 | ... O46: =SUM(O19:O44) -> 12467.744 | P46: =SUM(D46:O46) -> 349569.42
A48: Monthly - Net Profit / Loss | D48: =D18-D46 -> -18667.744 | E48: =E18-E46 -> -15655.569 | F48: =F18-F46 -> 6156.6064 | G48: =G18-G46 -> 6156.6064 | H48: =H18-H46 -> -12467.744 | I48: =I18-I46 -> -12467.744 | J48: =J18-J46 -> 49780.956 | K48: =K18-K46 -> 71593.131 | ... O48: =O18-O46 -> -12467.744 | P48: =SUM(D48:O48) -> 130430.58
A51: Sales | D51: 0 | E51: =E18 -> 24000 | F51: =F18 -> 48000 | G51: =G18 -> 48000 | H51: =H18 -> 0 | I51: =I18 -> 0 | J51: =J18 -> 96000 | K51: =K18 -> 120000 | L51: =L18 -> 144000 | ... O51: =O18 -> 0
A53: Cash Flow | D53: =D51+D48 -> -18667.744 | E53: =D53+E51-E46 -> -34323.312 | F53: =E53+F51-F46 -> -28166.706 | G53: =F53+G51-G46 -> -22010.099 | H53: =G53+H51-H46 -> -34477.843 | I53: =H53+I51-I46 -> -46945.587 | J53: =I53+J51-J46 -> 2835.3699 | K53: =J53+K51-K46 -> 74428.501 | L53: =K53+L51-L46 -> 167833.81 | ... O53: =N53+O51-O46 -> 130430.58
...

Sheet 250 calc
E1: Support | J1: Min
B2: Q | C2: Word | E2: Token | F2: minut | G2: Ttl token | H2: $/minut | I2: Chracters | J2: $ per 1M
A3: Input Txt-Txt | B3: 250 | C3: 50 | E3: 6 | F3: 0 | G3: =B3*C3*E3 -> 75000 | J3: 0.5 | K3: =(J3/1000000)*G3 -> 0.0375
A4: Input Aud-Txt | B4: 250 | C4: 50 | E4: 0 | F4: 0.5 | G4: 0 | H4: 0.006 | J4: 0 | K4: =B4*F4*H4 -> 0.75
A7: output Txt-Txt | B7: 250 | C7: 50 | E7: 6 | F7: 0 | G7: =B7*C7*E7 -> 75000 | H7: 0 | I7: 0 | J7: 1.5 | K7: =(J7/1000000)*G7 -> 0.1125 | L7: =K7*10000 -> 1125 | M7: https://openai.com/pricing
A8: output Txt-Aud | B8: 250 | C8: 50 | E8: 0 | F8: 0 | G8: 0 | H8: 0 | I8: 8 | J8: 15 | K8: =B8*C8*I8*(J8/1000000) -> 1.5
A10: Avatar | B10: 250 | C10: 50 | E10: 0 | F10: 0.5 | G10: 0 | H10: 0.1 | J10: 0 | K10: =B10*F10*H10 -> 12.5
K12: =SUM(K3:K10) -> 14.9 | L12: =K12*3.75 -> 55.875
K13: =K12*2 -> 29.8 | L13: =K13*3.75 -> 111.75
K14: =K13*2 -> 59.6 | L14: =K14*3.75 -> 223.5
A15: Questions | B15: 250
A16: Input words (Ask) | B16: 25
A17: Output words (Reply) | B17: 25
A20: Input Text to Text
A21: Token per word | B21: 9
A22: Cost per token (.5$/1M) | B22: =0.5/1000000 -> 5e-07
A23: Cost per User $ | B23: =(B15*B16*B21*B22) -> 0.028125
M26: https://openai.com/api/pricing/
A29: Question finder
A30: Tokens per question | B30: 20000
A31: Cost per token (.5$/1M) | B31: =0.5/1000000 -> 5e-07
A32: Cost per User $ | B32: =B30*B15*B31 -> 2.5
A39: Input Audio to Text
A40: ="Minutes per"&" "&B16&" words" -> Minutes per 25 words | B40: =((30/60)/B16)*B16 -> 0.5
A41: Cost per minute | B41: 0.006
A42: Cost per User $ | B42: =B15*B40*B41 -> 0.75
A50: Output Text to Text
A51: Token per word | B51: =B21 -> 9
A52: Cost per token (1.5$/1M) | B52: =1.5/1000000 -> 1.5e-06
A53: Cost per User $ | B53: =B15*B17*B51*B52 -> 0.084375
A61: Output Text to Audio (After consuming Avatar)
A62: Characters per word | B62: 10
A63: Cost per character (15$/1M) | B63: =15/1000000 -> 1.5e-05
A64: Cost per User $
A72: Avatar
A73: ="Minutes per"&" "&B17&" words" -> Minutes per 25 words | B73: =20/60 -> 0.33333333
A74: Cost per minute | B74: 0.09
A75: Cost per User $ | B75: =B15*B73*B74 -> 7.5
N76: expected discount
C81: =C83/B15 -> 0.1629375 | D81: =5/C81 -> 30.686613
...

Sheet 1000 calc
E1: Support | J1: Min
B2: Q | C2: Word | E2: Token | F2: minut | G2: Ttl token | H2: $/minut | I2: Chracters | J2: $ per 1M
A3: Input Txt-Txt | B3: 250 | C3: 50 | E3: 6 | F3: 0 | G3: =B3*C3*E3 -> 75000 | J3: 0.5 | K3: =(J3/1000000)*G3 -> 0.0375
A4: Input Aud-Txt | B4: 250 | C4: 50 | E4: 0 | F4: 0.5 | G4: 0 | H4: 0.006 | J4: 0 | K4: =B4*F4*H4 -> 0.75
A7: output Txt-Txt | B7: 250 | C7: 50 | E7: 6 | F7: 0 | G7: =B7*C7*E7 -> 75000 | H7: 0 | I7: 0 | J7: 1.5 | K7: =(J7/1000000)*G7 -> 0.1125 | L7: =K7*10000 -> 1125 | M7: https://openai.com/pricing
A8: output Txt-Aud | B8: 250 | C8: 50 | E8: 0 | F8: 0 | G8: 0 | H8: 0 | I8: 8 | J8: 15 | K8: =B8*C8*I8*(J8/1000000) -> 1.5
A10: Avatar | B10: 250 | C10: 50 | E10: 0 | F10: 0.5 | G10: 0 | H10: 0.1 | J10: 0 | K10: =B10*F10*H10 -> 12.5
K12: =SUM(K3:K10) -> 14.9 | L12: =K12*3.75 -> 55.875
K13: =K12*2 -> 29.8 | L13: =K13*3.75 -> 111.75
K14: =K13*2 -> 59.6 | L14: =K14*3.75 -> 223.5
A15: Questions | B15: 1000
A16: Input words (Ask) | B16: 50
A17: Output words (Reply) | B17: 50
A20: Input Text to Text
A21: Token per word | B21: 9
A22: Cost per token (.5$/1M) | B22: =0.5/1000000 -> 5e-07
A23: Cost per User $ | B23: =B15*B16*B21*B22 -> 0.225
A31: Input Audio to Text
A32: ="Minutes per"&" "&B16&" words" -> Minutes per 50 words | B32: =(0.5/50)*B16 -> 0.5
A33: Cost per minute | B33: 0.006
A34: Cost per User $
A42: Output Text to Text
A43: Token per word | B43: =B21 -> 9
A44: Cost per token (1.5$/1M) | B44: =1.5/1000000 -> 1.5e-06
A45: Cost per User $ | B45: =B15*B17*B43*B44 -> 0.675
A53: Output Text to Audio (After consuming Avatar)
A54: Characters per word | B54: 10
A55: Cost per character (15$/1M) | B55: =15/1000000 -> 1.5e-05
A56: Cost per User $
A64: Avatar
A65: ="Minutes per"&" "&B17&" words" -> Minutes per 50 words | B65: =(0.5/50)*B17 -> 0.5
A66: Cost per minute | B66: 0.1
A67: Cost per User $
N68: expected discount
A74: Total costs for :- | B74: USD | C74: SAR | D74: KWD | E74: % from fees
A75: 1000 Package | B75: =B23+B34+B45+B56+B67 -> 0.9 | C75: =B75*3.75 -> 3.375 | D75: =B75*0.31 -> 0.279 | E75: =C75/300 -> 0.01125
A76: 2000 Package | B76: =B75*2 -> 1.8 | C76: =B76*3.75 -> 6.75 | D76: =B76*0.31 -> 0.558 | E76: =C76/300 -> 0.0225
A77: 4000 Package | B77: =B76*2 -> 3.6 | C77: =B77*3.75 -> 13.5 | D77: =B77*0.31 -> 1.116 | E77: =C77/300 -> 0.045

Sheet Discount
D3: Per 1 student | E3: Year 1
C4: No discount
C5: Targeted student | D5: 1 | E5: ='year 1'!P11 -> 123840
C6: Fees | D6: 300 | E6: 300
C7: Revenues | D7: =D6*D5 -> 300 | E7: =E6*E5 -> 37152000
C8: Total Costs | D8: =E8/E5 -> 90.251968 | E8: ='year 1'!P46 -> 11176804
C9: Profits | D9: =D7-D8 -> 209.74803 | E9: =E7-E8 -> 25975196
C10: Profit margin % | D10: =D9/D7 -> 0.69916011 | E10: =E9/E7 -> 0.69916011
H11: Per 1 student | I11: Year 1
C12: Discount | D12: 0.1 | G12: Discount | H12: 0.3
C13: Revenues | D13: =D7*(1-D12) -> 270 | E13: =E7*(1-D12) -> 33436800 | G13: Revenues | H13: =D7*(1-H12) -> 210 | I13: =E7*(1-H12) -> 26006400
C14: Total Costs | D14: =D8 -> 90.251968 | E14: =E8 -> 11176804 | G14: Total Costs | H14: =D8 -> 90.251968 | I14: =E8 -> 11176804
C15: Profits | D15: =D13-D14 -> 179.74803 | E15: =E13-E14 -> 22259996 | G15: Profits | H15: =H13-H14 -> 119.74803 | I15: =I13-I14 -> 14829596
C16: Profit margin % | D16: =D15/D13 -> 0.66573345 | E16: =E15/E13 -> 0.66573345 | G16: Profit margin % | H16: =H15/H13 -> 0.57022872 | I16: =I15/I13 -> 0.57022872
C18: Discount | D18: 0.2 | G18: Discount | H18: 0.4
C19: Revenues | D19: =D7*(1-D18) -> 240 | E19: =E7*(1-D18) -> 29721600 | G19: Revenues | H19: =D7*(1-H18) -> 180 | I19: =E7*(1-H18) -> 22291200
C20: Total Costs | D20: =D8 -> 90.251968 | E20: =E8 -> 11176804 | G20: Total Costs | H20: =D8 -> 90.251968 | I20: =E8 -> 11176804
C21: Profits | D21: =D19-D20 -> 149.74803 | E21: =E19-E20 -> 18544796 | G21: Profits | H21: =H19-H20 -> 89.748032 | I21: =I19-I20 -> 11114396
C22: Profit margin % | D22: =D21/D19 -> 0.62395013 | E22: =E21/E19 -> 0.62395013 | G22: Profit margin % | H22: =H21/H19 -> 0.49860018 | I22: =I21/I19 -> 0.49860018
D25: Lost revenues in Riyal | F25: Total lost revenues | H25: Total profit | I25: Margin %
C26: No discount | D26: 0 | F26: 0 | H26: =E9 -> 25975196 | I26: =D10 -> 0.69916011
C27: =C12&" "& D12 -> Discount 0.1 | D27: 30 | F27: =H27-$H$26 -> -3715200 | H27: =E15 -> 22259996 | I27: =D16 -> 0.66573345
C28: =C18&" "& D18 -> Discount 0.2 | D28: 60 | F28: =H28-$H$26 -> -7430400 | H28: =E21 -> 18544796 | I28: =D22 -> 0.62395013
C29: =G12&" "& H12 -> Discount 0.3 | D29: 90 | F29: =H29-$H$26 -> -11145600 | H29: =I15 -> 14829596 | I29: =H16 -> 0.57022872
C30: =G18&" "& H18 -> Discount 0.4 | D30: 120 | F30: =H30-$H$26 -> -14860800 | H30: =I21 -> 11114396 | I30: =H22 -> 0.49860018

Sheet Sheet1
N1: All figures in SAR
A3: Forecast 2024
C5: 45292 | D5: 45323 | E5: 45352 | F5: 45383 | G5: 45413 | H5: 45444 | I5: 45474 | J5: 45505 | K5: 45536 | L5: 45566 | M5: 45597 | N5: 45627 | O5: Total
A6: Cash balance | B6: =69447.62+(413*12.2) -> 74486.22 | C6: =B6 -> 74486.22 | D6: =C34 -> 44825.97 | E6: =D34 -> 157260.72 | F6: =E34 -> -19285.13 | G6: =F34 -> 795656.34 | H6: =G34 -> 597356.56 | I6: =H34 -> 1387520.4 | J6: =I34 -> 2675611.9 | K6: =J34 -> 1089727.6 | ... O6: =N34 -> 146526.33
A7: Ahmed Al Homaid | C7: =10000*12.2 -> 122000 | D7: =22000*12.2 -> 268400 | E7: 0 | F7: 0 | G7: 0 | H7: 0 | I7: 0 | J7: 0 | K7: 0 | L7: 0 | M7: 0 | N7: 0 | O7: =SUM(B7:N7) -> 390400
A8: Al Majed Company | C8: 0 | D8: 0 | E8: 0 | F8: 1000000 | G8: 0 | H8: 1000000 | I8: =1000000+500000 -> 1500000 | J8: 0 | K8: 0 | L8: 0 | M8: 0 | N8: 0 | O8: =SUM(B8:N8) -> 3500000
A9: Khalid Al Hamlan | C9: 0 | D9: 0 | E9: 0 | F9: 0 | G9: 0 | H9: 0 | I9: 0 | J9: 0 | K9: 0 | L9: 0 | M9: 0 | N9: 0 | O9: =SUM(B9:N9) -> 0
C10: 0 | D10: 0 | E10: 0 | F10: 0 | G10: 0 | H10: 0 | I10: 0 | J10: 0 | K10: 0 | L10: 0 | M10: 0 | N10: 0 | O10: =SUM(B10:N10) -> 0
C11: 0 | D11: 0 | E11: 0 | F11: 0 | G11: 0 | H11: 0 | I11: 0 | J11: 0 | K11: 0 | L11: 0 | M11: 0 | N11: 0 | O11: =SUM(B11:N11) -> 0
A12: Cash inflow | B12: =SUM(B6:B11) -> 74486.22 | C12: =SUM(C7:C11) -> 122000 | D12: =SUM(D7:D11) -> 268400 | E12: =SUM(E7:E11) -> 0 | F12: =SUM(F7:F11) -> 1000000 | G12: =SUM(G7:G11) -> 0 | H12: =SUM(H7:H11) -> 1000000 | I12: =SUM(I7:I11) -> 1500000 | J12: =SUM(J7:J11) -> 0 | ... N12: =SUM(N7:N11) -> 0 | O12: =SUM(B12:N12) -> 3964886.2
A13: Revenues 1 | C13: 0 | D13: 0 | E13: 0 | F13: 0 | G13: 0 | H13: 0 | I13: 0 | J13: 0 | K13: 0 | L13: 0 | M13: 0 | N13: 0 | O13: =SUM(C13:N13) -> 0
A14: Revenues 2 | C14: 0 | D14: 0 | E14: 0 | F14: 0 | G14: 0 | H14: 0 | I14: 0 | J14: 0 | K14: 0 | L14: 0 | M14: 0 | N14: 0 | O14: =SUM(C14:N14) -> 0
A15: Total Revenues | C15: =SUM(C13:C14) -> 0 | D15: =SUM(D13:D14) -> 0 | E15: =SUM(E13:E14) -> 0 | F15: =SUM(F13:F14) -> 0 | G15: =SUM(G13:G14) -> 0 | H15: =SUM(H13:H14) -> 0 | I15: =SUM(I13:I14) -> 0 | J15: =SUM(J13:J14) -> 0 | ... N15: =SUM(N13:N14) -> 0 | O15: =SUM(C15:N15) -> 0
A16: Expenses | C16: =C17+C23 -> 151660.25 | D16: =D17+D23 -> 155965.25 | E16: =E17+E23 -> 176545.85 | F16: =F17+F23 -> 185058.53 | G16: =G17+G23 -> 198299.78 | H16: =H17+H23 -> 209836.12 | I16: =I17+I23 -> 211908.52 | J16: =J17+J23 -> 1585884.3 | ... N16: =N17+N23 -> 286590.4 | O16: =SUM(C16:N16) -> 3818359.9
A17: Staff & Admin Costs | C17: =SUM(C18:C22) -> 151660.25 | D17: =SUM(D18:D22) -> 155965.25 | E17: =SUM(E18:E22) -> 161545.85 | F17: =SUM(F18:F22) -> 185058.53 | G17: =SUM(G18:G22) -> 198299.78 | H17: =SUM(H18:H22) -> 209836.12 | I17: =SUM(I18:I22) -> 211908.52 | J17: =SUM(J18:J22) -> 246329.33 | ... N17: =SUM(N18:N22) -> 211000 | O17: =SUM(C17:N17) -> 2388214.5
A18: KSA | C18: =9279+46000 -> 55279 | D18: =46000+9279 -> 55279 | E18: =46000+9279 -> 55279 | F18: =46000+15464 -> 61464 | G18: =46000+20472 -> 66472 | H18: =46000+25926 -> 71926 | I18: =46000+18168 -> 64168 | J18: =46000+21635 -> 67635 | K18: =46000+26615 -> 72615 | L18: 32000 | M18: 32000 | N18: 32000 | O18: =SUM(C18:N18) -> 666117
A19: Kuwait | C19: =(3450+375+600)*12.3 -> 54427.5 | D19: =(3580+375+700)*12.3 -> 57256.5 | E19: =(3350+375+700)*12.3 -> 54427.5 | F19: =(4484+375+800)*12.3 -> 69605.7 | G19: =(4269+400+700)*12.3 -> 66038.7 | H19: =(4150+400+700)*12.3 -> 64575 | I19: =(4350+400+700)*12.3 -> 67035 | J19: =(5649+400+700)*12.3 -> 83012.7 | K19: =(5631+400+700)*12.3 -> 82791.3 | L19: 83000 | M19: 83000 | N19: 83000 | O19: =SUM(C19:N19) -> 848169.9
A20: Egypt | C20: =(450750*0.085)+3640 -> 41953.75 | D20: =(450750*0.085)+3640 -> 41953.75 | E20: =(474150*0.085)+3640 -> 43942.75 | F20: =(523763*0.083) -> 43472.329 | G20: =(565460*0.083) -> 46933.18 | H20: =(605240*0.083) -> 50234.92 | I20: =((667040+27000)*0.083) -> 57605.32 | J20: =((846651+27000)*0.083) -> 72513.033 | K20: =((778614+27000)*0.083) -> 66865.962 | L20: 73000 | M20: 73000 | N20: 73000 | O20: =SUM(C20:N20) -> 684474.99
A21: India | C21: 0 | D21: =(120)*12.3 -> 1476 | E21: =(642)*12.3 -> 7896.6 | F21: =(855)*12.3 -> 10516.5 | G21: =(1533)*12.3 -> 18855.9 | H21: =(6079)*3.8 -> 23100.2 | I21: =(6079)*3.8 -> 23100.2 | J21: =(6097)*3.8 -> 23168.6 | K21: =(6097-2850)*3.8 -> 12338.6 | L21: 23000 | M21: 23000 | N21: 23000 | O21: =SUM(C21:N21) -> 189452.6
A22: … | C22: 0 | D22: 0 | E22: 0 | F22: 0 | G22: 0 | H22: 0 | I22: 0 | J22: 0 | K22: 0 | L22: 0 | M22: 0 | N22: 0 | O22: =SUM(C22:N22) -> 0
A23: Marketing expenses | C23: =SUM(C24:C28) -> 0 | D23: =SUM(D24:D28) -> 0 | E23: =SUM(E24:E28) -> 15000 | F23: =SUM(F24:F28) -> 0 | G23: =SUM(G24:G28) -> 0 | H23: =SUM(H24:H28) -> 0 | I23: =SUM(I24:I28) -> 0 | J23: =SUM(J24:J28) -> 1339555 | ... N23: =SUM(N24:N28) -> 75590.4 | O23: =SUM(C23:N23) -> 1430145.4
A24: KSA | C24: 0 | D24: 0 | E24: 15000 | F24: 0 | G24: 0 | H24: 0 | I24: 0 | J24: 1000000 | K24: 0 | L24: 0 | M24: 0 | N24: 0 | O24: =SUM(C24:N24) -> 1015000
A25: Kuwait | C25: 0 | D25: 0 | E25: 0 | F25: 0 | G25: 0 | H25: 0 | I25: 0 | J25: 339555 | K25: 0 | L25: 0 | M25: 0 | N25: =6096*12.4 -> 75590.4 | O25: =SUM(C25:N25) -> 415145.4
A26: … | C26: 0 | D26: 0 | E26: 0 | F26: 0 | G26: 0 | H26: 0 | I26: 0 | J26: 0 | K26: 0 | L26: 0 | M26: 0 | N26: 0 | O26: =SUM(C26:N26) -> 0
A27: … | C27: 0 | D27: 0 | E27: 0 | F27: 0 | G27: 0 | H27: 0 | I27: 0 | J27: 0 | K27: 0 | L27: 0 | M27: 0 | N27: 0 | O27: =SUM(C27:N27) -> 0
A28: … | C28: 0 | D28: 0 | E28: 0 | F28: 0 | G28: 0 | H28: 0 | I28: 0 | J28: 0 | K28: 0 | L28: 0 | M28: 0 | N28: 0 | O28: =SUM(C28:N28) -> 0
A30: Net Profit | C30: =C15-C16 -> -151660.25 | D30: =D15-D16 -> -155965.25 | E30: =E15-E16 -> -176545.85 | F30: =F15-F16 -> -185058.53 | G30: =G15-G16 -> -198299.78 | H30: =H15-H16 -> -209836.12 | I30: =I15-I16 -> -211908.52 | J30: =J15-J16 -> -1585884.3 | ... N30: =N15-N16 -> -286590.4 | O30: =O13+O14-O16 -> -3818359.9
A32: Accumulated net profit | C32: =C30 -> -151660.25 | D32: =C32+D30 -> -307625.5 | E32: =D32+E30 -> -484171.35 | F32: =E32+F30 -> -669229.88 | G32: =F32+G30 -> -867529.66 | H32: =G32+H30 -> -1077365.8 | I32: =H32+I30 -> -1289274.3 | J32: =I32+J30 -> -2875158.6 | K32: =J32+K30 -> -3109769.5 | ... N32: =M32+N30 -> -3818359.9 | O32: =O15-O16 -> -3818359.9
A34: Cash position | C34: =B12+C12+C30 -> 44825.97 | D34: =C34+D12+D30 -> 157260.72 | E34: =D34+E12+E30 -> -19285.13 | F34: =E34+F12+F30 -> 795656.34 | G34: =F34+G12+G30 -> 597356.56 | H34: =G34+H12+H30 -> 1387520.4 | I34: =H34+I12+I30 -> 2675611.9 | J34: =I34+J12+J30 -> 1089727.6 | K34: =J34+K12+K30 -> 855116.73 | ... N34: =M34+N12+N30 -> 146526.33 | O34: =O12+O15-O16 -> 146526.33

Sheet year 3
C4: 45505 | D4: 45536 | E4: 45566 | F4: 45597 | G4: 45627 | H4: 45658 | I4: 45689 | J4: 45717 | K4: 45748 | L4: 45778 | M4: 45809 | N4: 45839 | O4: Total
A5: Overall Budget
A6: 3-Years Budget Sheet | B6: SR
A7: Total No. of Booking - ELEMENTRY SCHOOL | B7: 50 | C7: 0 | D7: =$B$16*1.5% -> 105000 | E7: =$B$16*1.5% -> 105000 | F7: =$B$16*1.5% -> 105000 | G7: =$B$16*1.75% -> 122500 | H7: =$B$16*1.75% -> 122500 | I7: =$B$16*1.75% -> 122500 | J7: =$B$16*1.75% -> 122500 | K7: =$B$16*1.75% -> 122500 | L7: =$B$16*1.75% -> 122500 | M7: =$B$16*1.75% -> 122500
A8: Total No. of Booking - INTERMEDIATE SCHOOL | B8: 50 | C8: 0 | D8: =$B$16*1.5% -> 105000 | E8: =$B$16*1.5% -> 105000 | F8: =$B$16*1.5% -> 105000 | G8: =$B$16*1.75% -> 122500 | H8: =$B$16*1.75% -> 122500 | I8: =$B$16*1.75% -> 122500 | J8: =$B$16*1.75% -> 122500 | K8: =$B$16*1.75% -> 122500 | L8: =$B$16*1.75% -> 122500 | M8: =$B$16*1.75% -> 122500 | N8: 0 | O8: =SUM(C8:N8) -> 1172500
A9: Total No. of Booking - SECONDARY SCHOOL | B9: 50 | C9: 0 | D9: =$B$16*1.5% -> 105000 | E9: =$B$16*1.5% -> 105000 | F9: =$B$16*1.5% -> 105000 | G9: =$B$16*1.75% -> 122500 | H9: =$B$16*1.75% -> 122500 | I9: =$B$16*1.75% -> 122500 | J9: =$B$16*1.75% -> 122500 | K9: =$B$16*1.75% -> 122500 | L9: =$B$16*1.75% -> 122500 | M9: =$B$16*1.75% -> 122500 | N9: 0
A10: Total ( No. of Studnets x 2 Subjects) | C10: =SUM(C7:C9) -> 0 | D10: =SUM(D7:D9) -> 315000 | E10: =SUM(E7:E9) -> 315000 | F10: =SUM(F7:F9) -> 315000 | G10: =SUM(G7:G9) -> 367500 | H10: =SUM(H7:H9) -> 367500 | I10: =SUM(I7:I9) -> 367500 | J10: =SUM(J7:J9) -> 367500 | ... N10: =SUM(N7:N9) -> 0 | O10: =SUM(C10:N10) -> 3517500
A11: 1- P&L
A12: Elementary ( Sales ) | C12: =C7*5 -> 0 | D12: =D7*$B$7 -> 5250000 | E12: =E7*$B$7 -> 5250000 | F12: =F7*$B$7 -> 5250000 | G12: =G7*$B$7 -> 6125000 | H12: =H7*$B$7 -> 6125000 | I12: =I7*$B$7 -> 6125000 | J12: =J7*$B$7 -> 6125000 | K12: =K7*$B$7 -> 6125000 | ... M12: =M7*$B$7 -> 6125000 | N12: =N7*5 -> 0
A13: Intermediate ( Sales ) | C13: =C8*5 -> 0 | D13: =D8*$B$7 -> 5250000 | E13: =E8*$B$7 -> 5250000 | F13: =F8*$B$7 -> 5250000 | G13: =G8*$B$7 -> 6125000 | H13: =H8*$B$7 -> 6125000 | I13: =I8*$B$7 -> 6125000 | J13: =J8*$B$7 -> 6125000 | K13: =K8*$B$7 -> 6125000 | ... M13: =M8*$B$7 -> 6125000 | N13: =N8*5 -> 0
A14: Secondary ( Sales ) | C14: =C9*5 -> 0 | D14: =D9*$B$7 -> 5250000 | E14: =E9*$B$7 -> 5250000 | F14: =F9*$B$7 -> 5250000 | G14: =G9*$B$7 -> 6125000 | H14: =H9*$B$7 -> 6125000 | I14: =I9*$B$7 -> 6125000 | J14: =J9*$B$7 -> 6125000 | K14: =K9*$B$7 -> 6125000 | ... M14: =M9*$B$7 -> 6125000 | N14: =N9*5 -> 0
A15: Income ( Sales ) - On line K.D. | C15: =SUM(C12:C14) -> 0 | D15: =SUM(D12:D14) -> 15750000 | E15: =SUM(E12:E14) -> 15750000 | F15: =SUM(F12:F14) -> 15750000 | G15: =SUM(G12:G14) -> 18375000 | H15: =SUM(H12:H14) -> 18375000 | I15: =SUM(I12:I14) -> 18375000 | J15: =SUM(J12:J14) -> 18375000 | ... N15: =SUM(N12:N14) -> 0 | O15: =SUM(C15:N15) -> 175875000
A16: Share % of 7 million students+teachers | B16: 7000000 | D16: =(D10/2)/$B$16 -> 0.0225 | E16: =(E10/2)/$B$16 -> 0.0225 | F16: =(F10/2)/$B$16 -> 0.0225 | G16: =(G10/2)/$B$16 -> 0.02625 | H16: =(H10/2)/$B$16 -> 0.02625 | I16: =(I10/2)/$B$16 -> 0.02625 | J16: =(J10/2)/$B$16 -> 0.02625 | K16: =(K10/2)/$B$16 -> 0.02625 | ... M16: =(M10/2)/$B$16 -> 0.02625 | O16: =(O10/2)/$B$16 -> 0.25125
A17: No. Of Students & Teachers | D17: =$B$16*D16 -> 157500 | E17: =$B$16*E16 -> 157500 | F17: =$B$16*F16 -> 157500 | G17: =$B$16*G16 -> 183750 | H17: =$B$16*H16 -> 183750 | I17: =$B$16*I16 -> 183750 | J17: =$B$16*J16 -> 183750 | K17: =$B$16*K16 -> 183750 | ... M17: =$B$16*M16 -> 183750 | N17: 0 | O17: =SUM(C17:N17) -> 1758750 | P17: =O17/B16 -> 0.25125
A18: Growth (New Students) | C18: 0 | D18: =D17-0 -> 157500 | E18: =E17-0 -> 157500 | F18: =F17-0 -> 157500 | G18: =G17-F17 -> 26250 | H18: =H17-E17 -> 26250 | I18: =I17-F17 -> 26250 | J18: =J17-G17 -> 0 | K18: =K17-H17 -> 0 | L18: =L17-I17 -> 0 | M18: =M17-I17 -> 0 | N18: 0 | O18: =SUM(C18:N18) -> 551250 | P18: =O18/B16 -> 0.07875
A19: Total Income | C19: =SUM(C15:C18) -> 0 | D19: =D15 -> 15750000 | E19: =E15 -> 15750000 | F19: =F15 -> 15750000 | G19: =G15 -> 18375000 | H19: =H15 -> 18375000 | I19: =I15 -> 18375000 | J19: =J15 -> 18375000 | K19: =K15 -> 18375000 | ... M19: =M15 -> 18375000 | N19: =SUM(N15:N18) -> 0 | O19: =SUM(C19:N19) -> 175875000
A21: Less Operating Expenses
A22: Salaries and Wages | C22: 320000 | D22: 320000 | E22: =D22 -> 320000 | F22: =E22 -> 320000 | G22: =F22 -> 320000 | H22: =G22 -> 320000 | I22: =H22 -> 320000 | J22: =I22 -> 320000 | K22: =J22 -> 320000 | L22: =K22 -> 320000 | ... N22: =M22 -> 320000 | O22: =SUM(C22:N22) -> 3840000
A23: Rent | C23: 50000 | D23: 50000 | E23: 50000 | F23: 50000 | G23: 50000 | H23: 50000 | I23: 50000 | J23: 50000 | K23: 50000 | L23: 50000 | M23: 50000 | N23: 50000 | O23: =SUM(C23:N23) -> 600000
A24: Marketing & Advertising & gifts | C24: 0 | D24: 1000000 | E24: 1000000 | F24: 1000000 | G24: 1000000 | H24: 1000000 | I24: 1000000 | J24: 1000000 | K24: 1000000 | L24: 1000000 | M24: 1000000 | N24: 0 | O24: =SUM(C24:N24) -> 10000000
A25: Other Oparating Expenses | O25: =SUM(C25:N25) -> 0
A26: Gifts | C26: 0 | D26: - | F26: - | G26: - | H26: 0 | I26: - | J26: - | K26: 0 | L26: 0 | M26: 0 | N26: 0 | O26: =SUM(C26:N26) -> 0
A27: Consultation Fees | C27: 5000 | D27: =C27 -> 5000 | E27: =D27 -> 5000 | F27: =E27 -> 5000 | G27: =F27 -> 5000 | H27: =G27 -> 5000 | I27: =H27 -> 5000 | J27: =I27 -> 5000 | K27: =J27 -> 5000 | ... N27: =M27 -> 5000 | O27: =SUM(C27:N27) -> 60000
A28: Depreciation Expense | C28: 1800 | D28: 1800 | E28: 1800 | F28: 1800 | G28: 1800 | H28: 1800 | I28: 1800 | J28: 1800 | K28: 1800 | L28: 1800 | M28: 1800 | N28: 1800 | O28: =SUM(C28:N28) -> 21600
A29: Printing & Stationery | C29: 500 | D29: =C29 -> 500 | E29: =D29 -> 500 | F29: =E29 -> 500 | G29: =F29 -> 500 | H29: =G29 -> 500 | I29: =H29 -> 500 | J29: =I29 -> 500 | K29: =J29 -> 500 | ... N29: =M29 -> 500 | O29: =SUM(C29:N29) -> 6000
A30: Subscriptions ( Internet & Mobiles ) | C30: 1000 | D30: 1000 | E30: 1000 | F30: 1000 | G30: 1000 | H30: 1000 | I30: 1000 | J30: 1000 | K30: 1000 | L30: 1000 | M30: 1000 | N30: 1000 | O30: =SUM(C30:N30) -> 12000
A31: Vehicle Expenses | C31: 0 | D31: 0 | E31: 0 | F31: 0 | G31: 0 | H31: 0 | I31: 0 | J31: 0 | K31: 0 | L31: 0 | M31: 0 | N31: 0 | O31: =SUM(C31:N31) -> 0
A32: Repairs and Maintenance | C32: 450 | D32: 450 | E32: 450 | F32: 450 | G32: 450 | H32: 450 | I32: 450 | J32: 450 | K32: 450 | L32: 450 | M32: 450 | N32: 450 | O32: =SUM(C32:N32) -> 5400
A33: Hospitality | C33: 3000 | D33: =C33 -> 3000 | E33: =D33 -> 3000 | F33: =E33 -> 3000 | G33: 3000 | H33: =G33 -> 3000 | I33: =H33 -> 3000 | J33: =I33 -> 3000 | K33: =J33 -> 3000 | L33: =K33 -> 3000 | M33: =L33 -> 3000 | N33: =M33 -> 3000 | O33: =SUM(C33:N33) -> 36000
A34: Insurance | C34: 9000 | D34: 9000 | E34: 9000 | F34: 9000 | G34: 9000 | H34: 9000 | I34: 9000 | J34: 9000 | K34: 9000 | L34: 9000 | M34: 9000 | N34: 9000 | O34: =SUM(C34:N34) -> 108000
A35: Profesional Fees | C35: 5000 | D35: 5000 | E35: 5000 | F35: 5000 | G35: 5000 | H35: 5000 | I35: 5000 | J35: 5000 | K35: 5000 | L35: 5000 | M35: 5000 | N35: 5000 | O35: =SUM(C35:N35) -> 60000
A36: Indemnity | C36: =(C22*(15/12)/26) -> 15384.615 | D36: =(D22*(15/12)/26) -> 15384.615 | E36: =(E22*(15/12)/26) -> 15384.615 | F36: =(F22*(15/12)/26) -> 15384.615 | G36: =(G22*(15/12)/26) -> 15384.615 | H36: =(H22*(15/12)/26) -> 15384.615 | I36: =(I22*(15/12)/26) -> 15384.615 | J36: =(J22*(15/12)/26) -> 15384.615 | ... N36: =(N22*(15/12)/26) -> 15384.615 | O36: =SUM(C36:N36) -> 184615.38
A37: Leave | C37: =(C22*(30/12)/26) -> 30769.231 | D37: =(D22*(30/12)/26) -> 30769.231 | E37: =(E22*(30/12)/26) -> 30769.231 | F37: =(F22*(30/12)/26) -> 30769.231 | G37: =(G22*(30/12)/26) -> 30769.231 | H37: =(H22*(30/12)/26) -> 30769.231 | I37: =(I22*(30/12)/26) -> 30769.231 | J37: =(J22*(30/12)/26) -> 30769.231 | ... N37: =(N22*(30/12)/26) -> 30769.231 | O37: =SUM(C37:N37) -> 369230.77
A38: Telephone & Internet | C38: 1200 | D38: 1200 | E38: 1200 | F38: 1200 | G38: 1200 | H38: 1200 | I38: 1200 | J38: 1200 | K38: 1200 | L38: 1200 | M38: 1200 | N38: 1200 | O38: =SUM(C38:N38) -> 14400
A39: Travel | C39: 300000 | D39: 0 | E39: 0 | F39: 0 | G39: 0 | H39: 0 | I39: 0 | J39: 0 | K39: 300000 | L39: 0 | M39: 0 | N39: 0 | O39: =SUM(C39:N39) -> 600000
A40: Governmental Expenses | C40: 20000 | D40: 20000 | E40: 20000 | F40: 20000 | G40: 20000 | H40: 20000 | I40: 20000 | J40: 20000 | K40: 20000 | L40: 20000 | M40: 20000 | N40: 20000 | O40: =SUM(C40:N40) -> 240000
A41: Transportation | C41: 0 | D41: 0 | E41: 0 | F41: 0 | G41: 0 | H41: 0 | I41: 0 | J41: 0 | K41: 0 | L41: 0 | M41: 0 | N41: 0 | O41: =SUM(C41:N41) -> 0
A42: Staff Residences Expenses | C42: 4000 | D42: 4000 | E42: 4000 | F42: 4000 | G42: 4000 | H42: 4000 | I42: 4000 | J42: 4000 | K42: 4000 | L42: 4000 | M42: 4000 | N42: 4000 | O42: =SUM(C42:N42) -> 48000
A43: Bank Charges | C43: 20000 | D43: 20000 | E43: 20000 | F43: 20000 | G43: 20000 | H43: 20000 | I43: 20000 | J43: 20000 | K43: 20000 | L43: 20000 | M43: 20000 | N43: 20000 | O43: =SUM(C43:N43) -> 240000
A44: Finance (Interest) Charges | C44: 0 | D44: 0 | E44: 0 | F44: 0 | G44: 0 | H44: 0 | I44: 0 | J44: 0 | K44: 0 | L44: 0 | M44: 0 | N44: 0 | O44: =SUM(C44:N44) -> 0
...

Sheet Total
C1: Year - 1 | O1: Year - 2 | AA1: Year -3
C2: 44044 | D2: 44075 | E2: 44105 | F2: 44136 | G2: 44166 | H2: 44197 | I2: 44228 | J2: 44256 | K2: 44287 | L2: 44317 | M2: 44348 | N2: 44378 | O2: 44410 | P2: 44440 | Q2: 44470 | R2: 44501 | S2: 44531 | T2: 44562 | U2: 44593 | V2: 44621 | W2: 44652 | X2: 44682 | Y2: 44713 | Z2: 44743 | AA2: 44774 | AB2: 44805 | AC2: 44835 | AD2: 44866 | AE2: 44896 | AF2: 44927 | AG2: 44958 | AH2: 44986 | AI2: 45017 | AJ2: 45047 | AK2: 45078 | AL2: 45108 | AM2: Total
A3: Overall Budget
A4: 3-Years Budget Sheet | B4: KD
A5: Total No. of Booking - ELEMENTRY SCHOOL | B5: 5 | C5: 50 | D5: 50 | E5: 50 | F5: 50 | G5: 50 | H5: 50 | I5: 50 | J5: 50 | K5: 50 | L5: 50 | M5: 0 | N5: 0 | O5: 0 | P5: 1500 | Q5: 4500 | R5: 6500 | S5: 0 | T5: 0 | U5: 6500 | V5: 10000 | W5: 10000 | X5: 0 | Y5: 0 | Z5: 0 | AA5: 0 | AB5: 5000 | AC5: 7500 | AD5: 10000 | AE5: 0 | AF5: 0 | AG5: 7500 | AH5: 10000 | AI5: 10000 | AJ5: 0 | AK5: 0 | AL5: 0 | AM5: =SUM(C5:AL5) -> 89500 | AN5: =SUM(C5:N5) -> 500 | AO5: =SUM(O5:Z5) -> 39000 | AP5: =SUM(AA5:AL5) -> 50000
A6: Total No. of Booking - INTERMEDIATE SCHOOL | B6: 5 | C6: 50 | D6: 50 | E6: 50 | F6: 50 | G6: 50 | H6: 50 | I6: 50 | J6: 50 | K6: 50 | L6: 50 | M6: 0 | N6: 0 | O6: 0 | P6: 1500 | Q6: 4500 | R6: 6500 | S6: 0 | T6: 0 | U6: 6500 | V6: 10000 | W6: 10000 | X6: 0 | Y6: 0 | Z6: 0 | AA6: 0 | AB6: 5000 | AC6: 7500 | AD6: 10000 | AE6: 0 | AF6: 0 | AG6: 7500 | AH6: 10000 | AI6: 10000 | AJ6: 0 | AK6: 0 | AL6: 0 | AM6: =SUM(C6:AL6) -> 89500 | AN6: =SUM(C6:N6) -> 500 | AO6: =SUM(O6:Z6) -> 39000 | AP6: =SUM(AA6:AL6) -> 50000
A7: Total No. of Booking - SECONDARY SCHOOL | B7: 5 | C7: 50 | D7: 50 | E7: 50 | F7: 50 | G7: 50 | H7: 50 | I7: 50 | J7: 50 | K7: 50 | L7: 50 | M7: 0 | N7: 0 | O7: 0 | P7: 1500 | Q7: 4500 | R7: 6500 | S7: 0 | T7: 0 | U7: 6500 | V7: 10000 | W7: 10000 | X7: 0 | Y7: 0 | Z7: 0 | AA7: 0 | AB7: 5000 | AC7: 7500 | AD7: 10000 | AE7: 0 | AF7: 0 | AG7: 7500 | AH7: 10000 | AI7: 10000 | AJ7: 0 | AK7: 0 | AL7: 0 | AM7: =SUM(C7:AL7) -> 89500 | AN7: =SUM(C7:N7) -> 500 | AO7: =SUM(O7:Z7) -> 39000 | AP7: =SUM(AA7:AL7) -> 50000
A8: Totals No. of Booking | C8: =SUM(C5:C7) -> 150 | D8: =SUM(D5:D7) -> 150 | E8: =SUM(E5:E7) -> 150 | F8: =SUM(F5:F7) -> 150 | G8: =SUM(G5:G7) -> 150 | H8: =SUM(H5:H7) -> 150 | I8: =SUM(I5:I7) -> 150 | J8: =SUM(J5:J7) -> 150 | ... AM8: =SUM(AM5:AM7) -> 268500 | AN8: =SUM(C8:N8) -> 1500 | AO8: =SUM(O8:Z8) -> 117000 | AP8: =SUM(AA8:AL8) -> 150000
A9: 1- P&L | N9: =SUM(C8:N8) -> 1500
A10: From August 2020 to July 2023 ( 36 Months ) | C10: 1 | D10: 2 | E10: 3 | F10: 4 | G10: 5 | H10: 6 | I10: 7 | J10: 8 | K10: 9 | L10: 10 | M10: 11 | N10: 12 | O10: 13 | P10: 14 | Q10: 15 | R10: 16 | S10: 17 | T10: 18 | U10: 19 | V10: 20 | W10: 21 | X10: 22 | Y10: 23 | Z10: 24 | AA10: 25 | AB10: 26 | AC10: 27 | AD10: 28 | AE10: 29 | AF10: 30 | AG10: 31 | AH10: 32 | AI10: 33 | AJ10: 34 | AK10: 35 | AL10: 36
A13: Elementary ( Sales ) | C13: =C5*5 -> 250 | D13: =D5*5 -> 250 | E13: =E5*5 -> 250 | F13: =F5*5 -> 250 | G13: =G5*5 -> 250 | H13: =H5*5 -> 250 | I13: =I5*5 -> 250 | J13: =J5*5 -> 250 | ... AL13: =AL5*5 -> 0 | AM13: =SUM(C13:AL13) -> 447500 | AN13: =SUM(C13:N13) -> 2500 | AO13: =SUM(O13:Z13) -> 195000 | AP13: =SUM(AA13:AL13) -> 250000 | AQ13: =AN13+AO13+AP13-AM13 -> 0 | AS13: =AM13/AM16 -> 0.33333333 | AT13: =AP13+(AP13*20%) -> 300000 | AU13: =AT13+(AT13*20%) -> 360000
A14: Intermediate ( Sales ) | C14: =C6*5 -> 250 | D14: =D6*5 -> 250 | E14: =E6*5 -> 250 | F14: =F6*5 -> 250 | G14: =G6*5 -> 250 | H14: =H6*5 -> 250 | I14: =I6*5 -> 250 | J14: =J6*5 -> 250 | ... AL14: =AL6*5 -> 0 | AM14: =SUM(C14:AL14) -> 447500 | AN14: =SUM(C14:N14) -> 2500 | AO14: =SUM(O14:Z14) -> 195000 | AP14: =SUM(AA14:AL14) -> 250000 | AQ14: =AN14+AO14+AP14-AM14 -> 0 | AS14: =AM14/AM16 -> 0.33333333 | AT14: =AP14+(AP14*20%) -> 300000 | AU14: =AT14+(AT14*20%) -> 360000
