Workbook

Sheet Assumptions
A1: Study Assumptions
A2: Currency | B2: Dollar
A3: Annual Inflation | B3: 0.05 | C3: Years
A4: Discount Rate | B4: 0.18 | C4: Years
A5: Assumed Useful Life of Assets | B5: 5 | C5: سنوات
A6: Income Tax Rate | B6: 0.18 | C6: Income Tax Rate
A7: Sales Growth Rate | B7: 0.3 | C7: Years
A8: Salaries | B8: 29166 | C8: Monthly
A9: Office Rent | B9: 8333 | C9: Monthly
A10: Bills | B10: 0 | C10: Monthly
A11: Marketing and Advertising | B11: 8333 | C11: Monthly
A12: Other Expenses | B12: 0 | C12: Monthly
A13: Initial Fixed Assets | B13: 150000 | C13: Starting

Sheet Revenues and Expenses
A1: الشهر | B1: 1 | C1: 2 | D1: 3 | E1: 4 | F1: 5 | G1: 6 | H1: 7 | I1: 8 | J1: 9 | K1: 10 | L1: 11 | M1: 12 | N1: First Year | O1: Second Year | P1: Third Year | Q1: Fourth Year | R1: Fifth Year | S1: 5 Years
A2: Tier 1 Revenue | B2: =B5*B4 -> 0 | C2: =C5*C4 -> 0 | D2: =D5*D4 -> 0 | E2: =E5*E4 -> 0 | F2: =F5*F4 -> 0 | G2: =G5*G4 -> 0 | H2: =H5*H4 -> 0 | I2: =I5*I4 -> 0 | ... M2: =M5*M4 -> 24840 | N2: =SUM(B2:M2) -> 24840 | O2: =O5*O4 -> 406879.2 | P2: =P5*P4 -> 555390.11 | Q2: =Q5*Q4 -> 758107.5 | R2: =R5*R4 -> 1034816.7 | S2: =SUM(N2:R2) -> 2780033.5
A3: Cost of Package1 | B3: =B4*B6 -> 0 | C3: =C4*C6 -> 0 | D3: =D4*D6 -> 0 | E3: =E4*E6 -> 0 | F3: =F4*F6 -> 0 | G3: =G4*G6 -> 0 | H3: =H4*H6 -> 0 | I3: =I4*I6 -> 0 | ... M3: =M4*M6 -> 7920 | N3: =SUM(B3:M3) -> 7920 | O3: =O6*O4 -> 129729.6 | P3: =P6*P4 -> 177080.9 | Q3: =Q6*Q4 -> 241715.43 | R3: =R6*R4 -> 329941.57 | S3: =SUM(N3:R3) -> 886387.51
A4: Number of Units | B4: 0 | C4: 0 | D4: 0 | E4: 0 | F4: 0 | G4: 0 | H4: 0 | I4: 0 | J4: 0 | K4: 0 | L4: 0 | M4: 30 | N4: =SUM(B4:M4) -> 30 | O4: =M4*12*(Assumptions!$B$7+1) -> 468 | P4: =O4*(Assumptions!$B$7+1) -> 608.4 | Q4: =P4*(Assumptions!$B$7+1) -> 790.92 | R4: =Q4*(Assumptions!$B$7+1) -> 1028.196 | S4: =S2-S3 -> 1893646
A5: Retail Price | B5: 828 | C5: 828 | D5: 828 | E5: 828 | F5: 828 | G5: 828 | H5: 828 | I5: 828 | J5: 828 | K5: 828 | L5: 828 | M5: 828 | O5: =M5*(1+Assumptions!$B$3) -> 869.4 | P5: =O5*(1+Assumptions!$B$3) -> 912.87 | Q5: =P5*(1+Assumptions!$B$3) -> 958.5135 | R5: =Q5*(1+Assumptions!$B$3) -> 1006.4392
A6: Unit Cost | B6: 264 | C6: 264 | D6: 264 | E6: 264 | F6: 264 | G6: 264 | H6: 264 | I6: 264 | J6: 264 | K6: 264 | L6: 264 | M6: 264 | O6: =M6*(1+Assumptions!$B$3) -> 277.2 | P6: =O6*(1+Assumptions!$B$3) -> 291.06 | Q6: =P6*(1+Assumptions!$B$3) -> 305.613 | R6: =Q6*(1+Assumptions!$B$3) -> 320.89365
A8: Tier 2 Revenue | B8: =B11*B10 -> 0 | C8: =C11*C10 -> 0 | D8: =D11*D10 -> 0 | E8: =E11*E10 -> 0 | F8: =F11*F10 -> 0 | G8: =G11*G10 -> 0 | H8: =H11*H10 -> 0 | I8: =I11*I10 -> 0 | ... M8: =M11*M10 -> 37800 | N8: =SUM(B8:M8) -> 37800 | O8: =O11*O10 -> 619164 | P8: =P11*P10 -> 845158.86 | Q8: =Q11*Q10 -> 1153641.8 | R8: =R11*R10 -> 1574721.1 | S8: =SUM(N8:R8) -> 4230485.8
A9: Cost of Package2 | B9: =B10*B12 -> 0 | C9: =C10*C12 -> 0 | D9: =D10*D12 -> 0 | E9: =E10*E12 -> 0 | F9: =F10*F12 -> 0 | G9: =G10*G12 -> 0 | H9: =H10*H12 -> 0 | I9: =I10*I12 -> 0 | ... M9: =M10*M12 -> 13860 | N9: =SUM(B9:M9) -> 13860 | O9: =O12*O10 -> 227026.8 | P9: =P12*P10 -> 309891.58 | Q9: =Q12*Q10 -> 423002.01 | R9: =R12*R10 -> 577397.74 | S9: =SUM(N9:R9) -> 1551178.1
A10: Number of Units | B10: 0 | C10: 0 | D10: 0 | E10: 0 | F10: 0 | G10: 0 | H10: 0 | I10: 0 | J10: 0 | K10: 0 | L10: 0 | M10: 15 | N10: =SUM(B10:M10) -> 15 | O10: =M10*12*(Assumptions!$B$7+1) -> 234 | P10: =O10*(Assumptions!$B$7+1) -> 304.2 | Q10: =P10*(Assumptions!$B$7+1) -> 395.46 | R10: =Q10*(Assumptions!$B$7+1) -> 514.098
A11: Retail Price | B11: 2520 | C11: 2520 | D11: 2520 | E11: 2520 | F11: 2520 | G11: 2520 | H11: 2520 | I11: 2520 | J11: 2520 | K11: 2520 | L11: 2520 | M11: 2520 | O11: =M11*(1+Assumptions!$B$3) -> 2646 | P11: =O11*(1+Assumptions!$B$3) -> 2778.3 | Q11: =P11*(1+Assumptions!$B$3) -> 2917.215 | R11: =Q11*(1+Assumptions!$B$3) -> 3063.0757
A12: Unit Cost | B12: 924 | C12: 924 | D12: 924 | E12: 924 | F12: 924 | G12: 924 | H12: 924 | I12: 924 | J12: 924 | K12: 924 | L12: 924 | M12: 924 | O12: =M12*(1+Assumptions!$B$3) -> 970.2 | P12: =O12*(1+Assumptions!$B$3) -> 1018.71 | Q12: =P12*(1+Assumptions!$B$3) -> 1069.6455 | R12: =Q12*(1+Assumptions!$B$3) -> 1123.1278
A14: Tier 3 Revenue | B14: =B17*B16 -> 0 | C14: =C17*C16 -> 0 | D14: =D17*D16 -> 0 | E14: =E17*E16 -> 0 | F14: =F17*F16 -> 0 | G14: =G17*G16 -> 0 | H14: =H17*H16 -> 0 | I14: =I17*I16 -> 0 | ... M14: =M17*M16 -> 28650 | N14: =SUM(B14:M14) -> 28650 | O14: =O17*O16 -> 469287 | P14: =P17*P16 -> 640576.76 | Q14: =Q17*Q16 -> 874387.27 | R14: =R17*R16 -> 1193538.6 | S14: =SUM(N14:R14) -> 3206439.6
A15: Cost of Package3 | B15: =B16*B18 -> 0 | C15: =C16*C18 -> 0 | D15: =D16*D18 -> 0 | E15: =E16*E18 -> 0 | F15: =F16*F18 -> 0 | G15: =G16*G18 -> 0 | H15: =H16*H18 -> 0 | I15: =I16*I18 -> 0 | ... M15: =M16*M18 -> 13200 | N15: =SUM(B15:M15) -> 13200 | O15: =O18*O16 -> 216216 | P15: =P18*P16 -> 295134.84 | Q15: =Q18*Q16 -> 402859.06 | R15: =R18*R16 -> 549902.61 | S15: =SUM(N15:R15) -> 1477312.5
A16: Number of Units | M16: 5 | N16: =SUM(B16:M16) -> 5 | O16: =M16*12*(Assumptions!$B$7+1) -> 78 | P16: =O16*(Assumptions!$B$7+1) -> 101.4 | Q16: =P16*(Assumptions!$B$7+1) -> 131.82 | R16: =Q16*(Assumptions!$B$7+1) -> 171.366
A17: Retail Price | M17: 5730 | O17: =M17*(1+Assumptions!$B$3) -> 6016.5 | P17: =O17*(1+Assumptions!$B$3) -> 6317.325 | Q17: =P17*(1+Assumptions!$B$3) -> 6633.1912 | R17: =Q17*(1+Assumptions!$B$3) -> 6964.8508
A18: Unit Cost | M18: 2640 | O18: =M18*(1+Assumptions!$B$3) -> 2772 | P18: =O18*(1+Assumptions!$B$3) -> 2910.6 | Q18: =P18*(1+Assumptions!$B$3) -> 3056.13 | R18: =Q18*(1+Assumptions!$B$3) -> 3208.9365
A20: Tier 4 Revenue | B20: =B23*B22 -> 0 | C20: =C23*C22 -> 0 | D20: =D23*D22 -> 0 | E20: =E23*E22 -> 0 | F20: =F23*F22 -> 0 | G20: =G23*G22 -> 0 | H20: =H23*H22 -> 0 | I20: =I23*I22 -> 0 | ... M20: =M23*M22 -> 29900 | N20: =SUM(B20:M20) -> 29900 | O20: =O23*O22 -> 489762 | P20: =P23*P22 -> 668525.13 | Q20: =Q23*Q22 -> 912536.8 | R20: =R23*R22 -> 1245612.7 | S20: =SUM(N20:R20) -> 3346336.7
A21: Cost of Package 4 | B21: =B22*B24 -> 0 | C21: =C22*C24 -> 0 | D21: =D22*D24 -> 0 | E21: =E22*E24 -> 0 | F21: =F22*F24 -> 0 | G21: =G22*G24 -> 0 | H21: =H22*H24 -> 0 | I21: =I22*I24 -> 0 | ... M21: =M22*M24 -> 8000 | N21: =SUM(B21:M21) -> 8000 | O21: =O24*O22 -> 131040 | P21: =P24*P22 -> 178869.6 | Q21: =Q24*Q22 -> 244157 | R21: =R24*R22 -> 333274.31 | S21: =SUM(N21:R21) -> 895340.91
A22: Number of Units | M22: 100 | N22: =SUM(B22:M22) -> 100 | O22: =M22*12*(Assumptions!$B$7+1) -> 1560 | P22: =O22*(Assumptions!$B$7+1) -> 2028 | Q22: =P22*(Assumptions!$B$7+1) -> 2636.4 | R22: =Q22*(Assumptions!$B$7+1) -> 3427.32
A23: Retail Price | M23: 299 | O23: =M23*(1+Assumptions!$B$3) -> 313.95 | P23: =O23*(1+Assumptions!$B$3) -> 329.6475 | Q23: =P23*(1+Assumptions!$B$3) -> 346.12988 | R23: =Q23*(1+Assumptions!$B$3) -> 363.43637
A24: Unit Cost | M24: 80 | O24: =M24*(1+Assumptions!$B$3) -> 84 | P24: =O24*(1+Assumptions!$B$3) -> 88.2 | Q24: =P24*(1+Assumptions!$B$3) -> 92.61 | R24: =Q24*(1+Assumptions!$B$3) -> 97.2405
A26: Smart Desk Revenue | B26: =B29*B28 -> 0 | C26: =C29*C28 -> 0 | D26: =D29*D28 -> 0 | E26: =E29*E28 -> 0 | F26: =F29*F28 -> 0 | G26: =G29*G28 -> 0 | H26: =H29*H28 -> 0 | I26: =I29*I28 -> 0 | ... M26: =M29*M28 -> 500000 | N26: =SUM(B26:M26) -> 500000 | O26: =O29*O28 -> 8190000 | P26: =P29*P28 -> 11179350 | Q26: =Q29*Q28 -> 15259813 | R26: =R29*R28 -> 20829644 | S26: =SUM(N26:R26) -> 55958807
A27: Hardware Costs | B27: =B28*B30 -> 0 | C27: =C28*C30 -> 0 | D27: =D28*D30 -> 0 | E27: =E28*E30 -> 0 | F27: =F28*F30 -> 0 | G27: =G28*G30 -> 0 | H27: =H28*H30 -> 0 | I27: =I28*I30 -> 0 | ... M27: =M28*M30 -> 165000 | N27: =SUM(B27:M27) -> 165000 | O27: =O30*O28 -> 2702700 | P27: =P30*P28 -> 3689185.5 | Q27: =Q30*Q28 -> 5035738.2 | R27: =R30*R28 -> 6873782.7 | S27: =SUM(N27:R27) -> 18466406
A28: Number of Units | M28: 1000 | N28: =SUM(B28:M28) -> 1000 | O28: =M28*12*(Assumptions!$B$7+1) -> 15600 | P28: =O28*(Assumptions!$B$7+1) -> 20280 | Q28: =P28*(Assumptions!$B$7+1) -> 26364 | R28: =Q28*(Assumptions!$B$7+1) -> 34273.2
A29: Retail Price | M29: 500 | O29: =M29*(1+Assumptions!$B$3) -> 525 | P29: =O29*(1+Assumptions!$B$3) -> 551.25 | Q29: =P29*(1+Assumptions!$B$3) -> 578.8125 | R29: =Q29*(1+Assumptions!$B$3) -> 607.75312
A30: Unit Cost | M30: 165 | O30: =M30*(1+Assumptions!$B$3) -> 173.25 | P30: =O30*(1+Assumptions!$B$3) -> 181.9125 | Q30: =P30*(1+Assumptions!$B$3) -> 191.00813 | R30: =Q30*(1+Assumptions!$B$3) -> 200.55853
A32: 0 | B32: =B35*B34 -> 0 | C32: =C35*C34 -> 0 | D32: =D35*D34 -> 0 | E32: =E35*E34 -> 0 | F32: =F35*F34 -> 0 | G32: =G35*G34 -> 0 | H32: =H35*H34 -> 0 | I32: =I35*I34 -> 0 | ... M32: =M35*M34 -> 0 | N32: =SUM(B32:M32) -> 0 | O32: =O35*O34 -> 0 | P32: =P35*P34 -> 0 | Q32: =Q35*Q34 -> 0 | R32: =R35*R34 -> 0 | S32: =SUM(N32:R32) -> 0
A33: =-A34 -> 0 | B33: =B34*B36 -> 0 | C33: =C34*C36 -> 0 | D33: =D34*D36 -> 0 | E33: =E34*E36 -> 0 | F33: =F34*F36 -> 0 | G33: =G34*G36 -> 0 | H33: =H34*H36 -> 0 | I33: =I34*I36 -> 0 | ... M33: =M34*M36 -> 0 | N33: =SUM(B33:M33) -> 0 | O33: =O36*O34 -> 0 | P33: =P36*P34 -> 0 | Q33: =Q36*Q34 -> 0 | R33: =R36*R34 -> 0 | S33: =SUM(N33:R33) -> 0
A34: =A43 -> 0 | N34: =SUM(B34:M34) -> 0 | O34: =M34*12*(Assumptions!$B$7+1) -> 0 | P34: =O34*(Assumptions!$B$7+1) -> 0 | Q34: =P34*(Assumptions!$B$7+1) -> 0 | R34: =Q34*(Assumptions!$B$7+1) -> 0
A35: 0 | O35: =M35*(1+Assumptions!$B$3) -> 0 | P35: =O35*(1+Assumptions!$B$3) -> 0 | Q35: =P35*(1+Assumptions!$B$3) -> 0 | R35: =Q35*(1+Assumptions!$B$3) -> 0
A36: 0 | O36: =M36*(1+Assumptions!$B$3) -> 0 | P36: =O36*(1+Assumptions!$B$3) -> 0 | Q36: =P36*(1+Assumptions!$B$3) -> 0 | R36: =Q36*(1+Assumptions!$B$3) -> 0
A38: 0 | B38: =B41*B40 -> 0 | C38: =C41*C40 -> 0 | D38: =D41*D40 -> 0 | E38: =E41*E40 -> 0 | F38: =F41*F40 -> 0 | G38: =G41*G40 -> 0 | H38: =H41*H40 -> 0 | I38: =I41*I40 -> 0 | ... M38: =M41*M40 -> 0 | N38: =SUM(B38:M38) -> 0 | O38: =O41*O40 -> 0 | P38: =P41*P40 -> 0 | Q38: =Q41*Q40 -> 0 | R38: =R41*R40 -> 0 | S38: =SUM(N38:R38) -> 0
A39: 0 | B39: =B40*B42 -> 0 | C39: =C40*C42 -> 0 | D39: =D40*D42 -> 0 | E39: =E40*E42 -> 0 | F39: =F40*F42 -> 0 | G39: =G40*G42 -> 0 | H39: =H40*H42 -> 0 | I39: =I40*I42 -> 0 | ... M39: =M40*M42 -> 0 | N39: =SUM(B39:M39) -> 0 | O39: =O42*O40 -> 0 | P39: =P42*P40 -> 0 | Q39: =Q42*Q40 -> 0 | R39: =R42*R40 -> 0 | S39: =SUM(N39:R39) -> 0
A40: 0 | N40: =SUM(B40:M40) -> 0 | O40: =M40*12*(Assumptions!$B$7+1) -> 0 | P40: =O40*(Assumptions!$B$7+1) -> 0 | Q40: =P40*(Assumptions!$B$7+1) -> 0 | R40: =Q40*(Assumptions!$B$7+1) -> 0
A41: 0 | O41: =M41*(1+Assumptions!$B$3) -> 0 | P41: =O41*(1+Assumptions!$B$3) -> 0 | Q41: =P41*(1+Assumptions!$B$3) -> 0 | R41: =Q41*(1+Assumptions!$B$3) -> 0
A42: 0 | O42: =M42*(1+Assumptions!$B$3) -> 0 | P42: =O42*(1+Assumptions!$B$3) -> 0 | Q42: =P42*(1+Assumptions!$B$3) -> 0 | R42: =Q42*(1+Assumptions!$B$3) -> 0
A44: 0 | B44: =B47*B46 -> 0 | C44: =C47*C46 -> 0 | D44: =D47*D46 -> 0 | E44: =E47*E46 -> 0 | F44: =F47*F46 -> 0 | G44: =G47*G46 -> 0 | H44: =H47*H46 -> 0 | I44: =I47*I46 -> 0 | ... M44: =M47*M46 -> 0 | N44: =SUM(B44:M44) -> 0 | O44: =O47*O46 -> 0 | P44: =P47*P46 -> 0 | Q44: =Q47*Q46 -> 0 | R44: =R47*R46 -> 0 | S44: =SUM(N44:R44) -> 0
A45: 0 | B45: =B46*B48 -> 0 | C45: =C46*C48 -> 0 | D45: =D46*D48 -> 0 | E45: =E46*E48 -> 0 | F45: =F46*F48 -> 0 | G45: =G46*G48 -> 0 | H45: =H46*H48 -> 0 | I45: =I46*I48 -> 0 | ... M45: =M46*M48 -> 0 | N45: =SUM(B45:M45) -> 0 | O45: =O48*O46 -> 0 | P45: =P48*P46 -> 0 | Q45: =Q48*Q46 -> 0 | R45: =R48*R46 -> 0 | S45: =SUM(N45:R45) -> 0
A46: 0 | N46: =SUM(B46:M46) -> 0 | O46: =M46*12*(Assumptions!$B$7+1) -> 0 | P46: =O46*(Assumptions!$B$7+1) -> 0 | Q46: =P46*(Assumptions!$B$7+1) -> 0 | R46: =Q46*(Assumptions!$B$7+1) -> 0
A47: 0 | O47: =M47*(1+Assumptions!$B$3) -> 0 | P47: =O47*(1+Assumptions!$B$3) -> 0 | Q47: =P47*(1+Assumptions!$B$3) -> 0 | R47: =Q47*(1+Assumptions!$B$3) -> 0
...

Sheet Profit and Loss (P&L) Statement
A1: Month | B1: 1 | C1: 2 | D1: 3 | E1: 4 | F1: 5 | G1: 6 | H1: 7 | I1: 8 | J1: 9 | K1: 10 | L1: 11 | M1: 12 | N1: First Year | O1: Second Year | P1: Third Year | Q1: Fourth Year | R1: Fifth Year | S1: 5 Years | T1: %
A2: Income | B2: ='Revenues and Expenses'!B62 -> 0 | C2: ='Revenues and Expenses'!C62 -> 0 | D2: ='Revenues and Expenses'!D62 -> 0 | E2: ='Revenues and Expenses'!E62 -> 0 | F2: ='Revenues and Expenses'!F62 -> 0 | G2: ='Revenues and Expenses'!G62 -> 0 | H2: ='Revenues and Expenses'!H62 -> 0 | I2: ='Revenues and Expenses'!I62 -> 0 | ... S2: ='Revenues and Expenses'!S62 -> 69522103
A3: Direct Costs | B3: ='Revenues and Expenses'!B63 -> 0 | C3: ='Revenues and Expenses'!C63 -> 0 | D3: ='Revenues and Expenses'!D63 -> 0 | E3: ='Revenues and Expenses'!E63 -> 0 | F3: ='Revenues and Expenses'!F63 -> 0 | G3: ='Revenues and Expenses'!G63 -> 0 | H3: ='Revenues and Expenses'!H63 -> 0 | I3: ='Revenues and Expenses'!I63 -> 0 | ... S3: ='Revenues and Expenses'!S63 -> 23276625
A4: Gross Profit | B4: ='Revenues and Expenses'!B64 -> 0 | C4: ='Revenues and Expenses'!C64 -> 0 | D4: ='Revenues and Expenses'!D64 -> 0 | E4: ='Revenues and Expenses'!E64 -> 0 | F4: ='Revenues and Expenses'!F64 -> 0 | G4: ='Revenues and Expenses'!G64 -> 0 | H4: ='Revenues and Expenses'!H64 -> 0 | I4: ='Revenues and Expenses'!I64 -> 0 | ... S4: ='Revenues and Expenses'!S64 -> 46245477 | T4: =S4/S2 -> 0.665191
A5: Salaries | B5: =Assumptions!$B$8 -> 29166 | C5: =Assumptions!$B$8 -> 29166 | D5: =Assumptions!$B$8 -> 29166 | E5: =Assumptions!$B$8 -> 29166 | F5: =Assumptions!$B$8 -> 29166 | G5: =Assumptions!$B$8 -> 29166 | H5: =Assumptions!$B$8 -> 29166 | I5: =Assumptions!$B$8 -> 29166 | ... M5: =Assumptions!$B$8 -> 29166 | N5: =SUM(B5:M5) -> 349992 | O5: =M5*12*(1+Assumptions!$B$3) -> 367491.6 | P5: =O5*(1+Assumptions!$B$3) -> 385866.18 | Q5: =P5*(1+Assumptions!$B$3) -> 405159.49 | R5: =Q5*(1+Assumptions!$B$3) -> 425417.46 | S5: =SUM(N5:R5) -> 1933926.7
A6: Office Rent | B6: =Assumptions!$B$9 -> 8333 | C6: =Assumptions!$B$9 -> 8333 | D6: =Assumptions!$B$9 -> 8333 | E6: =Assumptions!$B$9 -> 8333 | F6: =Assumptions!$B$9 -> 8333 | G6: =Assumptions!$B$9 -> 8333 | H6: =Assumptions!$B$9 -> 8333 | I6: =Assumptions!$B$9 -> 8333 | ... M6: =Assumptions!$B$9 -> 8333 | N6: =SUM(B6:M6) -> 99996 | O6: =M6*12*(1+Assumptions!$B$3) -> 104995.8 | P6: =O6*(1+Assumptions!$B$3) -> 110245.59 | Q6: =P6*(1+Assumptions!$B$3) -> 115757.87 | R6: =Q6*(1+Assumptions!$B$3) -> 121545.76 | S6: =SUM(N6:R6) -> 552541.02
A7: Bills | B7: =Assumptions!$B$10 -> 0 | C7: =Assumptions!$B$10 -> 0 | D7: =Assumptions!$B$10 -> 0 | E7: =Assumptions!$B$10 -> 0 | F7: =Assumptions!$B$10 -> 0 | G7: =Assumptions!$B$10 -> 0 | H7: =Assumptions!$B$10 -> 0 | I7: =Assumptions!$B$10 -> 0 | ... M7: =Assumptions!$B$10 -> 0 | N7: =SUM(B7:M7) -> 0 | O7: =M7*12*(1+Assumptions!$B$3) -> 0 | P7: =O7*(1+Assumptions!$B$3) -> 0 | Q7: =P7*(1+Assumptions!$B$3) -> 0 | R7: =Q7*(1+Assumptions!$B$3) -> 0 | S7: =SUM(N7:R7) -> 0
A8: Marketing and Advertising | B8: =Assumptions!$B$11 -> 8333 | C8: =Assumptions!$B$11 -> 8333 | D8: =Assumptions!$B$11 -> 8333 | E8: =Assumptions!$B$11 -> 8333 | F8: =Assumptions!$B$11 -> 8333 | G8: =Assumptions!$B$11 -> 8333 | H8: =Assumptions!$B$11 -> 8333 | I8: =Assumptions!$B$11 -> 8333 | ... M8: =Assumptions!$B$11 -> 8333 | N8: =SUM(B8:M8) -> 99996 | O8: =M8*12*(1+Assumptions!$B$3) -> 104995.8 | P8: =O8*(1+Assumptions!$B$3) -> 110245.59 | Q8: =P8*(1+Assumptions!$B$3) -> 115757.87 | R8: =Q8*(1+Assumptions!$B$3) -> 121545.76 | S8: =SUM(N8:R8) -> 552541.02
A9: Equipment Depreciation | B9: =Assumptions!$B$13/12/Assumptions!$B$5 -> 2500 | C9: =Assumptions!$B$13/12/Assumptions!$B$5 -> 2500 | D9: =Assumptions!$B$13/12/Assumptions!$B$5 -> 2500 | E9: =Assumptions!$B$13/12/Assumptions!$B$5 -> 2500 | F9: =Assumptions!$B$13/12/Assumptions!$B$5 -> 2500 | G9: =Assumptions!$B$13/12/Assumptions!$B$5 -> 2500 | H9: =Assumptions!$B$13/12/Assumptions!$B$5 -> 2500 | I9: =Assumptions!$B$13/12/Assumptions!$B$5 -> 2500 | ... M9: =Assumptions!$B$13/12/Assumptions!$B$5 -> 2500 | N9: =SUM(B9:M9) -> 30000 | O9: =Assumptions!$B$13/5 -> 30000 | P9: =Assumptions!$B$13/5 -> 30000 | Q9: =Assumptions!$B$13/5 -> 30000 | R9: =Assumptions!$B$13/5 -> 30000 | S9: =SUM(N9:R9) -> 150000
A10: Other Expenses | B10: =Assumptions!$B$12 -> 0 | C10: =Assumptions!$B$12 -> 0 | D10: =Assumptions!$B$12 -> 0 | E10: =Assumptions!$B$12 -> 0 | F10: =Assumptions!$B$12 -> 0 | G10: =Assumptions!$B$12 -> 0 | H10: =Assumptions!$B$12 -> 0 | I10: =Assumptions!$B$12 -> 0 | ... M10: =Assumptions!$B$12 -> 0 | N10: =SUM(B10:M10) -> 0 | O10: =M10*12*(1+Assumptions!$B$3) -> 0 | P10: =O10*(1+Assumptions!$B$3) -> 0 | Q10: =P10*(1+Assumptions!$B$3) -> 0 | R10: =Q10*(1+Assumptions!$B$3) -> 0 | S10: =SUM(N10:R10) -> 0
A11: Total Operating Expenses | B11: =SUM(B5:B10) -> 48332 | C11: =SUM(C5:C10) -> 48332 | D11: =SUM(D5:D10) -> 48332 | E11: =SUM(E5:E10) -> 48332 | F11: =SUM(F5:F10) -> 48332 | G11: =SUM(G5:G10) -> 48332 | H11: =SUM(H5:H10) -> 48332 | I11: =SUM(I5:I10) -> 48332 | ... M11: =SUM(M5:M10) -> 48332 | N11: =SUM(B11:M11) -> 579984 | O11: =SUM(O5:O10) -> 607483.2 | P11: =SUM(P5:P10) -> 636357.36 | Q11: =SUM(Q5:Q10) -> 666675.23 | R11: =SUM(R5:R10) -> 698508.99 | S11: =SUM(N11:R11) -> 3189008.8
A12: Net Profit Before Tax (NPBT | B12: =B4-B11 -> -48332 | C12: =C4-C11 -> -48332 | D12: =D4-D11 -> -48332 | E12: =E4-E11 -> -48332 | F12: =F4-F11 -> -48332 | G12: =G4-G11 -> -48332 | H12: =H4-H11 -> -48332 | I12: =I4-I11 -> -48332 | ... M12: =M4-M11 -> 364878 | N12: =SUM(B12:M12) -> -166774 | O12: =O4-O11 -> 6160896.6 | P12: =P4-P11 -> 8602481.1 | Q12: =Q4-Q11 -> 11944339 | R12: =R4-R11 -> 16515526 | S12: =S4-S11 -> 43056469
A13: Tax | B13: =B12*Assumptions!$B$6 -> -8699.76 | C13: =C12*Assumptions!$B$6 -> -8699.76 | D13: =D12*Assumptions!$B$6 -> -8699.76 | E13: =E12*Assumptions!$B$6 -> -8699.76 | F13: =F12*Assumptions!$B$6 -> -8699.76 | G13: =G12*Assumptions!$B$6 -> -8699.76 | H13: =H12*Assumptions!$B$6 -> -8699.76 | I13: =I12*Assumptions!$B$6 -> -8699.76 | ... M13: =M12*Assumptions!$B$6 -> 65678.04 | N13: =SUM(B13:M13) -> -30019.32 | O13: =O12*Assumptions!$B$6 -> 1108961.4 | P13: =P12*Assumptions!$B$6 -> 1548446.6 | Q13: =Q12*Assumptions!$B$6 -> 2149981.1 | R13: =R12*Assumptions!$B$6 -> 2972794.6 | S13: =SUM(N13:R13) -> 7750164.4
A14: Net Profit | B14: =B12-B13 -> -39632.24 | C14: =C12-C13 -> -39632.24 | D14: =D12-D13 -> -39632.24 | E14: =E12-E13 -> -39632.24 | F14: =F12-F13 -> -39632.24 | G14: =G12-G13 -> -39632.24 | H14: =H12-H13 -> -39632.24 | I14: =I12-I13 -> -39632.24 | ... M14: =M12-M13 -> 299199.96 | N14: =SUM(B14:M14) -> -136754.68 | O14: =O12-O13 -> 5051935.2 | P14: =P12-P13 -> 7054034.5 | Q14: =Q12-Q13 -> 9794358.2 | R14: =R12-R13 -> 13542731 | S14: =S12-S13 -> 35306304 | T14: =S14/S2 -> 0.50784287
A15: Cumulative Net Profit | B15: =B14 -> -39632.24 | C15: =B15+C14 -> -79264.48 | D15: =C15+D14 -> -118896.72 | E15: =D15+E14 -> -158528.96 | F15: =E15+F14 -> -198161.2 | G15: =F15+G14 -> -237793.44 | H15: =G15+H14 -> -277425.68 | I15: =H15+I14 -> -317057.92 | J15: =I15+J14 -> -356690.16 | ... M15: =L15+M14 -> -136754.68 | N15: =M15 -> -136754.68 | O15: =N15+O14 -> 4915180.5 | P15: =O15+P14 -> 11969215 | Q15: =P15+Q14 -> 21763573 | R15: =Q15+R14 -> 35306304
A16: Discounted Net Profit | N16: =N14/(1+Assumptions!$B$4) -> -115893.8 | O16: =O14/((1+Assumptions!$B$4)*(1+Assumptions!$B$4)) -> 3628221.2 | P16: =P14/((1+Assumptions!$B$4)*(1+Assumptions!$B$4)*(1+Assumptions!$B$4)) -> 4293303.2 | Q16: =Q14/((1+Assumptions!$B$4)*(1+Assumptions!$B$4)*(1+Assumptions!$B$4)*(1+Assumptions!$B$4)) -> 5051821 | R16: =R14/((1+Assumptions!$B$4)*(1+Assumptions!$B$4)*(1+Assumptions!$B$4)*(1+Assumptions!$B$4)*(1+Assumptions!$B$4)) -> 5919652.6 | S16: =SUM(N16:R16) -> 18777104 | T16: =S16/S2 -> 0.27008826
A18: Return on Sales % | N18: =N16/N2 -> -0.18656739 | O18: =O16/O2 -> 0.35657871 | P18: =P16/P2 -> 0.30911534 | Q18: =Q16/Q2 -> 0.26646753 | R18: =R16/R2 -> 0.22874937 | S18: =S16/S2 -> 0.27008826
A19: Annual Return on Investment %ROI% | N19: =N16/'Cash Flow Statement'!$B$13 -> -0.16556257 | O19: =O16/'Cash Flow Statement'!$B$13 -> 5.1831732 | P19: =P16/'Cash Flow Statement'!$B$13 -> 6.1332902 | Q19: =Q16/'Cash Flow Statement'!$B$13 -> 7.2168871 | R19: =R16/'Cash Flow Statement'!$B$13 -> 8.4566465 | S19: =S16/'Cash Flow Statement'!$B$13 -> 26.824434
A20: Break-Even Point | B20: =B11/(B4/B2) -> #DIV/0! | C20: =C11/(C4/C2) -> #DIV/0! | D20: =D11/(D4/D2) -> #DIV/0! | E20: =E11/(E4/E2) -> #DIV/0! | F20: =F11/(F4/F2) -> #DIV/0! | G20: =G11/(G4/G2) -> #DIV/0! | H20: =H11/(H4/H2) -> #DIV/0! | I20: =I11/(I4/I2) -> #DIV/0! | ... S20: =S11/(S4/S2) -> 4794124.9
A21: Payback Period | B21: 20 | C21: Months
A22: Required Capital | B22: 700000 | C22: Dollar

Sheet Cash Flow Statement
A1: Month | B1: 1 | C1: 2 | D1: 3 | E1: 4 | F1: 5 | G1: 6 | H1: 7 | I1: 8 | J1: 9 | K1: 10 | L1: 11 | M1: 12 | N1: Year2 | O1: Year3 | P1: Year4 | Q1: Year5
A2: Net Cash Flow from Operating Activities | B2: =B3-SUM(B4:B10) -> -45832 | C2: =C3-SUM(C4:C10) -> -45832 | D2: =D3-SUM(D4:D10) -> -45832 | E2: =E3-SUM(E4:E10) -> -45832 | F2: =F3-SUM(F4:F10) -> -45832 | G2: =G3-SUM(G4:G10) -> -45832 | H2: =H3-SUM(H4:H10) -> -45832 | I2: =I3-SUM(I4:I10) -> -45832 | ... Q2: =Q3-SUM(Q4:Q10) -> 13572731
A3: Cash Receipts | B3: 0 | C3: ='Profit and Loss (P&L) Statement'!B2 -> 0 | D3: ='Profit and Loss (P&L) Statement'!C2 -> 0 | E3: ='Profit and Loss (P&L) Statement'!D2 -> 0 | F3: ='Profit and Loss (P&L) Statement'!E2 -> 0 | G3: ='Profit and Loss (P&L) Statement'!F2 -> 0 | H3: ='Profit and Loss (P&L) Statement'!G2 -> 0 | I3: ='Profit and Loss (P&L) Statement'!H2 -> 0 | J3: ='Profit and Loss (P&L) Statement'!I2 -> 0 | ... M3: ='Profit and Loss (P&L) Statement'!L2 -> 0 | N3: ='Profit and Loss (P&L) Statement'!O2 -> 10175092 | O3: ='Profit and Loss (P&L) Statement'!P2 -> 13889001 | P3: ='Profit and Loss (P&L) Statement'!Q2 -> 18958486 | Q3: ='Profit and Loss (P&L) Statement'!R2 -> 25878334
A4: Offerings | B4: ='Profit and Loss (P&L) Statement'!B3 -> 0 | C4: ='Profit and Loss (P&L) Statement'!C3 -> 0 | D4: ='Profit and Loss (P&L) Statement'!D3 -> 0 | E4: ='Profit and Loss (P&L) Statement'!E3 -> 0 | F4: ='Profit and Loss (P&L) Statement'!F3 -> 0 | G4: ='Profit and Loss (P&L) Statement'!G3 -> 0 | H4: ='Profit and Loss (P&L) Statement'!H3 -> 0 | I4: ='Profit and Loss (P&L) Statement'!I3 -> 0 | ... M4: ='Profit and Loss (P&L) Statement'!M3 -> 207980 | N4: ='Profit and Loss (P&L) Statement'!O3 -> 3406712.4 | O4: ='Profit and Loss (P&L) Statement'!P3 -> 4650162.4 | P4: ='Profit and Loss (P&L) Statement'!Q3 -> 6347471.7 | Q4: ='Profit and Loss (P&L) Statement'!R3 -> 8664298.9
A5: Payroll | B5: ='Profit and Loss (P&L) Statement'!B5 -> 29166 | C5: ='Profit and Loss (P&L) Statement'!C5 -> 29166 | D5: ='Profit and Loss (P&L) Statement'!D5 -> 29166 | E5: ='Profit and Loss (P&L) Statement'!E5 -> 29166 | F5: ='Profit and Loss (P&L) Statement'!F5 -> 29166 | G5: ='Profit and Loss (P&L) Statement'!G5 -> 29166 | H5: ='Profit and Loss (P&L) Statement'!H5 -> 29166 | I5: ='Profit and Loss (P&L) Statement'!I5 -> 29166 | ... M5: ='Profit and Loss (P&L) Statement'!M5 -> 29166 | N5: ='Profit and Loss (P&L) Statement'!O5 -> 367491.6 | O5: ='Profit and Loss (P&L) Statement'!P5 -> 385866.18 | P5: ='Profit and Loss (P&L) Statement'!Q5 -> 405159.49 | Q5: ='Profit and Loss (P&L) Statement'!R5 -> 425417.46
A6: Office Rent | B6: ='Profit and Loss (P&L) Statement'!B6 -> 8333 | C6: ='Profit and Loss (P&L) Statement'!C6 -> 8333 | D6: ='Profit and Loss (P&L) Statement'!D6 -> 8333 | E6: ='Profit and Loss (P&L) Statement'!E6 -> 8333 | F6: ='Profit and Loss (P&L) Statement'!F6 -> 8333 | G6: ='Profit and Loss (P&L) Statement'!G6 -> 8333 | H6: ='Profit and Loss (P&L) Statement'!H6 -> 8333 | I6: ='Profit and Loss (P&L) Statement'!I6 -> 8333 | ... M6: ='Profit and Loss (P&L) Statement'!M6 -> 8333 | N6: ='Profit and Loss (P&L) Statement'!O6 -> 104995.8 | O6: ='Profit and Loss (P&L) Statement'!P6 -> 110245.59 | P6: ='Profit and Loss (P&L) Statement'!Q6 -> 115757.87 | Q6: ='Profit and Loss (P&L) Statement'!R6 -> 121545.76
A7: Bills | B7: ='Profit and Loss (P&L) Statement'!B7 -> 0 | C7: ='Profit and Loss (P&L) Statement'!C7 -> 0 | D7: ='Profit and Loss (P&L) Statement'!D7 -> 0 | E7: ='Profit and Loss (P&L) Statement'!E7 -> 0 | F7: ='Profit and Loss (P&L) Statement'!F7 -> 0 | G7: ='Profit and Loss (P&L) Statement'!G7 -> 0 | H7: ='Profit and Loss (P&L) Statement'!H7 -> 0 | I7: ='Profit and Loss (P&L) Statement'!I7 -> 0 | ... M7: ='Profit and Loss (P&L) Statement'!M7 -> 0 | N7: ='Profit and Loss (P&L) Statement'!O7 -> 0 | O7: ='Profit and Loss (P&L) Statement'!P7 -> 0 | P7: ='Profit and Loss (P&L) Statement'!Q7 -> 0 | Q7: ='Profit and Loss (P&L) Statement'!R7 -> 0
A8: Marketing and Advertising | B8: ='Profit and Loss (P&L) Statement'!B8 -> 8333 | C8: ='Profit and Loss (P&L) Statement'!C8 -> 8333 | D8: ='Profit and Loss (P&L) Statement'!D8 -> 8333 | E8: ='Profit and Loss (P&L) Statement'!E8 -> 8333 | F8: ='Profit and Loss (P&L) Statement'!F8 -> 8333 | G8: ='Profit and Loss (P&L) Statement'!G8 -> 8333 | H8: ='Profit and Loss (P&L) Statement'!H8 -> 8333 | I8: ='Profit and Loss (P&L) Statement'!I8 -> 8333 | ... M8: ='Profit and Loss (P&L) Statement'!M8 -> 8333 | N8: ='Profit and Loss (P&L) Statement'!O8 -> 104995.8 | O8: ='Profit and Loss (P&L) Statement'!P8 -> 110245.59 | P8: ='Profit and Loss (P&L) Statement'!Q8 -> 115757.87 | Q8: ='Profit and Loss (P&L) Statement'!R8 -> 121545.76
A9: Other Expenses | B9: ='Profit and Loss (P&L) Statement'!B10 -> 0 | C9: ='Profit and Loss (P&L) Statement'!C10 -> 0 | D9: ='Profit and Loss (P&L) Statement'!D10 -> 0 | E9: ='Profit and Loss (P&L) Statement'!E10 -> 0 | F9: ='Profit and Loss (P&L) Statement'!F10 -> 0 | G9: ='Profit and Loss (P&L) Statement'!G10 -> 0 | H9: ='Profit and Loss (P&L) Statement'!H10 -> 0 | I9: ='Profit and Loss (P&L) Statement'!I10 -> 0 | ... M9: ='Profit and Loss (P&L) Statement'!M10 -> 0 | N9: ='Profit and Loss (P&L) Statement'!O10 -> 0 | O9: ='Profit and Loss (P&L) Statement'!P10 -> 0 | P9: ='Profit and Loss (P&L) Statement'!Q10 -> 0 | Q9: ='Profit and Loss (P&L) Statement'!R10 -> 0
A10: Tax | M10: ='Profit and Loss (P&L) Statement'!N13 -> -30019.32 | N10: ='Profit and Loss (P&L) Statement'!O13 -> 1108961.4 | O10: ='Profit and Loss (P&L) Statement'!P13 -> 1548446.6 | P10: ='Profit and Loss (P&L) Statement'!Q13 -> 2149981.1 | Q10: ='Profit and Loss (P&L) Statement'!R13 -> 2972794.6
A11: Net Cash Flow from Investing Activities | B11: =B13-B12 -> 550000 | C11: =C13-C12 -> 0 | D11: =D13-D12 -> 0 | E11: =E13-E12 -> 0 | F11: =F13-F12 -> 0 | G11: =G13-G12 -> 0 | H11: =H13-H12 -> 0 | I11: =I13-I12 -> 0 | ... Q11: =Q13-Q12 -> 0
A12: Tooling for Device Manufacturing | B12: =Assumptions!B13 -> 150000
A13: Investment Received | B13: 700000
A14: 0 | B14: =B15-B16 -> 0 | C14: =C15-C16 -> 0 | D14: =D15-D16 -> 0 | E14: =E15-E16 -> 0 | F14: =F15-F16 -> 0 | G14: =G15-G16 -> 0 | H14: =H15-H16 -> 0 | I14: =I15-I16 -> 0 | ... Q14: =Q15-Q16 -> 0
A15: 0
A16: 0
A17: Net Cash Flow | B17: =B2+B11+B14 -> 504168 | C17: =C2+C11+C14 -> -45832 | D17: =D2+D11+D14 -> -45832 | E17: =E2+E11+E14 -> -45832 | F17: =F2+F11+F14 -> -45832 | G17: =G2+G11+G14 -> -45832 | H17: =H2+H11+H14 -> -45832 | I17: =I2+I11+I14 -> -45832 | ... Q17: =Q2+Q11+Q14 -> 13572731
A18: Cumulative Cash Flow | B18: =B17 -> 504168 | C18: =B18+C17 -> 458336 | D18: =D17+C18 -> 412504 | E18: =E17+D18 -> 366672 | F18: =F17+E18 -> 320840 | G18: =G17+F18 -> 275008 | H18: =H17+G18 -> 229176 | I18: =I17+H18 -> 183344 | J18: =J17+I18 -> 137512 | K18: =K17+J18 -> 91680 | ... Q18: =Q17+P18 -> 35385114

Sheet Balance Sheet
A1: Balance Sheet - Year 1 End
A2: Assets | C2: Liabilities
A3: Cash | B3: ='Cash Flow Statement'!M18 -> -177944.68 | C3: Suppliers Balance | D3: ='Profit and Loss (P&L) Statement'!N3-SUM('Cash Flow Statement'!B4:M4) -> 0
A4: Accounts Receivable (A/R) | B4: ='Profit and Loss (P&L) Statement'!N2-SUM('Cash Flow Statement'!B3:M3) -> 621190 | C4: Salaries Payable | D4: ='Profit and Loss (P&L) Statement'!N5-SUM('Cash Flow Statement'!B5:M5) -> 0
A5: Fixed Assets | B5: =Assumptions!B13 -> 150000 | C5: Rent Payable | D5: ='Profit and Loss (P&L) Statement'!N6-SUM('Cash Flow Statement'!B6:M6) -> 0
A6: Accumulated Depreciation | B6: =-SUM('Profit and Loss (P&L) Statement'!B9:M9) -> -30000 | C6: Utilities Payable | D6: ='Profit and Loss (P&L) Statement'!N7-SUM('Cash Flow Statement'!B7:M7) -> 0
A7: Inventory | B7: =SUM('Cash Flow Statement'!B4:M4)-SUM('Profit and Loss (P&L) Statement'!B3:M3) -> 0 | C7: Accrued Marketing & Advertising | D7: ='Profit and Loss (P&L) Statement'!N8-SUM('Cash Flow Statement'!B8:M8) -> 0
C8: Other Accrued Expenses | D8: ='Profit and Loss (P&L) Statement'!N10-SUM('Cash Flow Statement'!B9:M9) -> 0
C9: Owner's Equity | D9: ='Cash Flow Statement'!B13 -> 700000
C10: Profit for Year 1 | D10: ='Profit and Loss (P&L) Statement'!N14 -> -136754.68
A11: Total Assets | B11: =SUM(B3:B10) -> 563245.32 | C11: Total Liabilities | D11: =SUM(D3:D10) -> 563245.32
A12: Difference | B12: =B11-D11 -> 0
A14: Balance Sheet - Year 2 End
A15: Assets | C15: Liabilities
A16: Cash | B16: ='Cash Flow Statement'!N18 -> 4903990.5 | C16: Suppliers Balance | D16: =D3+'Profit and Loss (P&L) Statement'!O3-'Cash Flow Statement'!N4 -> 0
A17: Accounts Receivable (A/R) | B17: =B4+'Profit and Loss (P&L) Statement'!O2-'Cash Flow Statement'!N3 -> 621190 | C17: Salaries Payable | D17: =D4+'Profit and Loss (P&L) Statement'!O5-'Cash Flow Statement'!N5 -> 0
A18: Fixed Assets | B18: =B5 -> 150000 | C18: Rent Payable | D18: =D5+'Profit and Loss (P&L) Statement'!O6-'Cash Flow Statement'!N6 -> 0
A19: Accumulated Depreciation | B19: =B6-'Profit and Loss (P&L) Statement'!O9 -> -60000 | C19: Utilities Payable | D19: =D6+'Profit and Loss (P&L) Statement'!O7-'Cash Flow Statement'!N7 -> 0
A20: Inventory | B20: =B7+'Cash Flow Statement'!N4-'Profit and Loss (P&L) Statement'!O3 -> 0 | C20: Accrued Marketing & Advertising | D20: =D7+'Profit and Loss (P&L) Statement'!O8-'Cash Flow Statement'!N8 -> 0
C21: Other Accrued Expenses | D21: =D8+'Profit and Loss (P&L) Statement'!O10-'Cash Flow Statement'!N9 -> 0
C22: Owner's Equity | D22: =D9 -> 700000
C23: Profit for Year 1 | D23: =D10 -> -136754.68
C24: Profit for Year 2 | D24: ='Profit and Loss (P&L) Statement'!O14 -> 5051935.2
A25: Total Assets | B25: =SUM(B16:B24) -> 5615180.5 | C25: Total Liabilities | D25: =SUM(D16:D24) -> 5615180.5
A26: الفرق | B26: =B25-D25 -> 0
A28: Balance Sheet - Year 3 End
A29: Assets | C29: Liabilities
A30: Cash | B30: ='Cash Flow Statement'!O18 -> 11988025 | C30: Suppliers Balance | D30: =D16+'Profit and Loss (P&L) Statement'!P3-'Cash Flow Statement'!O4 -> 0
A31: Accounts Receivable (A/R) | B31: =B17+'Profit and Loss (P&L) Statement'!P2-'Cash Flow Statement'!O3 -> 621190 | C31: Salaries Payable | D31: =D17+'Profit and Loss (P&L) Statement'!P5-'Cash Flow Statement'!O5 -> 0
A32: Fixed Assets | B32: =Assumptions!B13 -> 150000 | C32: Rent Payable | D32: =D18+'Profit and Loss (P&L) Statement'!P6-'Cash Flow Statement'!O6 -> 0
A33: Accumulated Depreciation | B33: =B19-'Profit and Loss (P&L) Statement'!P9 -> -90000 | C33: Utilities Payable | D33: =D19+'Profit and Loss (P&L) Statement'!P7-'Cash Flow Statement'!O7 -> 0
A34: Inventory | B34: =B20+'Cash Flow Statement'!O4-'Profit and Loss (P&L) Statement'!P3 -> 0 | C34: Accrued Marketing & Advertising | D34: =D20+'Profit and Loss (P&L) Statement'!P8-'Cash Flow Statement'!O8 -> 0
C35: Other Accrued Expenses | D35: =D21+'Profit and Loss (P&L) Statement'!P10-'Cash Flow Statement'!O9 -> 0
C36: Owner's Equity | D36: =D22 -> 700000
C37: Profit for Year 1 | D37: =D23 -> -136754.68
C38: Profit for Year 2 | D38: =D24 -> 5051935.2
C39: Profit for Year 3 | D39: ='Profit and Loss (P&L) Statement'!P14 -> 7054034.5
A40: Total Assets | B40: =SUM(B30:B38) -> 12669215 | C40: Total Liabilities | D40: =SUM(D30:D39) -> 12669215
A41: Difference | B41: =B40-D40 -> 0
A43: Balance Sheet - Year 4 End
...

Sheet Financial Summary
A1: Year | B1: 1 | C1: 2 | D1: 3 | E1: 4 | F1: 5
A2: Return on Sales % (ROS %) | B2: ='Profit and Loss (P&L) Statement'!N18 -> -0.18656739 | C2: ='Profit and Loss (P&L) Statement'!O18 -> 0.35657871 | D2: ='Profit and Loss (P&L) Statement'!P18 -> 0.30911534 | E2: ='Profit and Loss (P&L) Statement'!Q18 -> 0.26646753 | F2: ='Profit and Loss (P&L) Statement'!R18 -> 0.22874937
A3: Return on Investment % (ROI %) | B3: ='Profit and Loss (P&L) Statement'!N19 -> -0.16556257 | C3: ='Profit and Loss (P&L) Statement'!O19 -> 5.1831732 | D3: ='Profit and Loss (P&L) Statement'!P19 -> 6.1332902 | E3: ='Profit and Loss (P&L) Statement'!Q19 -> 7.2168871 | F3: ='Profit and Loss (P&L) Statement'!R19 -> 8.4566465
A4: Payback Period | B4: 20 | C4: Months
A5: Minimum Required Capital | B5: ='Cash Flow Statement'!B13 -> 700000 | C5: =Assumptions!B2 -> Dollar
A6: Revenue Break | B6: ='Profit and Loss (P&L) Statement'!N20 -> 871905.96 | C6: ='Profit and Loss (P&L) Statement'!O20 -> 913246.26 | D6: ='Profit and Loss (P&L) Statement'!P20 -> 956653.59 | E6: ='Profit and Loss (P&L) Statement'!Q20 -> 1002231.3 | F6: ='Profit and Loss (P&L) Statement'!R20 -> 1050087.8
