Workbook

Sheet Assumptions
A1: AdStation — الافتراضات الأساسية | Key Assumptions | 2,500,000 SAR / 18 شهر
A3: قيود الميزانية والإيرادات — Budget & Revenue Strategy
A4: الافتراض — Assumption | B4: Value | C4: الوحدة — Unit | D4: ملاحظات — Notes
A5: سقف الميزانية — Total Budget Cap | B5: 2500000 | C5: SAR | D5: الحد الأقصى لـ 18 شهر — Hard ceiling for 18 months
A6: شهر بداية الإيرادات — Revenue Start Month | B6: 4 | C6: Month | D6: فريق المبيعات من الشهر 1، إيرادات من الشهر 4 — Sales from M1, revenue from M4
A7: GMV الشهر الرابع — GMV Month 4 | B7: 1000000 | C7: SAR | D7: مليون ريال من أول شهر إيرادات — 1M SAR first revenue month
A8: نسبة العمولة — Commission Rate | B8: 0.12 | C8: % | D8: طلبات أسعار 10-12%، مشاريع مدارة 12-15% — RFQ 10-12%, Managed 12-15%
A9: احتياطي الطوارئ — Contingency | B9: 0.06 | C9: % | D9: 6% من المصاريف التشغيلية — 6% of base opex (revised)
A11: مسار نمو GMV (يبدأ من الشهر 4) — GMV Growth Trajectory (Starting M4)
A12: الشهر 4: أول GMV — M4: First GMV | B12: 1000000 | C12: SAR | D12: صفقات أولى من فريق المبيعات — Initial deals from sales pipeline (M1-3)
A13: الشهر 5-6: نمو مبكر — M5-6: Early Growth | B13: 1500000 | C13: SAR/mo | D13: عملاء متكررون — Ramping up, repeat clients
A14: الشهر 7-9: جذب — M7-9: Traction | B14: 3000000 | C14: SAR/mo | D14: ملاءمة المنتج للسوق — Product-market fit, referrals
A15: الشهر 10-12: زخم — M10-12: Momentum | B15: 5000000 | C15: SAR/mo | D15: Pipeline قوي وتوصيات — Strong pipeline, word of mouth
A16: الشهر 13-15: توسع — M13-15: Scaling | B16: 7000000 | C16: SAR/mo | D16: بناء ريادة السوق — Market leadership building
A17: الشهر 16-18: تسارع — M16-18: Acceleration | B17: 10000000 | C17: SAR/mo | D17: محرك نمو كامل — Full growth engine
A19: الفريق (رشيق + 2 مبيعات من اليوم الأول) — Team (Lean + 2 Sales from Day 1)
A20: المدير التنفيذي (مؤسس) — CEO (Founder) | B20: 12000 | C20: SAR/mo | D20: راتب مخفض للمؤسس — Reduced founder salary
A21: رئيس العمليات - Head of Operations | B21: 7000 | C21: SAR/mo | D21: جزئي → كامل 10K من الشهر 7 — Part-time → Full 10K from M7
A22: مطور تطبيقات متكاملة — Full stack developer | B22: 5000 | C22: SAR/mo | D22: Outsourcing جزئي — Part-time advisory (reduced)
A23: مهندس رئيسي — Lead Engineer | B23: 7500 | C23: SAR/mo | D23: عقد مرن — Flexible contract (reduced)
A24: مطور مبتدئ (من الشهر 4) — Junior Developer (M4+) | B24: 3500 | C24: SAR/mo | D24: Freelancer بدل توظيف دائم — Freelancer not permanent hire
A25: مدير مبيعات (من الشهر 4) — Sales Manager (M4+) | B25: 8000 | C25: SAR/mo | D25: يقود فريق المبيعات — Leads sales team
A26: مندوب مبيعات 1 (من الشهر 1) — Sales Rep 1 (From M1) | B26: 6000 | C26: SAR/mo | D26: بناء Pipeline من اليوم الأول — Pipeline building from Day 1
A27: مندوب مبيعات 2 (من الشهر 1) — Sales Rep 2 (From M1) | B27: 6000 | C27: SAR/mo | D27: بناء Pipeline من اليوم الأول — Pipeline building from Day 1
A28: منسق عمليات (من الشهر 4) — Operations Coordinator (M4+) | B28: 6000 | C28: SAR/mo | D28: محتوى وحملات — Content + campaigns
A29: محاسب جزئي — Part-time Accountant | B29: 2500 | C29: SAR/mo | D29: M1-M3: 2,500 SAR/mo (unified rate)
A31: ميزانية التسويق حسب المراحل — Marketing Budget Phases
A32: المرحلة 1: ما قبل الإطلاق (ش1-3) — Phase 1: Pre-launch (M1-3) | B32: 14700 | C32: SAR/mo | D32: هوية، موقع، تواصل اجتماعي — Brand, website, social, sales collateral
A33: المرحلة 2: الإطلاق (ش4-6) — Phase 2: Launch (M4-6) | B33: 29300 | C33: SAR/mo | D33: حملات POS، لينكدإن، فعاليات — POS, LinkedIn, events
A34: المرحلة 3: النمو (ش7-12) — Phase 3: Growth (M7-12) | B34: 42500 | C34: SAR/mo | D34: اكتساب رقمي موسع — Scaled digital acquisition
A35: المرحلة 4: التوسع (ش13-18) — Phase 4: Scale (M13-18) | B35: 56700 | C35: SAR/mo | D35: محرك تسويق كامل — Full marketing engine

Sheet Monthly Budget
A1: AdStation — الميزانية التشغيلية 18 شهر | 18-Month Budget | سقف 2,500,000 ريال
C2: المرحلة 1: البناء والبيع Phase 1: Build & Sell (M1-3) | F2: المرحلة 2: الإطلاق Phase 2: Launch (M4-6) | I2: المرحلة 3: النمو Phase 3: Growth (M7-12) | O2: المرحلة 4: التوسع Phase 4: Scale (M13-18)
B3: بند الميزانية — Budget Category | C3: M1 | D3: M2 | E3: M3 | F3: M4 | G3: M5 | H3: M6 | I3: M7 | J3: M8 | K3: M9 | L3: M10 | M3: M11 | N3: M12 | O3: M13 | P3: M14 | Q3: M15 | R3: M16 | S3: M17 | T3: M18
A4: 1. الرواتب والفريق — Salaries & Team
B5: المدير التنفيذي (مؤسس) — CEO (Founder) | C5: 12000 | D5: 12000 | E5: 12000 | F5: 12000 | G5: 12000 | H5: 12000 | I5: 12000 | J5: 12000 | K5: 12000 | L5: 12000 | M5: 12000 | N5: 12000 | O5: 12000 | P5: 12000 | Q5: 12000 | R5: 12000 | S5: 12000 | T5: 12000
B6: رئيس العمليات — Head of Operations | C6: 7000 | D6: 7000 | E6: 7000 | F6: 7000 | G6: 7000 | H6: 7000 | I6: 7000 | J6: 7000 | K6: 7000 | L6: 7000 | M6: 7000 | N6: 7000 | O6: 7000 | P6: 7000 | Q6: 7000 | R6: 7000 | S6: 7000 | T6: 7000
B7: المدير التقني — CTO / Tech Advisor | C7: 5000 | D7: 5000 | E7: 5000 | F7: 5000 | G7: 5000 | H7: 5000 | I7: 5000 | J7: 5000 | K7: 5000 | L7: 5000 | M7: 5000 | N7: 5000 | O7: 5000 | P7: 5000 | Q7: 5000 | R7: 5000 | S7: 5000 | T7: 5000
B8: مهندس رئيسي — Lead Engineer | C8: 7500 | D8: 7500 | E8: 7500 | F8: 7500 | G8: 7500 | H8: 7500 | I8: 7500 | J8: 7500 | K8: 7500 | L8: 7500 | M8: 7500 | N8: 7500 | O8: 8000 | P8: 8000 | Q8: 8000 | R8: 8000 | S8: 8000 | T8: 8000
B9: مطور مبتدئ — Junior Developer | C9: 0 | D9: 0 | E9: 0 | F9: 3500 | G9: 3500 | H9: 3500 | I9: 3500 | J9: 3500 | K9: 3500 | L9: 3500 | M9: 3500 | N9: 3500 | O9: 4500 | P9: 4500 | Q9: 4500 | R9: 4500 | S9: 4500 | T9: 4500
B10: مدير مبيعات — Sales Manager | C10: 0 | D10: 0 | E10: 0 | F10: 0 | G10: 0 | H10: 0 | I10: 0 | J10: 0 | K10: 0 | L10: 0 | M10: 0 | N10: 0 | O10: 8000 | P10: 8000 | Q10: 8000 | R10: 8000 | S10: 8000 | T10: 8000
B11: مندوب مبيعات 1 — Sales Rep 1 | C11: 6000 | D11: 6000 | E11: 6000 | F11: 6000 | G11: 6000 | H11: 6000 | I11: 6000 | J11: 6000 | K11: 6000 | L11: 6000 | M11: 6000 | N11: 6000 | O11: 6000 | P11: 6000 | Q11: 6000 | R11: 6000 | S11: 6000 | T11: 6000
B12: مندوب مبيعات 2 — Sales Rep 2 | C12: 6000 | D12: 6000 | E12: 6000 | F12: 6000 | G12: 6000 | H12: 6000 | I12: 6000 | J12: 6000 | K12: 6000 | L12: 6000 | M12: 6000 | N12: 6000 | O12: 6000 | P12: 6000 | Q12: 6000 | R12: 6000 | S12: 6000 | T12: 6000
B13: منسق عمليات — Operations Coordinator | C13: 0 | D13: 0 | E13: 0 | F13: 6000 | G13: 6000 | H13: 6000 | I13: 6000 | J13: 6000 | K13: 6000 | L13: 6000 | M13: 6000 | N13: 6000 | O13: 6000 | P13: 6000 | Q13: 6000 | R13: 6000 | S13: 6000 | T13: 6000
B14: محاسب جزئي — Part-time Accountant | C14: 5000 | D14: 5000 | E14: 5000 | F14: 5000 | G14: 5000 | H14: 5000 | I14: 5000 | J14: 5000 | K14: 5000 | L14: 5000 | M14: 5000 | N14: 5000 | O14: 5000 | P14: 5000 | Q14: 5000 | R14: 5000 | S14: 5000 | T14: 5000
B15: إجمالي الرواتب — Total Salaries | C15: =SUM(C5:C14) -> 48500 | D15: =SUM(D5:D14) -> 48500 | E15: =SUM(E5:E14) -> 48500 | F15: =SUM(F5:F14) -> 58000 | G15: =SUM(G5:G14) -> 58000 | H15: =SUM(H5:H14) -> 58000 | I15: =SUM(I5:I14) -> 58000 | J15: =SUM(J5:J14) -> 58000 | ... T15: =SUM(T5:T14) -> 67500
A17: 2. التسويق واكتساب العملاء — Marketing & Customer Acquisition
B18: تسويق رقمي (SEO, SEM) — Digital Marketing | C18: 4000 | D18: 5000 | E18: 5000 | F18: 11000 | G18: 11000 | H18: 11000 | I18: 14000 | J18: 15000 | K18: 16000 | L18: 16000 | M18: 16000 | N18: 17000 | O18: 18000 | P18: 18000 | Q18: 18000 | R18: 20000 | S18: 20000 | T18: 22000
B19: لينكدإن وتسويق المحتوى — LinkedIn & Content | C19: 3000 | D19: 3000 | E19: 3000 | F19: 3000 | G19: 3500 | H19: 3500 | I19: 4500 | J19: 4500 | K19: 4500 | L19: 4500 | M19: 4500 | N19: 4500 | O19: 6000 | P19: 6000 | Q19: 7000 | R19: 7000 | S19: 7000 | T19: 12000
B20: فعاليات وتواصل — Events & Networking | C20: 0 | D20: 0 | E20: 0 | F20: 5000 | G20: 5000 | H20: 5000 | I20: 4000 | J20: 4000 | K20: 4000 | L20: 4000 | M20: 4000 | N20: 4000 | O20: 5000 | P20: 5000 | Q20: 5000 | R20: 5000 | S20: 5000 | T20: 7000
B21: محتوى وحملات مدفوعة — Paid content and campaigns | C21: 9000 | D21: 10000 | E21: 10000 | F21: 9000 | G21: 9000 | H21: 9000 | I21: 11000 | J21: 13000 | K21: 13000 | L21: 14000 | M21: 13000 | N21: 16000 | O21: 20000 | P21: 20000 | Q21: 20000 | R21: 25000 | S21: 25000 | T21: 7000
B22: تطوير عروض ترويجية — Developing promotional offers | C22: 0 | D22: 0 | E22: 0 | F22: 0 | G22: 0 | H22: 3000 | I22: 5000 | J22: 5000 | K22: 5000 | L22: 5000 | M22: 5000 | N22: 5000 | O22: 5000 | P22: 5000 | Q22: 5000 | R22: 5000 | S22: 5000 | T22: 5000
B23: إجمالي التسويق — Total Marketing | C23: =SUM(C18:C22) -> 16000 | D23: =SUM(D18:D22) -> 18000 | E23: =SUM(E18:E22) -> 18000 | F23: =SUM(F18:F22) -> 28000 | G23: =SUM(G18:G22) -> 28500 | H23: =SUM(H18:H22) -> 31500 | I23: =SUM(I18:I22) -> 38500 | J23: =SUM(J18:J22) -> 41500 | ... T23: =SUM(T18:T22) -> 53000
A25: 3. التقنية والبنية التحتية — Technology & Infrastructure
B26: استضافة سحابية — Cloud Hosting (AWS/Azure) | C26: 2000 | D26: 2000 | E26: 2000 | F26: 3000 | G26: 3000 | H26: 3000 | I26: 5000 | J26: 5000 | K26: 5000 | L26: 5000 | M26: 5000 | N26: 5000 | O26: 6000 | P26: 6000 | Q26: 6000 | R26: 6000 | S26: 6000 | T26: 6000
B27: أدوات SaaS واشتراكات — SaaS Tools & Subscriptions | C27: 1500 | D27: 1500 | E27: 1500 | F27: 1500 | G27: 1500 | H27: 1500 | I27: 1500 | J27: 1500 | K27: 1500 | L27: 1500 | M27: 1500 | N27: 1500 | O27: 1500 | P27: 1500 | Q27: 1500 | R27: 1500 | S27: 1500 | T27: 1500
B28: إعداد نظام Odoo — Odoo ERP Setup | C28: 8000 | D28: 0 | E28: 0 | F28: 0 | G28: 0 | H28: 0 | I28: 0 | J28: 0 | K28: 0 | L28: 0 | M28: 0 | N28: 0 | O28: 0 | P28: 0 | Q28: 0 | R28: 0 | S28: 0 | T28: 0
B29: بوابة دفع / ضمان — Payment Gateway / Escrow | C29: 0 | D29: 0 | E29: 12000 | F29: 0 | G29: 0 | H29: 0 | I29: 0 | J29: 0 | K29: 0 | L29: 0 | M29: 0 | N29: 0 | O29: 0 | P29: 0 | Q29: 0 | R29: 0 | S29: 0 | T29: 0
B30: واجهات برمجة وتكامل — API & Integrations | C30: 3000 | D30: 3000 | E30: 3000 | F30: 2000 | G30: 2000 | H30: 2000 | I30: 1500 | J30: 1500 | K30: 1500 | L30: 1500 | M30: 1500 | N30: 1500 | O30: 1000 | P30: 1000 | Q30: 1000 | R30: 1000 | S30: 1000 | T30: 1000
B31: تحسين UX وتجربة المستخدم — UX & User Experience | C31: 1500 | D31: 1500 | E31: 1500 | F31: 2000 | G31: 2000 | H31: 2000 | I31: 2500 | J31: 2500 | K31: 2500 | L31: 2500 | M31: 2500 | N31: 2500 | O31: 3000 | P31: 3000 | Q31: 3000 | R31: 3000 | S31: 3000 | T31: 3000
B32: تطوير Vendor Dashboard — Vendor Dashboard Dev | C32: 1000 | D32: 1000 | E32: 1000 | F32: 1500 | G32: 1500 | H32: 1500 | I32: 2000 | J32: 2000 | K32: 2000 | L32: 2000 | M32: 2000 | N32: 2000 | O32: 2000 | P32: 2000 | Q32: 2000 | R32: 2000 | S32: 2000 | T32: 2000
B33: أتمتة العمليات والـ SEO — Automation & SEO | C33: 500 | D33: 500 | E33: 500 | F33: 1000 | G33: 1000 | H33: 1000 | I33: 1500 | J33: 1500 | K33: 1500 | L33: 1500 | M33: 1500 | N33: 1500 | O33: 2000 | P33: 2000 | Q33: 2000 | R33: 2000 | S33: 2000 | T33: 2000
B35: إجمالي التقنية — Total Technology | C35: =SUM(C26:C33) -> 17500 | D35: =SUM(D26:D33) -> 9500 | E35: =SUM(E26:E33) -> 21500 | F35: =SUM(F26:F33) -> 11000 | G35: =SUM(G26:G33) -> 11000 | H35: =SUM(H26:H33) -> 11000 | I35: =SUM(I26:I33) -> 14000 | J35: =SUM(J26:J33) -> 14000 | ... T35: =SUM(T26:T33) -> 15500
A37: 4. القانونية والحوكمة — Legal & Governance
B38: تأسيس الشركة والسجل التجاري — Company Setup & CR | C38: 55000 | D38: 0 | E38: 0 | F38: 0 | G38: 0 | H38: 0 | I38: 0 | J38: 0 | K38: 0 | L38: 0 | M38: 0 | N38: 0 | O38: 0 | P38: 0 | Q38: 0 | R38: 0 | S38: 0 | T38: 0
B39: إقامات ونقل كفالة — Iqama & Transfer Fees | C39: 17000 | D39: 17000 | E39: 13000 | F39: 0 | G39: 0 | H39: 0 | I39: 0 | J39: 0 | K39: 0 | L39: 0 | M39: 0 | N39: 0 | O39: 0 | P39: 0 | Q39: 0 | R39: 0 | S39: 0 | T39: 0
B40: استشارات قانونية — Legal Counsel | C40: 2000 | D40: 2000 | E40: 2000 | F40: 1500 | G40: 1500 | H40: 1500 | I40: 1500 | J40: 1500 | K40: 1500 | L40: 1500 | M40: 1500 | N40: 1500 | O40: 1500 | P40: 1500 | Q40: 1500 | R40: 1500 | S40: 1500 | T40: 1500
B41: امتثال ساما — SAMA / Compliance | C41: 0 | D41: 0 | E41: 0 | F41: 2000 | G41: 2000 | H41: 2000 | I41: 1500 | J41: 1500 | K41: 1500 | L41: 1500 | M41: 1500 | N41: 1500 | O41: 1500 | P41: 1500 | Q41: 1500 | R41: 1500 | S41: 1500 | T41: 1500
C42: 0 | D42: 0 | E42: 0 | F42: 0 | G42: 0 | H42: 4000 | I42: 0 | J42: 0 | K42: 0 | L42: 0 | M42: 0 | N42: 4000 | O42: 0 | P42: 0 | Q42: 0 | R42: 0 | S42: 0 | T42: 4000
B43: إجمالي القانونية — Total Legal & Governance | C43: =SUM(C38:C42) -> 74000 | D43: =SUM(D38:D42) -> 19000 | E43: =SUM(E38:E42) -> 15000 | F43: =SUM(F38:F42) -> 3500 | G43: =SUM(G38:G42) -> 3500 | H43: =SUM(H38:H42) -> 7500 | I43: =SUM(I38:I42) -> 3000 | J43: =SUM(J38:J42) -> 3000 | ... T43: =SUM(T38:T42) -> 7000
A44: سفر ومواصلات — Travel & Transportation | C44: 1000 | D44: 1000 | E44: 1000 | F44: 1500 | G44: 1500 | H44: 1500 | I44: 2000 | J44: 2000 | K44: 2000 | L44: 2000 | M44: 2000 | N44: 2000 | O44: 2500 | P44: 2500 | Q44: 2500 | R44: 2500 | S44: 2500 | T44: 2500
...

Sheet Summary Dashboard
A1: AdStation — ملخص الميزانية | Budget Summary | 2,500,000 ريال
A2: الاستثمار: 2,500,000 ريال | 18 شهر | مندوبين مبيعات من اليوم الأول | إيرادات من الشهر 4
A4: الفئة — Category | B4: المرحلة 1 Phase 1 (ش1-3) | C4: المرحلة 2 Phase 2 (ش4-6) | D4: المرحلة 3 Phase 3 (ش7-12) | E4: المرحلة 4 Phase 4 (ش13-18) | F4: إجمالي 18 شهر Total 18M
A5: الرواتب والفريق — Salaries & Team | B5: ='Monthly Budget'!C15+'Monthly Budget'!D15+'Monthly Budget'!E15 -> 145500 | C5: ='Monthly Budget'!F15+'Monthly Budget'!G15+'Monthly Budget'!H15 -> 174000 | D5: ='Monthly Budget'!I15+'Monthly Budget'!J15+'Monthly Budget'!K15+'Monthly Budget'!L15+'Monthly Budget'!M15+'Monthly Budget'!N15 -> 348000 | E5: ='Monthly Budget'!O15+'Monthly Budget'!P15+'Monthly Budget'!Q15+'Monthly Budget'!R15+'Monthly Budget'!S15+'Monthly Budget'!T15 -> 405000 | F5: =SUM(B5:E5) -> 1072500
A6: التسويق والاكتساب — Marketing & Acquisition | B6: ='Monthly Budget'!C23+'Monthly Budget'!D23+'Monthly Budget'!E23 -> 52000 | C6: ='Monthly Budget'!F23+'Monthly Budget'!G23+'Monthly Budget'!H23 -> 88000 | D6: ='Monthly Budget'!I23+'Monthly Budget'!J23+'Monthly Budget'!K23+'Monthly Budget'!L23+'Monthly Budget'!M23+'Monthly Budget'!N23 -> 255000 | E6: ='Monthly Budget'!O23+'Monthly Budget'!P23+'Monthly Budget'!Q23+'Monthly Budget'!R23+'Monthly Budget'!S23+'Monthly Budget'!T23 -> 340000 | F6: =SUM(B6:E6) -> 735000
A7: التقنية والبنية التحتية — Technology & Infrastructure | B7: ='Monthly Budget'!C35+'Monthly Budget'!D35+'Monthly Budget'!E35 -> 48500 | C7: ='Monthly Budget'!F35+'Monthly Budget'!G35+'Monthly Budget'!H35 -> 33000 | D7: ='Monthly Budget'!I35+'Monthly Budget'!J35+'Monthly Budget'!K35+'Monthly Budget'!L35+'Monthly Budget'!M35+'Monthly Budget'!N35 -> 84000 | E7: ='Monthly Budget'!O35+'Monthly Budget'!P35+'Monthly Budget'!Q35+'Monthly Budget'!R35+'Monthly Budget'!S35+'Monthly Budget'!T35 -> 93000 | F7: =SUM(B7:E7) -> 258500
A8: القانونية والحوكمة — Legal & Governance | B8: ='Monthly Budget'!C43+'Monthly Budget'!D43+'Monthly Budget'!E43 -> 108000 | C8: ='Monthly Budget'!F43+'Monthly Budget'!G43+'Monthly Budget'!H43 -> 14500 | D8: ='Monthly Budget'!I43+'Monthly Budget'!J43+'Monthly Budget'!K43+'Monthly Budget'!L43+'Monthly Budget'!M43+'Monthly Budget'!N43 -> 22000 | E8: ='Monthly Budget'!O43+'Monthly Budget'!P43+'Monthly Budget'!Q43+'Monthly Budget'!R43+'Monthly Budget'!S43+'Monthly Budget'!T43 -> 22000 | F8: =SUM(B8:E8) -> 166500
A9: المكتب والعمليات — Office & Operations | B9: ='Monthly Budget'!C50+'Monthly Budget'!D50+'Monthly Budget'!E50 -> 20400 | C9: ='Monthly Budget'!F50+'Monthly Budget'!G50+'Monthly Budget'!H50 -> 17400 | D9: ='Monthly Budget'!I50+'Monthly Budget'!J50+'Monthly Budget'!K50+'Monthly Budget'!L50+'Monthly Budget'!M50+'Monthly Budget'!N50 -> 37800 | E9: ='Monthly Budget'!O50+'Monthly Budget'!P50+'Monthly Budget'!Q50+'Monthly Budget'!R50+'Monthly Budget'!S50+'Monthly Budget'!T50 -> 46800 | F9: =SUM(B9:E9) -> 122400
A10: احتياطي الطوارئ (8%) — Contingency Reserve (8%) | B10: ='Monthly Budget'!C53+'Monthly Budget'!D53+'Monthly Budget'!E53 -> 22464 | C10: ='Monthly Budget'!F53+'Monthly Budget'!G53+'Monthly Budget'!H53 -> 19614 | D10: ='Monthly Budget'!I53+'Monthly Budget'!J53+'Monthly Budget'!K53+'Monthly Budget'!L53+'Monthly Budget'!M53+'Monthly Budget'!N53 -> 44808 | E10: ='Monthly Budget'!O53+'Monthly Budget'!P53+'Monthly Budget'!Q53+'Monthly Budget'!R53+'Monthly Budget'!S53+'Monthly Budget'!T53 -> 54408 | F10: =SUM(B10:E10) -> 141294
A11: إجمالي الميزانية — TOTAL BUDGET | B11: =SUM(B5:B10) -> 396864 | C11: =SUM(C5:C10) -> 346514 | D11: =SUM(D5:D10) -> 791608 | E11: =SUM(E5:E10) -> 961208 | F11: =SUM(F5:F10) -> 2496194
A12: المتبقي من الميزانية — BUDGET REMAINING | F12: =2500000-F11 -> 3806
A14: المؤشرات المالية الرئيسية — Key Financial Metrics
A15: إجمالي ميزانية 18 شهر — Total 18-Month Budget | B15: =F11 -> 2496194
A16: متوسط الحرق الشهري — Average Monthly Burn | B16: =F11/18 -> 138677.44
A17: متوسط المرحلة 1 (بناء) — Phase 1 Monthly Avg | B17: =B11/3 -> 132288
A18: متوسط المرحلة 2 (إطلاق) — Phase 2 Monthly Avg | B18: =C11/3 -> 115504.67
A19: متوسط المرحلة 3 (نمو) — Phase 3 Monthly Avg | B19: =D11/6 -> 131934.67
A20: متوسط المرحلة 4 (توسع) — Phase 4 Monthly Avg | B20: =E11/6 -> 160201.33
A21: نسبة استخدام الميزانية — Budget Utilization % | B21: =F11/2500000 -> 0.9984776

Sheet Revenue vs Expenses
A1: AdStation — الإيرادات مقابل المصروفات | Revenue vs Expenses | تحليل التعادل
B3: البند — Item | C3: M1 | D3: M2 | E3: M3 | F3: M4 | G3: M5 | H3: M6 | I3: M7 | J3: M8 | K3: M9 | L3: M10 | M3: M11 | N3: M12 | O3: M13 | P3: M14 | Q3: M15 | R3: M16 | S3: M17 | T3: M18
B4: إجمالي قيمة الصفقات (GMV) — Gross Merchandise Value | C4: 0 | D4: 0 | E4: 0 | F4: 1000000 | G4: 1500000 | H4: 2000000 | I4: 3000000 | J4: 3500000 | K4: 4000000 | L4: 5000000 | M4: 5500000 | N4: 6000000 | O4: 7000000 | P4: 8000000 | Q4: 9000000 | R4: 10000000 | S4: 11000000 | T4: 12000000
B5: نسبة العمولة — Commission Rate | C5: 0.12 | D5: 0.12 | E5: 0.12 | F5: 0.12 | G5: 0.12 | H5: 0.12 | I5: 0.12 | J5: 0.12 | K5: 0.12 | L5: 0.12 | M5: 0.12 | N5: 0.12 | O5: 0.12 | P5: 0.12 | Q5: 0.12 | R5: 0.12 | S5: 0.12 | T5: 0.12
B6: إيرادات العمولة — Commission Revenue | C6: =C4*C5 -> 0 | D6: =D4*D5 -> 0 | E6: =E4*E5 -> 0 | F6: =F4*F5 -> 120000 | G6: =G4*G5 -> 180000 | H6: =H4*H5 -> 240000 | I6: =I4*I5 -> 360000 | J6: =J4*J5 -> 420000 | ... T6: =T4*T5 -> 1440000
B7: إيرادات الاشتراكات — Subscription Revenue | C7: 0 | D7: 0 | E7: 0 | F7: 3000 | G7: 5000 | H7: 7000 | I7: 10000 | J7: 12000 | K7: 14000 | L7: 16000 | M7: 18000 | N7: 20000 | O7: 22000 | P7: 24000 | Q7: 26000 | R7: 28000 | S7: 30000 | T7: 35000
B8: إجمالي الإيرادات — TOTAL REVENUE | C8: =C6+C7 -> 0 | D8: =D6+D7 -> 0 | E8: =E6+E7 -> 0 | F8: =F6+F7 -> 123000 | G8: =G6+G7 -> 185000 | H8: =H6+H7 -> 247000 | I8: =I6+I7 -> 370000 | J8: =J6+J7 -> 432000 | ... T8: =T6+T7 -> 1475000
B10: إجمالي المصروفات — TOTAL EXPENSES | C10: ='Monthly Budget'!C55 -> 173628 | D10: ='Monthly Budget'!D55 -> 107908 | E10: ='Monthly Budget'!E55 -> 115328 | F10: ='Monthly Budget'!F55 -> 112678 | G10: ='Monthly Budget'!G55 -> 113208 | H10: ='Monthly Budget'!H55 -> 120628 | I10: ='Monthly Budget'!I55 -> 126988 | J10: ='Monthly Budget'!J55 -> 130168 | ... T10: ='Monthly Budget'!T55 -> 159848
B11: صافي التدفق النقدي (شهري) — NET CASH FLOW (Monthly) | C11: =C8-C10 -> -173628 | D11: =D8-D10 -> -107908 | E11: =E8-E10 -> -115328 | F11: =F8-F10 -> 10322 | G11: =G8-G10 -> 71792 | H11: =H8-H10 -> 126372 | I11: =I8-I10 -> 243012 | J11: =J8-J10 -> 301832 | ... T11: =T8-T10 -> 1315152
B12: التدفق النقدي التراكمي — CUMULATIVE CASH FLOW | C12: =C11 -> -173628 | D12: =C12+D11 -> -281536 | E12: =D12+E11 -> -396864 | F12: =E12+F11 -> -386542 | G12: =F12+G11 -> -314750 | H12: =G12+H11 -> -188378 | I12: =H12+I11 -> 54634 | J12: =I12+J11 -> 356466 | K12: =J12+K11 -> 719238 | ... T12: =S12+T11 -> 8393806
B14: الاستثمار التراكمي المستخدم — CUMULATIVE INVESTMENT USED | C14: =C10 -> 173628 | D14: =C14+D10 -> 281536 | E14: =D14+E10 -> 396864 | F14: =E14+F10 -> 509542 | G14: =F14+G10 -> 622750 | H14: =G14+H10 -> 743378 | I14: =H14+I10 -> 870366 | J14: =I14+J10 -> 1000534 | K14: =J14+K10 -> 1131762 | ... T14: =S14+T10 -> 2496194
B15: المتبقي من الميزانية (2.5م) — BUDGET REMAINING (of 2.5M) | C15: =2500000-C14 -> 2326372 | D15: =2500000-D14 -> 2218464 | E15: =2500000-E14 -> 2103136 | F15: =2500000-F14 -> 1990458 | G15: =2500000-G14 -> 1877250 | H15: =2500000-H14 -> 1756622 | I15: =2500000-I14 -> 1629634 | J15: =2500000-J14 -> 1499466 | ... T15: =2500000-T14 -> 3806
B17: إجمالي إيرادات 18 شهر — TOTAL 18M REVENUE | C17: =SUM(C8:T8) -> 10890000
B18: إجمالي مصروفات 18 شهر — TOTAL 18M EXPENSES | C18: =SUM(C10:T10) -> 2496194
B19: صافي ربح / (خسارة) 18 شهر — NET 18M PROFIT / (LOSS) | C19: =C17-C18 -> 8393806

Sheet Headcount Plan
A1: AdStation — خطة التوظيف | Headcount Plan | مندوبين من الشهر 1
B3: الوظيفة — Role | C3: M1 | D3: M2 | E3: M3 | F3: M4 | G3: M5 | H3: M6 | I3: M7 | J3: M8 | K3: M9 | L3: M10 | M3: M11 | N3: M12 | O3: M13 | P3: M14 | Q3: M15 | R3: M16 | S3: M17 | T3: M18
B4: المدير التنفيذي (مؤسس) — CEO (Founder) | C4: 1 | D4: 1 | E4: 1 | F4: 1 | G4: 1 | H4: 1 | I4: 1 | J4: 1 | K4: 1 | L4: 1 | M4: 1 | N4: 1 | O4: 1 | P4: 1 | Q4: 1 | R4: 1 | S4: 1 | T4: 1
B5: رئيس العمليات — Head of Operations | C5: 1 | D5: 1 | E5: 1 | F5: 1 | G5: 1 | H5: 1 | I5: 1 | J5: 1 | K5: 1 | L5: 1 | M5: 1 | N5: 1 | O5: 1 | P5: 1 | Q5: 1 | R5: 1 | S5: 1 | T5: 1
B6: المدير التقني — CTO / Tech Advisor | C6: 1 | D6: 1 | E6: 1 | F6: 1 | G6: 1 | H6: 1 | I6: 1 | J6: 1 | K6: 1 | L6: 1 | M6: 1 | N6: 1 | O6: 1 | P6: 1 | Q6: 1 | R6: 1 | S6: 1 | T6: 1
B7: مهندس رئيسي — Lead Engineer | C7: 1 | D7: 1 | E7: 1 | F7: 1 | G7: 1 | H7: 1 | I7: 1 | J7: 1 | K7: 1 | L7: 1 | M7: 1 | N7: 1 | O7: 1 | P7: 1 | Q7: 1 | R7: 1 | S7: 1 | T7: 1
B8: مطور مبتدئ — Junior Developer | C8: 0 | D8: 0 | E8: 0 | F8: 1 | G8: 1 | H8: 1 | I8: 1 | J8: 1 | K8: 1 | L8: 1 | M8: 1 | N8: 1 | O8: 1 | P8: 1 | Q8: 1 | R8: 1 | S8: 1 | T8: 1
B9: مدير مبيعات — Sales Manager | C9: 0 | D9: 0 | E9: 0 | F9: 1 | G9: 1 | H9: 1 | I9: 1 | J9: 1 | K9: 1 | L9: 1 | M9: 1 | N9: 1 | O9: 1 | P9: 1 | Q9: 1 | R9: 1 | S9: 1 | T9: 1
B10: مندوب مبيعات 1 — Sales Rep 1 | C10: 1 | D10: 1 | E10: 1 | F10: 1 | G10: 1 | H10: 1 | I10: 1 | J10: 1 | K10: 1 | L10: 1 | M10: 1 | N10: 1 | O10: 1 | P10: 1 | Q10: 1 | R10: 1 | S10: 1 | T10: 1
B11: مندوب مبيعات 2 — Sales Rep 2 | C11: 1 | D11: 1 | E11: 1 | F11: 1 | G11: 1 | H11: 1 | I11: 1 | J11: 1 | K11: 1 | L11: 1 | M11: 1 | N11: 1 | O11: 1 | P11: 1 | Q11: 1 | R11: 1 | S11: 1 | T11: 1
B12: منسق عمليات — Operations Coordinator | C12: 0 | D12: 0 | E12: 0 | F12: 1 | G12: 1 | H12: 1 | I12: 1 | J12: 1 | K12: 1 | L12: 1 | M12: 1 | N12: 1 | O12: 1 | P12: 1 | Q12: 1 | R12: 1 | S12: 1 | T12: 1
B13: محاسب جزئي — Part-time Accountant | C13: 1 | D13: 1 | E13: 1 | F13: 1 | G13: 1 | H13: 1 | I13: 1 | J13: 1 | K13: 1 | L13: 1 | M13: 1 | N13: 1 | O13: 1 | P13: 1 | Q13: 1 | R13: 1 | S13: 1 | T13: 1
B14: إجمالي عدد الموظفين — TOTAL HEADCOUNT | C14: =SUM(C4:C13) -> 7 | D14: =SUM(D4:D13) -> 7 | E14: =SUM(E4:E13) -> 7 | F14: =SUM(F4:F13) -> 10 | G14: =SUM(G4:G13) -> 10 | H14: =SUM(H4:H13) -> 10 | I14: =SUM(I4:I13) -> 10 | J14: =SUM(J4:J13) -> 10 | ... T14: =SUM(T4:T13) -> 10
