Workbook

Sheet Use Of fund
A2: PropSpace
A3: Use of Fund Y-1
A4: Itemes | B4: Amount (SAR) | C4: Proportion | D4: Amount (USD) | E4: Proportion
A5: Team Development | B5: =SUM('FM-Monthly '!E95:P95)+SUM('FM-Monthly '!E122:P122)+SUM('FM-Monthly '!E148:P148)+SUM('FM-Monthly '!E176:P176) -> 1353500 | C5: =B5/$B$10 -> 0.51561315 | D5: =B5/3.75 -> 360933.33 | E5: =D5/$D$10 -> 0.51561315
A6: Platform Development | B6: =SUM('FM-Monthly '!E227:P227)+SUM('FM-Monthly '!E72:P72) -> 540000 | C6: =B6/$B$10 -> 0.20571193 | D6: =B6/3.75 -> 144000 | E6: =D6/$D$10 -> 0.20571193
A7: Others Ex | B7: =SUM('FM-Monthly '!E195:P195)+SUM('FM-Monthly '!E127:P127)+SUM('FM-Monthly '!E151:P151)+SUM('FM-Monthly '!E179:P179) -> 266530 | C7: =B7/$B$10 -> 0.10153408 | D7: =B7/3.75 -> 71074.667 | E7: =D7/$D$10 -> 0.10153408
A8: Capital Expenditure | B8: =SUM('FM-Monthly '!E212:P212)+SUM('FM-Monthly '!E242:P242) -> 126000 | C8: =B8/$B$10 -> 0.047999451 | D8: =B8/3.75 -> 33600 | E8: =D8/$D$10 -> 0.047999451
A9: Marketing | B9: =SUM('FM-Monthly '!E100:P100) -> 339000 | C9: =B9/$B$10 -> 0.12914138 | D9: =B9/3.75 -> 90400 | E9: =D9/$D$10 -> 0.12914138
A10: Total Funding | B10: =SUM(B5:B9) -> 2625030 | C10: =SUM(C5:C9) -> 1 | D10: =B10/3.75 -> 700008 | E10: =SUM(E5:E9) -> 1

Sheet FM-Summry
A2: PropSpace
A6: ='FM-QOQ'!A5 -> P&L
C7: ='FM-QOQ'!C6 -> Itemes | D7: ='FM-QOQ'!H6 -> Y-1 | E7: % | F7: ='FM-QOQ'!M6 -> Y-2 | G7: %
C9: ='FM-QOQ'!C8 -> Real Estat Developers | D9: ='FM-QOQ'!H8 -> 1593000 | F9: ='FM-QOQ'!M8 -> 3766350
C10: ='FM-QOQ'!C9 -> Tenants | D10: ='FM-QOQ'!H9 -> 172500 | F10: ='FM-QOQ'!M9 -> 728062.5
C11: ='FM-QOQ'!C10 -> Commercial | D11: ='FM-QOQ'!H10 -> 435000 | F11: ='FM-QOQ'!M10 -> 1051125
C13: ='FM-QOQ'!C12 -> Total Revenue | D13: ='FM-QOQ'!H12 -> 2200500 | E13: =D13/D13 -> 1 | F13: ='FM-QOQ'!M12 -> 5545537.5 | G13: =F13/F13 -> 1
C15: ='FM-QOQ'!C14 -> Cost Of Revenue | D15: ='FM-QOQ'!H14 -> 420000 | E15: =D15/$D$13 -> 0.19086571 | F15: ='FM-QOQ'!M14 -> 516000 | G15: =F15/$F$13 -> 0.093047788
C17: ='FM-QOQ'!C16 -> Gross Profit | D17: ='FM-QOQ'!H16 -> 1780500 | F17: ='FM-QOQ'!M16 -> 5029537.5
C18: ='FM-QOQ'!C17 -> GM | D18: ='FM-QOQ'!H17 -> 0.80913429 | F18: ='FM-QOQ'!M17 -> 0.90695221
C20: ='FM-QOQ'!C20 -> Marketing Dep | D20: ='FM-QOQ'!H20 -> 520500 | E20: =D20/$D$13 -> 0.23653715 | F20: ='FM-QOQ'!M20 -> 920000 | G20: =F20/$F$13 -> 0.16589916
C21: ='FM-QOQ'!C21 -> Sales Dep | D21: ='FM-QOQ'!H21 -> 546005 | E21: =D21/$D$13 -> 0.2481277 | F21: ='FM-QOQ'!M21 -> 1183455.4 | G21: =F21/$F$13 -> 0.21340679
C22: ='FM-QOQ'!C22 -> Dev-Operation Dep | D22: ='FM-QOQ'!H22 -> 426000 | E22: =D22/$D$13 -> 0.19359237 | F22: ='FM-QOQ'!M22 -> 621000 | G22: =F22/$F$13 -> 0.11198193
C23: ='FM-QOQ'!C23 -> Finance Dep | D23: ='FM-QOQ'!H23 -> 243600 | E23: =D23/$D$13 -> 0.11070211 | F23: ='FM-QOQ'!M23 -> 294000 | G23: =F23/$F$13 -> 0.0530156
C24: ='FM-QOQ'!C24 -> G&A | D24: ='FM-QOQ'!H24 -> 222925 | E24: =D24/$D$13 -> 0.10130652 | F24: ='FM-QOQ'!M24 -> 342716.67 | G24: =F24/$F$13 -> 0.061800442
C26: ='FM-QOQ'!C26 -> Total EX | D26: ='FM-QOQ'!H26 -> 1959030 | E26: =D26/$D$13 -> 0.89026585 | F26: ='FM-QOQ'!M26 -> 3361172 | G26: =F26/$F$13 -> 0.60610392
C28: ='FM-QOQ'!C28 -> Net Income (loss) | D28: ='FM-QOQ'!H28 -> -178530 | E28: =D28/$D$13 -> -0.081131561 | F28: ='FM-QOQ'!M28 -> 1668365.5 | G28: =F28/$F$13 -> 0.30084829
D29: =D28/D13 -> -0.081131561 | F29: =F28/F13 -> 0.30084829
A31: ='FM-QOQ'!A31 -> Financial Postion
C32: ='FM-QOQ'!C32 -> Itemes | D32: ='FM-QOQ'!H32 -> Y-1 | F32: ='FM-QOQ'!M32 -> Y-2
C33: ='FM-QOQ'!C33 -> Fixed Assets | D33: ='FM-QOQ'!H33 -> 99700 | F33: ='FM-QOQ'!M33 -> 107733.33
C34: ='FM-QOQ'!C34 -> Intaingble Assets | D34: ='FM-QOQ'!H34 -> 259375 | F34: ='FM-QOQ'!M34 -> 495625
C35: ='FM-QOQ'!C35 -> Non-Current Assets | D35: ='FM-QOQ'!H35 -> 359075 | F35: ='FM-QOQ'!M35 -> 603358.33
C37: ='FM-QOQ'!C37 -> Cash | D37: ='FM-QOQ'!H37 -> 2828520 | F37: ='FM-QOQ'!M37 -> 4739180.3
C38: ='FM-QOQ'!C38 -> Petty Cash | D38: ='FM-QOQ'!H38 -> 10000 | F38: ='FM-QOQ'!M38 -> 15000
C39: ='FM-QOQ'!C39 -> Current Assets | D39: ='FM-QOQ'!H39 -> 2838520 | F39: ='FM-QOQ'!M39 -> 4754180.3
C41: ='FM-QOQ'!C41 -> Total Assets | D41: ='FM-QOQ'!H41 -> 3197595 | F41: ='FM-QOQ'!M41 -> 5357538.6
C43: ='FM-QOQ'!C43 -> Un-earned Revenue | D43: ='FM-QOQ'!H43 -> 551125 | F43: ='FM-QOQ'!M43 -> 1042703.1
C45: ='FM-QOQ'!C45 -> Current Liability | D45: ='FM-QOQ'!H45 -> 551125 | F45: ='FM-QOQ'!M45 -> 1042703.1
C49: ='FM-QOQ'!C49 -> Fund Raising | D49: ='FM-QOQ'!H49 -> 2625000 | F49: ='FM-QOQ'!M49 -> 2625000
C50: ='FM-QOQ'!C50 -> Capital | D50: ='FM-QOQ'!H50 -> 200000 | F50: ='FM-QOQ'!M50 -> 200000
... C55: ='FM-QOQ'!C55 -> Total Liability & Equity | D55: ='FM-QOQ'!H55 -> 3197595 | F55: ='FM-QOQ'!M55 -> 5357538.6
A58: ='FM-QOQ'!A58 -> Cash Flow Statement
C59: ='FM-QOQ'!C59 -> Itemes | D59: ='FM-QOQ'!H59 -> Y-1 | F59: ='FM-QOQ'!M59 -> Y-2
C60: ='FM-QOQ'!C60 -> Net Profit/(Loss) | D60: ='FM-QOQ'!H60 -> -178530 | F60: ='FM-QOQ'!M60 -> 1668365.5
C61: ='FM-QOQ'!C61 -> Add: D&A | D61: ='FM-QOQ'!H61 -> 295144.69 | F61: ='FM-QOQ'!M61 -> 942503.04
C62: ='FM-QOQ'!C62 -> Change in Prepayments | D62: ='FM-QOQ'!H62 -> -10000 | F62: ='FM-QOQ'!M62 -> -5000
C63: ='FM-QOQ'!C63 -> Change Unearned Revenue | D63: ='FM-QOQ'!H63 -> 551125 | F63: ='FM-QOQ'!M63 -> 491578.13
C64: ='FM-QOQ'!C64 -> Cash Flow From Operations | D64: ='FM-QOQ'!H64 -> 429520 | F64: ='FM-QOQ'!M64 -> 2314660.3
C66: ='FM-QOQ'!C66 -> Change in Fixed Assets | D66: ='FM-QOQ'!H66 -> -126000 | F66: ='FM-QOQ'!M66 -> -44000
...

Sheet FM-Monthly 
A2: PropSpace
A5: P/L | E5: Q1-Y1 | F5: Q1-Y1 | G5: Q1-Y1 | H5: Q2-Y1 | I5: Q2-Y1 | J5: Q2-Y1 | K5: Q3-Y1 | L5: Q3-Y1 | M5: Q3-Y1 | N5: Q4-Y1 | O5: Q4-Y1 | P5: Q4-Y1 | Q5: Q1-Y2 | R5: Q1-Y2 | S5: Q1-Y2 | T5: Q2-Y2 | U5: Q2-Y2 | V5: Q2-Y2 | W5: Q3-Y2 | X5: Q3-Y2 | Y5: Q3-Y2 | Z5: Q4-Y2 | AA5: Q4-Y2 | AB5: Q4-Y2
B6: Revenue
C7: Developer | D7: Volume | E7: Y1-1 | F7: Y1-2 | G7: Y1-3 | H7: Y1-4 | I7: Y1-5 | J7: Y1-6 | K7: Y1-7 | L7: Y1-8 | M7: Y1-9 | N7: Y1-10 | O7: Y1-11 | P7: Y1-12 | Q7: Y2-1 | R7: Y2-2 | S7: Y2-3 | T7: Y2-4 | U7: Y2-5 | V7: Y2-6 | W7: Y2-7 | X7: Y2-8 | Y7: Y2-9 | Z7: Y2-10 | AA7: Y2-11 | AB7: Y2-12
D9: # Customer | E9: 2 | F9: 2 | G9: 2 | H9: 3 | I9: 3 | J9: 3 | K9: 4 | L9: 4 | M9: 4 | N9: 5 | O9: 5 | P9: 5 | Q9: 6 | R9: 6 | S9: 6 | T9: 7 | U9: 7 | V9: 7 | W9: 8 | X9: 8 | Y9: 8 | Z9: 9 | AA9: 9 | AB9: 9
D10: # Project / #Customer | E10: 6 | F10: 6 | G10: 6 | H10: 6 | I10: 6 | J10: 6 | K10: 6 | L10: 6 | M10: 6 | N10: 6 | O10: 6 | P10: 6 | Q10: 7 | R10: 7 | S10: 7 | T10: 7 | U10: 7 | V10: 7 | W10: 7 | X10: 7 | Y10: 7 | Z10: 7 | AA10: 7 | AB10: 7
D11: # Units / Project | E11: 50 | F11: 50 | G11: 50 | H11: 50 | I11: 50 | J11: 50 | K11: 50 | L11: 50 | M11: 50 | N11: 50 | O11: 50 | P11: 50 | Q11: 50 | R11: 50 | S11: 50 | T11: 50 | U11: 50 | V11: 50 | W11: 50 | X11: 50 | Y11: 50 | Z11: 50 | AA11: 50 | AB11: 50
D12: Total | E12: =E11*E10*E9 -> 600 | F12: =F11*F10*F9 -> 600 | G12: =G11*G10*G9 -> 600 | H12: =H11*H10*H9 -> 900 | I12: =I11*I10*I9 -> 900 | J12: =J11*J10*J9 -> 900 | K12: =K11*K10*K9 -> 1200 | L12: =L11*L10*L9 -> 1200 | ... AB12: =AB11*AB10*AB9 -> 3150
D15: Pricing
D16: Set-up fees / Project | E16: 12000 | F16: 12000 | G16: 12000 | H16: 12000 | I16: 12000 | J16: 12000 | K16: 12000 | L16: 12000 | M16: 12000 | N16: 12000 | O16: 12000 | P16: 12000 | Q16: 12000 | R16: 12000 | S16: 12000 | T16: 12000 | U16: 12000 | V16: 12000 | W16: 12000 | X16: 12000 | Y16: 12000 | Z16: 12000 | AA16: 12000 | AB16: 12000
D17: Annual Subscriptio/Unit | E17: ='Revenue Bundles '!$F$11 -> 61.666667 | F17: ='Revenue Bundles '!$F$11 -> 61.666667 | G17: ='Revenue Bundles '!$F$11 -> 61.666667 | H17: ='Revenue Bundles '!$F$11 -> 61.666667 | I17: ='Revenue Bundles '!$F$11 -> 61.666667 | J17: ='Revenue Bundles '!$F$11 -> 61.666667 | K17: ='Revenue Bundles '!$F$11 -> 61.666667 | L17: ='Revenue Bundles '!$F$11 -> 61.666667 | ... P17: ='Revenue Bundles '!$F$11 -> 61.666667 | Q17: =$P$17*110% -> 67.833333 | R17: =$P$17*110% -> 67.833333 | S17: =$P$17*110% -> 67.833333 | T17: =$P$17*110% -> 67.833333 | U17: =$P$17*110% -> 67.833333 | V17: =$P$17*110% -> 67.833333 | W17: =$P$17*110% -> 67.833333 | X17: =$P$17*110% -> 67.833333 | ... AB17: =$P$17*110% -> 67.833333
D19: Revenue
D20: Set-up fees Revenue | E20: =E16*E9 -> 24000 | F20: =F16*F10 -> 72000 | G20: =G16*G10 -> 72000 | H20: =H16*H10 -> 72000 | I20: =I16*I10 -> 72000 | J20: =J16*J10 -> 72000 | K20: =K16*K10 -> 72000 | L20: =L16*L10 -> 72000 | M20: =M16*M10 -> 72000 | ... AB20: =AB16*AB10 -> 84000
D21: Subscription Revenue | E21: =E12*E17 -> 37000 | F21: =F12*F17 -> 37000 | G21: =G12*G17 -> 37000 | H21: =H12*H17 -> 55500 | I21: =I12*I17 -> 55500 | J21: =J12*J17 -> 55500 | K21: =K12*K17 -> 74000 | L21: =L12*L17 -> 74000 | ... AB21: =AB12*AB17 -> 213675
D22: Renewal Subscription 80% Y-1 | Q22: =E21*80% -> 29600 | R22: =F21*80% -> 29600 | S22: =G21*80% -> 29600 | T22: =H21*80% -> 44400 | U22: =I21*80% -> 44400 | V22: =J21*80% -> 44400 | W22: =K21*80% -> 59200 | X22: =L21*80% -> 59200 | ... AB22: =P21*80% -> 74000
D23: Total Revenue | E23: =SUM(E20:E22) -> 61000 | F23: =SUM(F20:F22) -> 109000 | G23: =SUM(G20:G22) -> 109000 | H23: =SUM(H20:H22) -> 127500 | I23: =SUM(I20:I22) -> 127500 | J23: =SUM(J20:J22) -> 127500 | K23: =SUM(K20:K22) -> 146000 | L23: =SUM(L20:L22) -> 146000 | ... AB23: =SUM(AB20:AB22) -> 371675 | AD23: =E23+F23+G23 -> 279000 | AE23: =F23+G23+H23 -> 345500 | AF23: =SUM(G23:I23) -> 364000 | AG23: =SUM(H23:J23) -> 382500
C26: Tenants | D26: # Customer | E26: 1 | F26: 1 | G26: 1 | H26: 2 | I26: 2 | J26: 2 | K26: 3 | L26: 3 | M26: 3 | N26: 4 | O26: 4 | P26: 4 | Q26: 5 | R26: 5 | S26: 5 | T26: 6 | U26: 6 | V26: 6 | W26: 7 | X26: 7 | Y26: 7 | Z26: 8 | AA26: 8 | AB26: 8
D27: # Project | E27: 4 | F27: 4 | G27: 4 | H27: 4 | I27: 4 | J27: 4 | K27: 4 | L27: 4 | M27: 4 | N27: 4 | O27: 4 | P27: 4 | Q27: 5 | R27: 5 | S27: 5 | T27: 5 | U27: 5 | V27: 5 | W27: 5 | X27: 5 | Y27: 5 | Z27: 5 | AA27: 5 | AB27: 5
D28: # Of Units | E28: 30 | F28: 30 | G28: 30 | H28: 30 | I28: 30 | J28: 30 | K28: 30 | L28: 30 | M28: 30 | N28: 30 | O28: 30 | P28: 30 | Q28: 30 | R28: 30 | S28: 30 | T28: 30 | U28: 30 | V28: 30 | W28: 30 | X28: 30 | Y28: 30 | Z28: 30 | AA28: 30 | AB28: 30
D29: Total | E29: =E28*E27*E26 -> 120 | F29: =F28*F27*F26 -> 120 | G29: =G28*G27*G26 -> 120 | H29: =H28*H27*H26 -> 240 | I29: =I28*I27*I26 -> 240 | J29: =J28*J27*J26 -> 240 | K29: =K28*K27*K26 -> 360 | L29: =L28*L27*L26 -> 360 | ... AB29: =AB28*AB27*AB26 -> 1200
D32: Pricing
D33: Set-up fees / Project | E33: 500 | F33: 500 | G33: 500 | H33: 500 | I33: 500 | J33: 500 | K33: 500 | L33: 500 | M33: 500 | N33: 500 | O33: 500 | P33: 500 | Q33: 500 | R33: 500 | S33: 500 | T33: 500 | U33: 500 | V33: 500 | W33: 500 | X33: 500 | Y33: 500 | Z33: 500 | AA33: 500 | AB33: 500
D34: Annual Subscriptio/Unit | E34: ='Revenue Bundles '!$F$23 -> 43.75 | F34: ='Revenue Bundles '!$F$23 -> 43.75 | G34: ='Revenue Bundles '!$F$23 -> 43.75 | H34: ='Revenue Bundles '!$F$23 -> 43.75 | I34: ='Revenue Bundles '!$F$23 -> 43.75 | J34: ='Revenue Bundles '!$F$23 -> 43.75 | K34: ='Revenue Bundles '!$F$23 -> 43.75 | L34: ='Revenue Bundles '!$F$23 -> 43.75 | ... P34: ='Revenue Bundles '!$F$23 -> 43.75 | Q34: =$P$34*110% -> 48.125 | R34: =$P$34*110% -> 48.125 | S34: =$P$34*110% -> 48.125 | T34: =$P$34*110% -> 48.125 | U34: =$P$34*110% -> 48.125 | V34: =$P$34*110% -> 48.125 | W34: =$P$34*110% -> 48.125 | X34: =$P$34*110% -> 48.125 | ... AB34: =$P$34*110% -> 48.125
D36: Revenue
D37: Set-up fees Revenue | E37: =E33*E26 -> 500 | F37: =F33*F26 -> 500 | G37: =G33*G26 -> 500 | H37: =H33*H26 -> 1000 | I37: =I33*I26 -> 1000 | J37: =J33*J26 -> 1000 | K37: =K33*K26 -> 1500 | L37: =L33*L26 -> 1500 | ... AB37: =AB33*AB26 -> 4000
D38: Subscription Revenue | E38: =E29*E34 -> 5250 | F38: =F29*F34 -> 5250 | G38: =G29*G34 -> 5250 | H38: =H29*H34 -> 10500 | I38: =I29*I34 -> 10500 | J38: =J29*J34 -> 10500 | K38: =K29*K34 -> 15750 | L38: =L29*L34 -> 15750 | ... AB38: =AB29*AB34 -> 57750
D39: Renewal Subscription 80% Y-1 | Q39: =E38*80% -> 4200 | R39: =F38*80% -> 4200 | S39: =G38*80% -> 4200 | T39: =H38*80% -> 8400 | U39: =I38*80% -> 8400 | V39: =J38*80% -> 8400 | W39: =K38*80% -> 12600 | X39: =L38*80% -> 12600 | ... AB39: =P38*80% -> 16800
D40: Total Revenue | E40: =SUM(E37:E39) -> 5750 | F40: =SUM(F37:F39) -> 5750 | G40: =SUM(G37:G39) -> 5750 | H40: =SUM(H37:H39) -> 11500 | I40: =SUM(I37:I39) -> 11500 | J40: =SUM(J37:J39) -> 11500 | K40: =SUM(K37:K39) -> 17250 | L40: =SUM(L37:L39) -> 17250 | ... AB40: =SUM(AB37:AB39) -> 78550
C43: Commercial | D43: # Customer | E43: 0 | F43: 0 | G43: 0 | H43: 0 | I43: 0 | J43: 0 | K43: 1 | L43: 1 | M43: 1 | N43: 1 | O43: 2 | P43: 2 | Q43: 2 | R43: 3 | S43: 3 | T43: 3 | U43: 3 | V43: 3 | W43: 3 | X43: 3 | Y43: 3 | Z43: 4 | AA43: 4 | AB43: 4
D44: # Project | E44: 0 | F44: 0 | G44: 0 | H44: 0 | I44: 0 | J44: 0 | K44: 1 | L44: 1 | M44: 1 | N44: 1 | O44: 1 | P44: 1 | Q44: 1 | R44: 1 | S44: 1 | T44: 1 | U44: 1 | V44: 1 | W44: 1 | X44: 1 | Y44: 1 | Z44: 1 | AA44: 1 | AB44: 1
D45: # Of Units | E45: 0 | F45: 0 | G45: 0 | H45: 0 | I45: 0 | J45: 0 | K45: ='Revenue Bundles '!$E$33 -> 75 | L45: ='Revenue Bundles '!$E$33 -> 75 | M45: ='Revenue Bundles '!$E$33 -> 75 | N45: ='Revenue Bundles '!$E$33 -> 75 | O45: ='Revenue Bundles '!$E$33 -> 75 | P45: ='Revenue Bundles '!$E$33 -> 75 | Q45: ='Revenue Bundles '!$E$33 -> 75 | R45: ='Revenue Bundles '!$E$33 -> 75 | ... AB45: ='Revenue Bundles '!$E$33 -> 75
D46: Total | E46: =E45*E44*E43 -> 0 | F46: =F45*F44*F43 -> 0 | G46: =G45*G44*G43 -> 0 | H46: =H45*H44*H43 -> 0 | I46: =I45*I44*I43 -> 0 | J46: =J45*J44*J43 -> 0 | K46: =K45*K44*K43 -> 75 | L46: =L45*L44*L43 -> 75 | ... AB46: =AB45*AB44*AB43 -> 300
D49: Pricing | E49: 0 | F49: 0 | G49: 0 | H49: 0 | I49: 0 | J49: 0
D50: Set-up fees / Project | E50: 0 | F50: 0 | G50: 0 | H50: 0 | I50: 0 | J50: 0 | K50: 10000 | L50: 10000 | M50: 10000 | N50: 10000 | O50: 10000 | P50: 10000 | Q50: 10000 | R50: 10000 | S50: 10000 | T50: 10000 | U50: 10000 | V50: 10000 | W50: 10000 | X50: 10000 | Y50: 10000 | Z50: 10000 | AA50: 10000 | AB50: 10000
D51: Annual Subscriptio/Unit | E51: ='Revenue Bundles '!$E$33 -> 75 | F51: ='Revenue Bundles '!$E$33 -> 75 | G51: ='Revenue Bundles '!$E$33 -> 75 | H51: ='Revenue Bundles '!$E$33 -> 75 | I51: ='Revenue Bundles '!$E$33 -> 75 | J51: ='Revenue Bundles '!$E$33 -> 75 | K51: ='Revenue Bundles '!$E$33 -> 75 | L51: ='Revenue Bundles '!$E$33 -> 75 | ... P51: ='Revenue Bundles '!$E$33 -> 75 | Q51: =$P$51*110% -> 82.5 | R51: =$P$51*110% -> 82.5 | S51: =$P$51*110% -> 82.5 | T51: =$P$51*110% -> 82.5 | U51: =$P$51*110% -> 82.5 | V51: =$P$51*110% -> 82.5 | W51: =$P$51*110% -> 82.5 | X51: =$P$51*110% -> 82.5 | ... AB51: =$P$51*110% -> 82.5
D53: Revenue
D54: Set-up fees Revenue | E54: =E50*E44 -> 0 | F54: =F50*F44 -> 0 | G54: =G50*G44 -> 0 | H54: =H50*H44 -> 0 | I54: =I50*I44 -> 0 | J54: =J50*J44 -> 0 | K54: 65000 | L54: 65000 | M54: 65000 | N54: 65000 | O54: 65000 | P54: 65000 | Q54: 65000 | R54: 65000 | S54: 65000 | T54: 65000 | U54: 65000 | V54: 65000 | W54: 65000 | X54: 65000 | Y54: 65000 | Z54: 65000 | AA54: 65000 | AB54: 65000
D55: Subscription Revenue | E55: =E46*E51 -> 0 | F55: =F46*F51 -> 0 | G55: =G46*G51 -> 0 | H55: =H46*H51 -> 0 | I55: =I46*I51 -> 0 | J55: =J46*J51 -> 0 | K55: =K46*K51 -> 5625 | L55: =L46*L51 -> 5625 | ... AB55: =AB46*AB51 -> 24750
D56: Renewal Subscription 80% Y-1 | Q56: =E55*80% -> 0 | R56: =F55*80% -> 0 | S56: =G55*80% -> 0 | T56: =H55*80% -> 0 | U56: =I55*80% -> 0 | V56: =J55*80% -> 0 | W56: =K55*80% -> 4500 | X56: =L55*80% -> 4500 | ... AB56: =P55*80% -> 9000
D57: Total Revenue | E57: =SUM(E54:E56) -> 0 | F57: =SUM(F54:F56) -> 0 | G57: =SUM(G54:G56) -> 0 | H57: =SUM(H54:H56) -> 0 | I57: =SUM(I54:I56) -> 0 | J57: =SUM(J54:J56) -> 0 | K57: =SUM(K54:K56) -> 70625 | L57: =SUM(L54:L56) -> 70625 | ... AB57: =SUM(AB54:AB56) -> 98750
...

Sheet FM-QOQ
A1: PropSpace
A5: P&L
C6: Itemes | D6: Q1-Y1 | E6: Q2-Y1 | F6: Q3-Y1 | G6: Q4-Y1 | H6: Y-1 | I6: Q1-Y2 | J6: Q2-Y2 | K6: Q3-Y2 | L6: Q4-Y2 | M6: Y-2
C8: Real Estat Developers | D8: =SUMIF('FM-Monthly '!$E$5:$AB$5,'FM-QOQ'!D6,'FM-Monthly '!$E$23:$AB$23) -> 279000 | E8: =SUMIF('FM-Monthly '!$E$5:$AB$5,'FM-QOQ'!E6,'FM-Monthly '!$E$23:$AB$23) -> 382500 | F8: =SUMIF('FM-Monthly '!$E$5:$AB$5,'FM-QOQ'!F6,'FM-Monthly '!$E$23:$AB$23) -> 438000 | G8: =SUMIF('FM-Monthly '!$E$5:$AB$5,'FM-QOQ'!G6,'FM-Monthly '!$E$23:$AB$23) -> 493500 | H8: =SUM(D8:G8) -> 1593000 | I8: =SUMIF('FM-Monthly '!$E$5:$AB$5,'FM-QOQ'!I6,'FM-Monthly '!$E$23:$AB$23) -> 768150 | J8: =SUMIF('FM-Monthly '!$E$5:$AB$5,'FM-QOQ'!J6,'FM-Monthly '!$E$23:$AB$23) -> 883775 | K8: =SUMIF('FM-Monthly '!$E$5:$AB$5,'FM-QOQ'!K6,'FM-Monthly '!$E$23:$AB$23) -> 999400 | L8: =SUMIF('FM-Monthly '!$E$5:$AB$5,'FM-QOQ'!L6,'FM-Monthly '!$E$23:$AB$23) -> 1115025 | M8: =SUM(I8:L8) -> 3766350
C9: Tenants | D9: =SUMIF('FM-Monthly '!$E$5:$AB$5,'FM-QOQ'!D6,'FM-Monthly '!$E$40:$AB$40) -> 17250 | E9: =SUMIF('FM-Monthly '!$E$5:$AB$5,'FM-QOQ'!E6,'FM-Monthly '!$E$40:$AB$40) -> 34500 | F9: =SUMIF('FM-Monthly '!$E$5:$AB$5,'FM-QOQ'!F6,'FM-Monthly '!$E$40:$AB$40) -> 51750 | G9: =SUMIF('FM-Monthly '!$E$5:$AB$5,'FM-QOQ'!G6,'FM-Monthly '!$E$40:$AB$40) -> 69000 | H9: =SUM(D9:G9) -> 172500 | I9: =SUMIF('FM-Monthly '!$E$5:$AB$5,'FM-QOQ'!I6,'FM-Monthly '!$E$40:$AB$40) -> 128381.25 | J9: =SUMIF('FM-Monthly '!$E$5:$AB$5,'FM-QOQ'!J6,'FM-Monthly '!$E$40:$AB$40) -> 164137.5 | K9: =SUMIF('FM-Monthly '!$E$5:$AB$5,'FM-QOQ'!K6,'FM-Monthly '!$E$40:$AB$40) -> 199893.75 | L9: =SUMIF('FM-Monthly '!$E$5:$AB$5,'FM-QOQ'!L6,'FM-Monthly '!$E$40:$AB$40) -> 235650 | M9: =SUM(I9:L9) -> 728062.5
C10: Commercial | D10: =SUMIF('FM-Monthly '!$E$5:$AB$5,'FM-QOQ'!D6,'FM-Monthly '!$E$57:$AB$57) -> 0 | E10: =SUMIF('FM-Monthly '!$E$5:$AB$5,'FM-QOQ'!E6,'FM-Monthly '!$E$57:$AB$57) -> 0 | F10: =SUMIF('FM-Monthly '!$E$5:$AB$5,'FM-QOQ'!F6,'FM-Monthly '!$E$57:$AB$57) -> 211875 | G10: =SUMIF('FM-Monthly '!$E$5:$AB$5,'FM-QOQ'!G6,'FM-Monthly '!$E$57:$AB$57) -> 223125 | H10: =SUM(D10:G10) -> 435000 | I10: =SUMIF('FM-Monthly '!$E$5:$AB$5,'FM-QOQ'!I6,'FM-Monthly '!$E$57:$AB$57) -> 244500 | J10: =SUMIF('FM-Monthly '!$E$5:$AB$5,'FM-QOQ'!J6,'FM-Monthly '!$E$57:$AB$57) -> 250687.5 | K10: =SUMIF('FM-Monthly '!$E$5:$AB$5,'FM-QOQ'!K6,'FM-Monthly '!$E$57:$AB$57) -> 264187.5 | L10: =SUMIF('FM-Monthly '!$E$5:$AB$5,'FM-QOQ'!L6,'FM-Monthly '!$E$57:$AB$57) -> 291750 | M10: =SUM(I10:L10) -> 1051125
C12: Total Revenue | D12: =SUM(D8:D11) -> 296250 | E12: =SUM(E8:E11) -> 417000 | F12: =SUM(F8:F11) -> 701625 | G12: =SUM(G8:G11) -> 785625 | H12: =SUM(H8:H11) -> 2200500 | I12: =SUM(I8:I11) -> 1141031.2 | J12: =SUM(J8:J11) -> 1298600 | K12: =SUM(K8:K11) -> 1463481.2 | ... M12: =SUM(M8:M11) -> 5545537.5
C14: Cost Of Revenue | D14: =SUMIF('FM-Monthly '!$E$5:$AB$5,'FM-QOQ'!D6,'FM-Monthly '!$E$74:$AB$74) -> 105000 | E14: =SUMIF('FM-Monthly '!$E$5:$AB$5,'FM-QOQ'!E6,'FM-Monthly '!$E$74:$AB$74) -> 105000 | F14: =SUMIF('FM-Monthly '!$E$5:$AB$5,'FM-QOQ'!F6,'FM-Monthly '!$E$74:$AB$74) -> 105000 | G14: =SUMIF('FM-Monthly '!$E$5:$AB$5,'FM-QOQ'!G6,'FM-Monthly '!$E$74:$AB$74) -> 105000 | H14: =SUM(D14:G14) -> 420000 | I14: =SUMIF('FM-Monthly '!$E$5:$AB$5,'FM-QOQ'!I6,'FM-Monthly '!$E$74:$AB$74) -> 129000 | J14: =SUMIF('FM-Monthly '!$E$5:$AB$5,'FM-QOQ'!J6,'FM-Monthly '!$E$74:$AB$74) -> 129000 | K14: =SUMIF('FM-Monthly '!$E$5:$AB$5,'FM-QOQ'!K6,'FM-Monthly '!$E$74:$AB$74) -> 129000 | L14: =SUMIF('FM-Monthly '!$E$5:$AB$5,'FM-QOQ'!L6,'FM-Monthly '!$E$74:$AB$74) -> 129000 | M14: =SUM(I14:L14) -> 516000
C16: Gross Profit | D16: =D12-D14 -> 191250 | E16: =E12-E14 -> 312000 | F16: =F12-F14 -> 596625 | G16: =G12-G14 -> 680625 | H16: =H12-H14 -> 1780500 | I16: =I12-I14 -> 1012031.2 | J16: =J12-J14 -> 1169600 | K16: =K12-K14 -> 1334481.2 | ... M16: =M12-M14 -> 5029537.5
C17: GM | D17: =D16/D12 -> 0.64556962 | E17: =E16/E12 -> 0.74820144 | F17: =F16/F12 -> 0.85034741 | G17: =G16/G12 -> 0.86634845 | H17: =H16/H12 -> 0.80913429 | I17: =I16/I12 -> 0.88694438 | J17: =J16/J12 -> 0.90066225 | K17: =K16/K12 -> 0.91185401 | ... M17: =M16/M12 -> 0.90695221
C20: Marketing Dep | D20: =SUMIF('FM-Monthly '!$E$5:$AB$5,'FM-QOQ'!D6,'FM-Monthly '!$E$104:$AB$104) -> 34875 | E20: =SUMIF('FM-Monthly '!$E$5:$AB$5,'FM-QOQ'!E6,'FM-Monthly '!$E$104:$AB$104) -> 104875 | F20: =SUMIF('FM-Monthly '!$E$5:$AB$5,'FM-QOQ'!F6,'FM-Monthly '!$E$104:$AB$104) -> 124875 | G20: =SUMIF('FM-Monthly '!$E$5:$AB$5,'FM-QOQ'!G6,'FM-Monthly '!$E$104:$AB$104) -> 255875 | H20: =SUM(D20:G20) -> 520500 | I20: =SUMIF('FM-Monthly '!$E$5:$AB$5,'FM-QOQ'!I6,'FM-Monthly '!$E$104:$AB$104) -> 144000 | J20: =SUMIF('FM-Monthly '!$E$5:$AB$5,'FM-QOQ'!J6,'FM-Monthly '!$E$104:$AB$104) -> 150000 | K20: =SUMIF('FM-Monthly '!$E$5:$AB$5,'FM-QOQ'!K6,'FM-Monthly '!$E$104:$AB$104) -> 174000 | L20: =SUMIF('FM-Monthly '!$E$5:$AB$5,'FM-QOQ'!L6,'FM-Monthly '!$E$104:$AB$104) -> 452000 | M20: =SUM(I20:L20) -> 920000
C21: Sales Dep | D21: =SUMIF('FM-Monthly '!$E$5:$AB$5,'FM-QOQ'!D6,'FM-Monthly '!$E$131:$AB$131) -> 103962.5 | E21: =SUMIF('FM-Monthly '!$E$5:$AB$5,'FM-QOQ'!E6,'FM-Monthly '!$E$131:$AB$131) -> 145170 | F21: =SUMIF('FM-Monthly '!$E$5:$AB$5,'FM-QOQ'!F6,'FM-Monthly '!$E$131:$AB$131) -> 148016.25 | G21: =SUMIF('FM-Monthly '!$E$5:$AB$5,'FM-QOQ'!G6,'FM-Monthly '!$E$131:$AB$131) -> 148856.25 | H21: =SUM(D21:G21) -> 546005 | I21: =SUMIF('FM-Monthly '!$E$5:$AB$5,'FM-QOQ'!I6,'FM-Monthly '!$E$131:$AB$131) -> 293410.31 | J21: =SUMIF('FM-Monthly '!$E$5:$AB$5,'FM-QOQ'!J6,'FM-Monthly '!$E$131:$AB$131) -> 294986 | K21: =SUMIF('FM-Monthly '!$E$5:$AB$5,'FM-QOQ'!K6,'FM-Monthly '!$E$131:$AB$131) -> 296634.81 | L21: =SUMIF('FM-Monthly '!$E$5:$AB$5,'FM-QOQ'!L6,'FM-Monthly '!$E$131:$AB$131) -> 298424.25 | M21: =SUM(I21:L21) -> 1183455.4
C22: Dev-Operation Dep | D22: =SUMIF('FM-Monthly '!$E$5:$AB$5,'FM-QOQ'!D6,'FM-Monthly '!$E$157:$AB$157) -> 103500 | E22: =SUMIF('FM-Monthly '!$E$5:$AB$5,'FM-QOQ'!E6,'FM-Monthly '!$E$157:$AB$157) -> 103500 | F22: =SUMIF('FM-Monthly '!$E$5:$AB$5,'FM-QOQ'!F6,'FM-Monthly '!$E$157:$AB$157) -> 103500 | G22: =SUMIF('FM-Monthly '!$E$5:$AB$5,'FM-QOQ'!G6,'FM-Monthly '!$E$157:$AB$157) -> 115500 | H22: =SUM(D22:G22) -> 426000 | I22: =SUMIF('FM-Monthly '!$E$5:$AB$5,'FM-QOQ'!I6,'FM-Monthly '!$E$157:$AB$157) -> 155250 | J22: =SUMIF('FM-Monthly '!$E$5:$AB$5,'FM-QOQ'!J6,'FM-Monthly '!$E$157:$AB$157) -> 155250 | K22: =SUMIF('FM-Monthly '!$E$5:$AB$5,'FM-QOQ'!K6,'FM-Monthly '!$E$157:$AB$157) -> 155250 | L22: =SUMIF('FM-Monthly '!$E$5:$AB$5,'FM-QOQ'!L6,'FM-Monthly '!$E$157:$AB$157) -> 155250 | M22: =SUM(I22:L22) -> 621000
C23: Finance Dep | D23: =SUMIF('FM-Monthly '!$E$5:$AB$5,'FM-QOQ'!D6,'FM-Monthly '!$E$185:$AB$185) -> 60900 | E23: =SUMIF('FM-Monthly '!$E$5:$AB$5,'FM-QOQ'!E6,'FM-Monthly '!$E$185:$AB$185) -> 60900 | F23: =SUMIF('FM-Monthly '!$E$5:$AB$5,'FM-QOQ'!F6,'FM-Monthly '!$E$185:$AB$185) -> 60900 | G23: =SUMIF('FM-Monthly '!$E$5:$AB$5,'FM-QOQ'!G6,'FM-Monthly '!$E$185:$AB$185) -> 60900 | H23: =SUM(D23:G23) -> 243600 | I23: =SUMIF('FM-Monthly '!$E$5:$AB$5,'FM-QOQ'!I6,'FM-Monthly '!$E$185:$AB$185) -> 73500 | J23: =SUMIF('FM-Monthly '!$E$5:$AB$5,'FM-QOQ'!J6,'FM-Monthly '!$E$185:$AB$185) -> 73500 | K23: =SUMIF('FM-Monthly '!$E$5:$AB$5,'FM-QOQ'!K6,'FM-Monthly '!$E$185:$AB$185) -> 73500 | L23: =SUMIF('FM-Monthly '!$E$5:$AB$5,'FM-QOQ'!L6,'FM-Monthly '!$E$185:$AB$185) -> 73500 | M23: =SUM(I23:L23) -> 294000
C24: G&A | D24: =SUMIF('FM-Monthly '!$E$5:$AB$5,'FM-QOQ'!D6,'FM-Monthly '!$E$195:$AB$195) -> 48183.333 | E24: =SUMIF('FM-Monthly '!$E$5:$AB$5,'FM-QOQ'!E6,'FM-Monthly '!$E$195:$AB$195) -> 53404.167 | F24: =SUMIF('FM-Monthly '!$E$5:$AB$5,'FM-QOQ'!F6,'FM-Monthly '!$E$195:$AB$195) -> 58225 | G24: =SUMIF('FM-Monthly '!$E$5:$AB$5,'FM-QOQ'!G6,'FM-Monthly '!$E$195:$AB$195) -> 63112.5 | H24: =SUM(D24:G24) -> 222925 | I24: =SUMIF('FM-Monthly '!$E$5:$AB$5,'FM-QOQ'!I6,'FM-Monthly '!$E$195:$AB$195) -> 74791.667 | J24: =SUMIF('FM-Monthly '!$E$5:$AB$5,'FM-QOQ'!J6,'FM-Monthly '!$E$195:$AB$195) -> 83550 | K24: =SUMIF('FM-Monthly '!$E$5:$AB$5,'FM-QOQ'!K6,'FM-Monthly '!$E$195:$AB$195) -> 89375 | L24: =SUMIF('FM-Monthly '!$E$5:$AB$5,'FM-QOQ'!L6,'FM-Monthly '!$E$195:$AB$195) -> 95000 | M24: =SUM(I24:L24) -> 342716.67
C26: Total EX | D26: =SUM(D20:D25) -> 351420.83 | E26: =SUM(E20:E25) -> 467849.17 | F26: =SUM(F20:F25) -> 495516.25 | G26: =SUM(G20:G25) -> 644243.75 | H26: =SUM(D26:G26) -> 1959030 | I26: =SUM(I20:I25) -> 740951.98 | J26: =SUM(J20:J25) -> 757286 | K26: =SUM(K20:K25) -> 788759.81 | L26: =SUM(L20:L25) -> 1074174.2 | M26: =SUM(I26:L26) -> 3361172
C28: Net Income (loss) | D28: =D16-D26 -> -160170.83 | E28: =E16-E26 -> -155849.17 | F28: =F16-F26 -> 101108.75 | G28: =G16-G26 -> 36381.25 | H28: =H16-H26 -> -178530 | I28: =I16-I26 -> 271079.27 | J28: =J16-J26 -> 412314 | K28: =K16-K26 -> 545721.44 | ... M28: =M16-M26 -> 1668365.5
A31: Financial Postion
C32: Itemes | D32: Q1-Y1 | E32: Q2-Y1 | F32: Q3-Y1 | G32: Q4-Y1 | H32: Y-1 | I32: Q1-Y2 | J32: Q2-Y2 | K32: Q3-Y2 | L32: Q4-Y2 | M32: Y-2
C33: Fixed Assets | D33: ='FM-Monthly '!G221+'FM-Monthly '!G251 -> 107941.67 | E33: ='FM-Monthly '!J221+'FM-Monthly '!J251 -> 109350 | F33: ='FM-Monthly '!M221+'FM-Monthly '!M251 -> 102625 | G33: ='FM-Monthly '!P221+'FM-Monthly '!P251 -> 99700 | H33: =G33 -> 99700 | I33: ='FM-Monthly '!S221+'FM-Monthly '!S251 -> 130908.33 | J33: ='FM-Monthly '!V221+'FM-Monthly '!V251 -> 121983.33 | K33: ='FM-Monthly '!Y221+'FM-Monthly '!Y251 -> 116858.33 | L33: ='FM-Monthly '!AB221+'FM-Monthly '!AB251 -> 107733.33 | M33: =L33 -> 107733.33
C34: Intaingble Assets | D34: ='FM-Monthly '!G236 -> 71875 | E34: ='FM-Monthly '!J236 -> 139062.5 | F34: ='FM-Monthly '!M236 -> 201562.5 | G34: ='FM-Monthly '!P236 -> 259375 | H34: =G34 -> 259375 | I34: ='FM-Monthly '!S236 -> 326875 | J34: ='FM-Monthly '!V236 -> 388750 | K34: ='FM-Monthly '!Y236 -> 445000 | L34: ='FM-Monthly '!AB236 -> 495625 | M34: =L34 -> 495625
C35: Non-Current Assets | D35: =SUM(D33:D34) -> 179816.67 | E35: =SUM(E33:E34) -> 248412.5 | F35: =SUM(F33:F34) -> 304187.5 | G35: =SUM(G33:G34) -> 359075 | H35: =G35 -> 359075 | I35: =SUM(I33:I34) -> 457783.33 | J35: =SUM(J33:J34) -> 510733.33 | K35: =SUM(K33:K34) -> 561858.33 | L35: =SUM(L33:L34) -> 603358.33 | M35: =L35 -> 603358.33
C37: Cash | D37: ='FM-Monthly '!G258 -> 2580637.5 | E37: ='FM-Monthly '!J258 -> 2489505 | F37: ='FM-Monthly '!M258 -> 2692088.8 | G37: ='FM-Monthly '!P258 -> 2828520 | H37: =G37 -> 2828520 | I37: ='FM-Monthly '!S258 -> 3239140.9 | J37: ='FM-Monthly '!V258 -> 3777513.8 | K37: ='FM-Monthly '!Y258 -> 4357470.1 | L37: ='FM-Monthly '!AB258 -> 4739180.3 | M37: =L37 -> 4739180.3
C38: Petty Cash | D38: ='FM-Monthly '!G259 -> 10000 | E38: ='FM-Monthly '!J259 -> 10000 | F38: ='FM-Monthly '!M259 -> 10000 | G38: ='FM-Monthly '!P259 -> 10000 | H38: =G38 -> 10000 | I38: ='FM-Monthly '!S259 -> 15000 | J38: ='FM-Monthly '!V259 -> 15000 | K38: ='FM-Monthly '!Y259 -> 15000 | L38: ='FM-Monthly '!AB259 -> 15000 | M38: =L38 -> 15000
C39: Current Assets | D39: =SUM(D37:D38) -> 2590637.5 | E39: =SUM(E37:E38) -> 2499505 | F39: =SUM(F37:F38) -> 2702088.8 | G39: =SUM(G37:G38) -> 2838520 | H39: =SUM(H37:H38) -> 2838520 | I39: =SUM(I37:I38) -> 3254140.9 | J39: =SUM(J37:J38) -> 3792513.8 | K39: =SUM(K37:K38) -> 4372470.1 | ... M39: =SUM(M37:M38) -> 4754180.3
C41: Total Assets | D41: =D39+D35 -> 2770454.2 | E41: =E39+E35 -> 2747917.5 | F41: =F39+F35 -> 3006276.2 | G41: =G39+G35 -> 3197595 | H41: =H39+H35 -> 3197595 | I41: =I39+I35 -> 3711924.3 | J41: =J39+J35 -> 4303247.1 | K41: =K39+K35 -> 4934328.5 | ... M41: =M39+M35 -> 5357538.6
C43: Un-earned Revenue | D43: ='FM-Monthly '!G281 -> 105625 | E43: ='FM-Monthly '!J279 -> 238937.5 | F43: ='FM-Monthly '!M279 -> 396187.5 | G43: ='FM-Monthly '!P279 -> 551125 | H43: =G43 -> 551125 | I43: ='FM-Monthly '!S279 -> 794375 | J43: ='FM-Monthly '!V279 -> 973383.85 | K43: ='FM-Monthly '!Y279 -> 1058743.8 | L43: ='FM-Monthly '!AB279 -> 1042703.1 | M43: =L43 -> 1042703.1
C45: Current Liability | D45: =D43 -> 105625 | E45: =E43 -> 238937.5 | F45: =F43 -> 396187.5 | G45: =G43 -> 551125 | H45: =H43 -> 551125 | I45: =I43 -> 794375 | J45: =J43 -> 973383.85 | K45: =K43 -> 1058743.8 | ... M45: =M43 -> 1042703.1
C49: Fund Raising | D49: ='FM-Monthly '!G285 -> 2625000 | E49: ='FM-Monthly '!J285 -> 2625000 | F49: ='FM-Monthly '!M285 -> 2625000 | G49: ='FM-Monthly '!P285 -> 2625000 | H49: =G49 -> 2625000 | I49: ='FM-Monthly '!S285 -> 2625000 | J49: ='FM-Monthly '!V285 -> 2625000 | K49: ='FM-Monthly '!Y285 -> 2625000 | L49: ='FM-Monthly '!AB285 -> 2625000 | M49: =L49 -> 2625000
C50: Capital | D50: ='FM-Monthly '!G286 -> 200000 | E50: ='FM-Monthly '!J286 -> 200000 | F50: ='FM-Monthly '!M286 -> 200000 | G50: ='FM-Monthly '!P286 -> 200000 | H50: =G50 -> 200000 | I50: ='FM-Monthly '!S286 -> 200000 | J50: ='FM-Monthly '!V286 -> 200000 | K50: ='FM-Monthly '!Y286 -> 200000 | L50: ='FM-Monthly '!AB286 -> 200000 | M50: =L50 -> 200000
C51: Current Profit/Loss | D51: ='FM-Monthly '!G289 -> -45493.333 | E51: ='FM-Monthly '!J289 -> -59181.667 | F51: ='FM-Monthly '!M289 -> 33182.083 | G51: ='FM-Monthly '!P289 -> -20870.833 | H51: =G51 -> -20870.833 | I51: ='FM-Monthly '!S289 -> 88732.188 | J51: ='FM-Monthly '!V289 -> 136813 | K51: ='FM-Monthly '!Y289 -> 179282.15 | L51: ='FM-Monthly '!AB289 -> 62943.583 | M51: =L51 -> 62943.583
C52: Accumulated earning or Loss | D52: ='FM-Monthly '!G290 -> -114677.5 | E52: ='FM-Monthly '!J290 -> -256838.33 | F52: ='FM-Monthly '!M290 -> -248093.33 | G52: ='FM-Monthly '!P290 -> -157659.17 | H52: =G52 -> -157659.17 | I52: ='FM-Monthly '!S290 -> 3817.0833 | J52: ='FM-Monthly '!V290 -> 368050.27 | K52: ='FM-Monthly '!Y290 -> 871302.56 | L52: ='FM-Monthly '!AB290 -> 1426891.9 | M52: =L52 -> 1426891.9
C53: Equity | D53: =SUM(D49:D52) -> 2664829.2 | E53: =SUM(E49:E52) -> 2508980 | F53: =SUM(F49:F52) -> 2610088.8 | G53: =SUM(G49:G52) -> 2646470 | H53: =SUM(H49:H52) -> 2646470 | I53: =SUM(I49:I52) -> 2917549.3 | J53: =SUM(J49:J52) -> 3329863.3 | K53: =SUM(K49:K52) -> 3875584.7 | ... M53: =SUM(M49:M52) -> 4314835.5
C55: Total Liability & Equity | D55: =D53+D45 -> 2770454.2 | E55: =E53+E45 -> 2747917.5 | F55: =F53+F45 -> 3006276.2 | G55: =G53+G45 -> 3197595 | H55: =H53+H45 -> 3197595 | I55: =I53+I45 -> 3711924.3 | J55: =J53+J45 -> 4303247.1 | K55: =K53+K45 -> 4934328.5 | ... M55: =M53+M45 -> 5357538.6
D57: =D55-D41 -> 0 | E57: =E55-E41 -> 0 | F57: =F55-F41 -> 0 | G57: =G55-G41 -> 0 | H57: =H55-H41 -> 0 | I57: =I55-I41 -> 0 | J57: =J55-J41 -> 0 | K57: =K55-K41 -> 0 | ... M57: =M55-M41 -> 0
A58: Cash Flow Statement
C59: Itemes | D59: Q1-Y1 | E59: Q2-Y1 | F59: Q3-Y1 | G59: Q4-Y1 | H59: Y-1 | I59: Q1-Y2 | J59: Q2-Y2 | K59: Q3-Y2 | L59: Q4-Y2 | M59: Y-2
C60: Net Profit/(Loss) | D60: =SUMIF('FM-Monthly '!$E$5:$AB$5,'FM-QOQ'!D6,'FM-Monthly '!$E$308:$AB$308) -> -160170.83 | E60: =SUMIF('FM-Monthly '!$E$5:$AB$5,'FM-QOQ'!E6,'FM-Monthly '!$E$308:$AB$308) -> -155849.17 | F60: =SUMIF('FM-Monthly '!$E$5:$AB$5,'FM-QOQ'!F6,'FM-Monthly '!$E$308:$AB$308) -> 101108.75 | G60: =SUMIF('FM-Monthly '!$E$5:$AB$5,'FM-QOQ'!G6,'FM-Monthly '!$E$308:$AB$308) -> 36381.25 | H60: =SUM(D60:G60) -> -178530 | I60: =SUMIF('FM-Monthly '!$E$5:$AB$5,'FM-QOQ'!I6,'FM-Monthly '!$E$308:$AB$308) -> 271079.27 | J60: =SUMIF('FM-Monthly '!$E$5:$AB$5,'FM-QOQ'!J6,'FM-Monthly '!$E$308:$AB$308) -> 412314 | K60: =SUMIF('FM-Monthly '!$E$5:$AB$5,'FM-QOQ'!K6,'FM-Monthly '!$E$308:$AB$308) -> 545721.44 | L60: =SUMIF('FM-Monthly '!$E$5:$AB$5,'FM-QOQ'!L6,'FM-Monthly '!$E$308:$AB$308) -> 439250.75 | M60: =SUM(I60:L60) -> 1668365.5
C61: Add: D&A | D61: =SUMIF('FM-Monthly '!$E$5:$AB$5,'FM-QOQ'!D6,'FM-Monthly '!E309:AB309) -> 9183.3333 | E61: =SUMIF('FM-Monthly '!$E$5:$AB$5,'FM-QOQ'!E6,'FM-Monthly '!F308:AC308) -> -75552.083 | F61: =SUMIF('FM-Monthly '!$E$5:$AB$5,'FM-QOQ'!F6,'FM-Monthly '!G308:AD308) -> 90434.167 | G61: =SUMIF('FM-Monthly '!$E$5:$AB$5,'FM-QOQ'!G6,'FM-Monthly '!H308:AE308) -> 271079.27 | H61: =SUM(D61:G61) -> 295144.69 | I61: =SUMIF('FM-Monthly '!$E$5:$AB$5,'FM-QOQ'!I6,'FM-Monthly '!J308:AG308) -> 503252.29 | J61: =SUMIF('FM-Monthly '!$E$5:$AB$5,'FM-QOQ'!J6,'FM-Monthly '!K308:AH308) -> 439250.75 | K61: =SUMIF('FM-Monthly '!$E$5:$AB$5,'FM-QOQ'!K6,'FM-Monthly '!L308:AI308) -> 0 | L61: =SUMIF('FM-Monthly '!$E$5:$AB$5,'FM-QOQ'!L6,'FM-Monthly '!M308:AJ308) -> 0 | M61: =SUM(I61:L61) -> 942503.04
C62: Change in Prepayments | D62: =SUMIF('FM-Monthly '!$E$5:$AB$5,'FM-QOQ'!D6,'FM-Monthly '!$E$313:$AB$313) -> -10000 | E62: =SUMIF('FM-Monthly '!$E$5:$AB$5,'FM-QOQ'!E6,'FM-Monthly '!$E$313:$AB$313) -> 0 | F62: =SUMIF('FM-Monthly '!$E$5:$AB$5,'FM-QOQ'!F6,'FM-Monthly '!$E$313:$AB$313) -> 0 | G62: =SUMIF('FM-Monthly '!$E$5:$AB$5,'FM-QOQ'!G6,'FM-Monthly '!$E$313:$AB$313) -> 0 | H62: =SUM(D62:G62) -> -10000 | I62: =SUMIF('FM-Monthly '!$E$5:$AB$5,'FM-QOQ'!I6,'FM-Monthly '!$E$313:$AB$313) -> -5000 | J62: =SUMIF('FM-Monthly '!$E$5:$AB$5,'FM-QOQ'!J6,'FM-Monthly '!$E$313:$AB$313) -> 0 | K62: =SUMIF('FM-Monthly '!$E$5:$AB$5,'FM-QOQ'!K6,'FM-Monthly '!$E$313:$AB$313) -> 0 | L62: =SUMIF('FM-Monthly '!$E$5:$AB$5,'FM-QOQ'!L6,'FM-Monthly '!$E$313:$AB$313) -> 0 | M62: =SUM(I62:L62) -> -5000
...

Sheet Revenue Bundles 
B3: Developer
B5: Bundles
C6: # Of units | D6: Annual -SAR | E6: Maximum Unit | F6: Revenue / Unit
C7: 0-25 | D7: 2500 | E7: 25 | F7: =D7/E7 -> 100
C8: 26-50 | D8: 3000 | E8: 50 | F8: =D8/E8 -> 60
C9: 51-75 | D9: 3500 | E9: 75 | F9: =D9/E9 -> 46.666667
C10: 76-100 | D10: 4000 | E10: 100 | F10: =D10/E10 -> 40
D11: =AVERAGE(D7:D10) -> 3250 | E11: =AVERAGE(E7:E10) -> 62.5 | F11: =AVERAGE(F7:F10) -> 61.666667
B15: Tenants
B17: Bundles
C18: # Of units | D18: Annual -SAR | E18: Maximum Unit | F18: Revenue / Unit
C19: 0-25 | D19: 1500 | E19: 25 | F19: =D19/E19 -> 60
C20: 26-50 | D20: 2000 | E20: 50 | F20: =D20/E20 -> 40
C21: 51-75 | D21: 3000 | E21: 75 | F21: =D21/E21 -> 40
C22: 76-100 | D22: 3500 | E22: 100 | F22: =D22/E22 -> 35
D23: =AVERAGE(D19:D22) -> 2500 | E23: =AVERAGE(E19:E22) -> 62.5 | F23: =AVERAGE(F19:F22) -> 43.75
B26: Commercial
B28: Bundles
C29: # Of units | D29: Annual -SAR | E29: Maximum Unit | F29: Revenue / Unit
C30: 0-50 | D30: 5000 | E30: 50 | F30: =D30/E30 -> 100
C31: 51-100 | D31: 5500 | E31: 75 | F31: =D31/E31 -> 73.333333
C32: 101-200 | D32: 6000 | E32: 100 | F32: =D32/E32 -> 60
D33: =AVERAGE(D30:D32) -> 5500 | E33: =AVERAGE(E30:E32) -> 75
B36: Marketing
B38: Bundles
B39: Total Unites | C39: AV Users / Unit | D39: # of User | E39: AV Ads | F39: Sar/Ads | G39: Total Revenue
B40: =E23+E33+E11 -> 200 | C40: =D40/B40 -> 5 | D40: 1000 | E40: 50 | F40: 750 | G40: =F40*E40 -> 37500
B41: =D41/C41 -> 300 | C41: 5 | D41: 1500 | E41: =(D41/D40)*E40 -> 75 | F41: 1000 | G41: =F41*E41 -> 75000
B42: =D42/C42 -> 400 | C42: 5 | D42: 2000 | E42: =(D42/D41)*E41 -> 100 | F42: 1250 | G42: =F42*E42 -> 125000
B43: =D43/C43 -> 500 | C43: 5 | D43: 2500 | E43: =(D43/D42)*E42 -> 125 | F43: 1500 | G43: =F43*E43 -> 187500
